{"text_format":"1","workbook":"xlsx","n_sheets":13,"sheets":["Overall","August","September","October","November","December","January","February","March","April","May","Mini Leagues","Jokers"],"not_rendered":{"charts":0,"images":8,"macros":1,"external_links":0,"defined_names":0,"comments":0,"pivot_tables":0},"unopened":[],"bounds":{"document_bytes":16777216,"sheet_cells":100000,"rows_first":2000,"rows_last":500,"rows_between":2000,"halvings":0,"cell_chars":16384,"cell_head_chars":4096},"cells_cut":0,"cells_raw":0,"read":"whole","date_system":"1900"}

{"sheet":"Overall","index":0,"n_rows":79,"n_cols":14,"rows_kept":79,"cut":false,"hidden":false,"merged":[]}
[]
["No.","Name","Team","2022-08-01","2022-09-01","2022-10-01","2022-11-01","2022-12-01","2023-01-01","2023-02-01","2023-03-01","2023-04-01","2023-05-01","Total"]
[1,"Dean Kelly","Drean Team",{"$f":"HLOOKUP(B3,August!$H$1:$CF$83,83,FALSE)","v":180},{"$f":"HLOOKUP(B3,September!$H$1:$CF$37,37,FALSE)","v":78},{"$f":"HLOOKUP(B3,October!$H$1:$CF$78,78,FALSE)","v":244},{"$f":"HLOOKUP(B3,November!$H$1:$CF$39,39,FALSE)","v":70},{"$f":"HLOOKUP(B3,December!$H$1:$CF$37,37,FALSE)","v":75},{"$f":"HLOOKUP(B3,January!$H$1:$CF$53,53,FALSE)","v":34},null,null,null,null,{"$f":"SUM(D3:M3)","v":681}]
[2,"Rory Ellard","Ipspich",{"$f":"HLOOKUP(B4,August!$H$1:$CF$83,83,FALSE)","v":205},{"$f":"HLOOKUP(B4,September!$H$1:$CF$37,37,FALSE)","v":58},{"$f":"HLOOKUP(B4,October!$H$1:$CF$78,78,FALSE)","v":219},{"$f":"HLOOKUP(B4,November!$H$1:$CF$39,39,FALSE)","v":65},{"$f":"HLOOKUP(B4,December!$H$1:$CF$37,37,FALSE)","v":90},{"$f":"HLOOKUP(B4,January!$H$1:$CF$53,53,FALSE)","v":39},null,null,null,null,{"$f":"SUM(D4:M4)","v":676}]
[3,"James Keville","Doesn't Mata",{"$f":"HLOOKUP(B5,August!$H$1:$CF$83,83,FALSE)","v":205},{"$f":"HLOOKUP(B5,September!$H$1:$CF$37,37,FALSE)","v":63},{"$f":"HLOOKUP(B5,October!$H$1:$CF$78,78,FALSE)","v":204},{"$f":"HLOOKUP(B5,November!$H$1:$CF$39,39,FALSE)","v":75},{"$f":"HLOOKUP(B5,December!$H$1:$CF$37,37,FALSE)","v":70},{"$f":"HLOOKUP(B5,January!$H$1:$CF$53,53,FALSE)","v":49},null,null,null,null,{"$f":"SUM(D5:M5)","v":666}]
[4,"Graham Pierpoint","Klopp's Kops",{"$f":"HLOOKUP(B6,August!$H$1:$CF$83,83,FALSE)","v":190},{"$f":"HLOOKUP(B6,September!$H$1:$CF$37,37,FALSE)","v":58},{"$f":"HLOOKUP(B6,October!$H$1:$CF$78,78,FALSE)","v":239},{"$f":"HLOOKUP(B6,November!$H$1:$CF$39,39,FALSE)","v":60},{"$f":"HLOOKUP(B6,December!$H$1:$CF$37,37,FALSE)","v":70},{"$f":"HLOOKUP(B6,January!$H$1:$CF$53,53,FALSE)","v":44},null,null,null,null,{"$f":"SUM(D6:M6)","v":661}]
[5,"Philip Jordan","Frankie's Army",{"$f":"HLOOKUP(B7,August!$H$1:$CF$83,83,FALSE)","v":197},{"$f":"HLOOKUP(B7,September!$H$1:$CF$37,37,FALSE)","v":75},{"$f":"HLOOKUP(B7,October!$H$1:$CF$78,78,FALSE)","v":216},{"$f":"HLOOKUP(B7,November!$H$1:$CF$39,39,FALSE)","v":71},{"$f":"HLOOKUP(B7,December!$H$1:$CF$37,37,FALSE)","v":73},{"$f":"HLOOKUP(B7,January!$H$1:$CF$53,53,FALSE)","v":27},null,null,null,null,{"$f":"SUM(D7:M7)","v":659}]
[6,"Anastas Popov","Super Strong Saints",{"$f":"HLOOKUP(B8,August!$H$1:$CF$83,83,FALSE)","v":204},{"$f":"HLOOKUP(B8,September!$H$1:$CF$37,37,FALSE)","v":74},{"$f":"HLOOKUP(B8,October!$H$1:$CF$78,78,FALSE)","v":196},{"$f":"HLOOKUP(B8,November!$H$1:$CF$39,39,FALSE)","v":67},{"$f":"HLOOKUP(B8,December!$H$1:$CF$37,37,FALSE)","v":69},{"$f":"HLOOKUP(B8,January!$H$1:$CF$53,53,FALSE)","v":34},null,null,null,null,{"$f":"SUM(D8:M8)","v":644}]
[7,"Sean Cleary","Sean's Superstars",{"$f":"HLOOKUP(B9,August!$H$1:$CF$83,83,FALSE)","v":200},{"$f":"HLOOKUP(B9,September!$H$1:$CF$37,37,FALSE)","v":73},{"$f":"HLOOKUP(B9,October!$H$1:$CF$78,78,FALSE)","v":219},{"$f":"HLOOKUP(B9,November!$H$1:$CF$39,39,FALSE)","v":55},{"$f":"HLOOKUP(B9,December!$H$1:$CF$37,37,FALSE)","v":65},{"$f":"HLOOKUP(B9,January!$H$1:$CF$53,53,FALSE)","v":29},null,null,null,null,{"$f":"SUM(D9:M9)","v":641}]
[8,"Gary McGurk","Darwin Innit!",{"$f":"HLOOKUP(B10,August!$H$1:$CF$83,83,FALSE)","v":190},{"$f":"HLOOKUP(B10,September!$H$1:$CF$37,37,FALSE)","v":48},{"$f":"HLOOKUP(B10,October!$H$1:$CF$78,78,FALSE)","v":259},{"$f":"HLOOKUP(B10,November!$H$1:$CF$39,39,FALSE)","v":65},{"$f":"HLOOKUP(B10,December!$H$1:$CF$37,37,FALSE)","v":60},{"$f":"HLOOKUP(B10,January!$H$1:$CF$53,53,FALSE)","v":14},null,null,null,null,{"$f":"SUM(D10:M10)","v":636}]
[9,"Jonathan Fox","For Fox Sake, Not Again",{"$f":"HLOOKUP(B11,August!$H$1:$CF$83,83,FALSE)","v":170},{"$f":"HLOOKUP(B11,September!$H$1:$CF$37,37,FALSE)","v":73},{"$f":"HLOOKUP(B11,October!$H$1:$CF$78,78,FALSE)","v":229},{"$f":"HLOOKUP(B11,November!$H$1:$CF$39,39,FALSE)","v":65},{"$f":"HLOOKUP(B11,December!$H$1:$CF$37,37,FALSE)","v":75},{"$f":"HLOOKUP(B11,January!$H$1:$CF$53,53,FALSE)","v":24},null,null,null,null,{"$f":"SUM(D11:M11)","v":636}]
[10,"Phil Doyle","FC Muertos Errantes",{"$f":"HLOOKUP(B12,August!$H$1:$CF$83,83,FALSE)","v":186},{"$f":"HLOOKUP(B12,September!$H$1:$CF$37,37,FALSE)","v":64},{"$f":"HLOOKUP(B12,October!$H$1:$CF$78,78,FALSE)","v":195},{"$f":"HLOOKUP(B12,November!$H$1:$CF$39,39,FALSE)","v":71},{"$f":"HLOOKUP(B12,December!$H$1:$CF$37,37,FALSE)","v":73},{"$f":"HLOOKUP(B12,January!$H$1:$CF$53,53,FALSE)","v":41},null,null,null,null,{"$f":"SUM(D12:M12)","v":630}]
[11,"Ciaran Rooney","Wax On Wax Off",{"$f":"HLOOKUP(B13,August!$H$1:$CF$83,83,FALSE)","v":160},{"$f":"HLOOKUP(B13,September!$H$1:$CF$37,37,FALSE)","v":68},{"$f":"HLOOKUP(B13,October!$H$1:$CF$78,78,FALSE)","v":209},{"$f":"HLOOKUP(B13,November!$H$1:$CF$39,39,FALSE)","v":80},{"$f":"HLOOKUP(B13,December!$H$1:$CF$37,37,FALSE)","v":80},{"$f":"HLOOKUP(B13,January!$H$1:$CF$53,53,FALSE)","v":29},null,null,null,null,{"$f":"SUM(D13:M13)","v":626}]
[12,"Gerry Draper","Everton 10",{"$f":"HLOOKUP(B14,August!$H$1:$CF$83,83,FALSE)","v":165},{"$f":"HLOOKUP(B14,September!$H$1:$CF$37,37,FALSE)","v":48},{"$f":"HLOOKUP(B14,October!$H$1:$CF$78,78,FALSE)","v":229},{"$f":"HLOOKUP(B14,November!$H$1:$CF$39,39,FALSE)","v":80},{"$f":"HLOOKUP(B14,December!$H$1:$CF$37,37,FALSE)","v":70},{"$f":"HLOOKUP(B14,January!$H$1:$CF$53,53,FALSE)","v":34},null,null,null,null,{"$f":"SUM(D14:M14)","v":626}]
[13,"Keith Ryan","Ain't No Mountain High Enough",{"$f":"HLOOKUP(B15,August!$H$1:$CF$83,83,FALSE)","v":200},{"$f":"HLOOKUP(B15,September!$H$1:$CF$37,37,FALSE)","v":58},{"$f":"HLOOKUP(B15,October!$H$1:$CF$78,78,FALSE)","v":194},{"$f":"HLOOKUP(B15,November!$H$1:$CF$39,39,FALSE)","v":65},{"$f":"HLOOKUP(B15,December!$H$1:$CF$37,37,FALSE)","v":80},{"$f":"HLOOKUP(B15,January!$H$1:$CF$53,53,FALSE)","v":29},null,null,null,null,{"$f":"SUM(D15:M15)","v":626}]
[14,"Chris Keohan","Chicken Tikka Mo Salah",{"$f":"HLOOKUP(B16,August!$H$1:$CF$83,83,FALSE)","v":167},{"$f":"HLOOKUP(B16,September!$H$1:$CF$37,37,FALSE)","v":80},{"$f":"HLOOKUP(B16,October!$H$1:$CF$78,78,FALSE)","v":196},{"$f":"HLOOKUP(B16,November!$H$1:$CF$39,39,FALSE)","v":91},{"$f":"HLOOKUP(B16,December!$H$1:$CF$37,37,FALSE)","v":58},{"$f":"HLOOKUP(B16,January!$H$1:$CF$53,53,FALSE)","v":27},null,null,null,null,{"$f":"SUM(D16:M16)","v":619}]
[15,"Dave McGinley","Clucko > Seanie O'Shea",{"$f":"HLOOKUP(B17,August!$H$1:$CF$83,83,FALSE)","v":185},{"$f":"HLOOKUP(B17,September!$H$1:$CF$37,37,FALSE)","v":53},{"$f":"HLOOKUP(B17,October!$H$1:$CF$78,78,FALSE)","v":234},{"$f":"HLOOKUP(B17,November!$H$1:$CF$39,39,FALSE)","v":55},{"$f":"HLOOKUP(B17,December!$H$1:$CF$37,37,FALSE)","v":70},{"$f":"HLOOKUP(B17,January!$H$1:$CF$53,53,FALSE)","v":19},null,null,null,null,{"$f":"SUM(D17:M17)","v":616}]
[16,"Dylan Delaney","Only Kruls and Horses",{"$f":"HLOOKUP(B18,August!$H$1:$CF$83,83,FALSE)","v":170},{"$f":"HLOOKUP(B18,September!$H$1:$CF$37,37,FALSE)","v":63},{"$f":"HLOOKUP(B18,October!$H$1:$CF$78,78,FALSE)","v":219},{"$f":"HLOOKUP(B18,November!$H$1:$CF$39,39,FALSE)","v":70},{"$f":"HLOOKUP(B18,December!$H$1:$CF$37,37,FALSE)","v":65},{"$f":"HLOOKUP(B18,January!$H$1:$CF$53,53,FALSE)","v":29},null,null,null,null,{"$f":"SUM(D18:M18)","v":616}]
[17,"Dylan O'Riordan","Yurty Ahearn's Golden Spoon",{"$f":"HLOOKUP(B19,August!$H$1:$CF$83,83,FALSE)","v":152},{"$f":"HLOOKUP(B19,September!$H$1:$CF$37,37,FALSE)","v":65},{"$f":"HLOOKUP(B19,October!$H$1:$CF$78,78,FALSE)","v":211},{"$f":"HLOOKUP(B19,November!$H$1:$CF$39,39,FALSE)","v":76},{"$f":"HLOOKUP(B19,December!$H$1:$CF$37,37,FALSE)","v":78},{"$f":"HLOOKUP(B19,January!$H$1:$CF$53,53,FALSE)","v":32},null,null,null,null,{"$f":"SUM(D19:M19)","v":614}]
[18,"Paul Moore","TAA - The Scouser In Our Team",{"$f":"HLOOKUP(B20,August!$H$1:$CF$83,83,FALSE)","v":205},{"$f":"HLOOKUP(B20,September!$H$1:$CF$37,37,FALSE)","v":48},{"$f":"HLOOKUP(B20,October!$H$1:$CF$78,78,FALSE)","v":199},{"$f":"HLOOKUP(B20,November!$H$1:$CF$39,39,FALSE)","v":45},{"$f":"HLOOKUP(B20,December!$H$1:$CF$37,37,FALSE)","v":60},{"$f":"HLOOKUP(B20,January!$H$1:$CF$53,53,FALSE)","v":49},null,null,null,null,{"$f":"SUM(D20:M20)","v":606}]
[19,"Frank McSweeney","Pool Abu",{"$f":"HLOOKUP(B21,August!$H$1:$CF$83,83,FALSE)","v":180},{"$f":"HLOOKUP(B21,September!$H$1:$CF$37,37,FALSE)","v":63},{"$f":"HLOOKUP(B21,October!$H$1:$CF$78,78,FALSE)","v":194},{"$f":"HLOOKUP(B21,November!$H$1:$CF$39,39,FALSE)","v":70},{"$f":"HLOOKUP(B21,December!$H$1:$CF$37,37,FALSE)","v":70},{"$f":"HLOOKUP(B21,January!$H$1:$CF$53,53,FALSE)","v":24},null,null,null,null,{"$f":"SUM(D21:M21)","v":601}]
[20,"Gareth Pierpoint","Allison Wonderland",{"$f":"HLOOKUP(B22,August!$H$1:$CF$83,83,FALSE)","v":155},{"$f":"HLOOKUP(B22,September!$H$1:$CF$37,37,FALSE)","v":68},{"$f":"HLOOKUP(B22,October!$H$1:$CF$78,78,FALSE)","v":214},{"$f":"HLOOKUP(B22,November!$H$1:$CF$39,39,FALSE)","v":80},{"$f":"HLOOKUP(B22,December!$H$1:$CF$37,37,FALSE)","v":65},{"$f":"HLOOKUP(B22,January!$H$1:$CF$53,53,FALSE)","v":19},null,null,null,null,{"$f":"SUM(D22:M22)","v":601}]
[21,"John Brophy","Carrig ABU",{"$f":"HLOOKUP(B23,August!$H$1:$CF$83,83,FALSE)","v":180},{"$f":"HLOOKUP(B23,September!$H$1:$CF$37,37,FALSE)","v":58},{"$f":"HLOOKUP(B23,October!$H$1:$CF$78,78,FALSE)","v":214},{"$f":"HLOOKUP(B23,November!$H$1:$CF$39,39,FALSE)","v":60},{"$f":"HLOOKUP(B23,December!$H$1:$CF$37,37,FALSE)","v":65},{"$f":"HLOOKUP(B23,January!$H$1:$CF$53,53,FALSE)","v":24},null,null,null,null,{"$f":"SUM(D23:M23)","v":601}]
[22,"Simon Scanlon","Braygulls Utd Celtic",{"$f":"HLOOKUP(B24,August!$H$1:$CF$83,83,FALSE)","v":160},{"$f":"HLOOKUP(B24,September!$H$1:$CF$37,37,FALSE)","v":58},{"$f":"HLOOKUP(B24,October!$H$1:$CF$78,78,FALSE)","v":219},{"$f":"HLOOKUP(B24,November!$H$1:$CF$39,39,FALSE)","v":55},{"$f":"HLOOKUP(B24,December!$H$1:$CF$37,37,FALSE)","v":75},{"$f":"HLOOKUP(B24,January!$H$1:$CF$53,53,FALSE)","v":34},null,null,null,null,{"$f":"SUM(D24:M24)","v":601}]
[23,"Aidan Scanlon","St Pats",{"$f":"HLOOKUP(B25,August!$H$1:$CF$83,83,FALSE)","v":160},{"$f":"HLOOKUP(B25,September!$H$1:$CF$37,37,FALSE)","v":48},{"$f":"HLOOKUP(B25,October!$H$1:$CF$78,78,FALSE)","v":224},{"$f":"HLOOKUP(B25,November!$H$1:$CF$39,39,FALSE)","v":70},{"$f":"HLOOKUP(B25,December!$H$1:$CF$37,37,FALSE)","v":75},{"$f":"HLOOKUP(B25,January!$H$1:$CF$53,53,FALSE)","v":19},null,null,null,null,{"$f":"SUM(D25:M25)","v":596}]
[24,"Bobby Hynes","Dancing In The Dark",{"$f":"HLOOKUP(B26,August!$H$1:$CF$83,83,FALSE)","v":170},{"$f":"HLOOKUP(B26,September!$H$1:$CF$37,37,FALSE)","v":53},{"$f":"HLOOKUP(B26,October!$H$1:$CF$78,78,FALSE)","v":204},{"$f":"HLOOKUP(B26,November!$H$1:$CF$39,39,FALSE)","v":60},{"$f":"HLOOKUP(B26,December!$H$1:$CF$37,37,FALSE)","v":90},{"$f":"HLOOKUP(B26,January!$H$1:$CF$53,53,FALSE)","v":19},null,null,null,null,{"$f":"SUM(D26:M26)","v":596}]
[25,"Ciaran O'Hart","Riverchapel Plate",{"$f":"HLOOKUP(B27,August!$H$1:$CF$83,83,FALSE)","v":193},{"$f":"HLOOKUP(B27,September!$H$1:$CF$37,37,FALSE)","v":63},{"$f":"HLOOKUP(B27,October!$H$1:$CF$78,78,FALSE)","v":187},{"$f":"HLOOKUP(B27,November!$H$1:$CF$39,39,FALSE)","v":56},{"$f":"HLOOKUP(B27,December!$H$1:$CF$37,37,FALSE)","v":73},{"$f":"HLOOKUP(B27,January!$H$1:$CF$53,53,FALSE)","v":19},null,null,null,null,{"$f":"SUM(D27:M27)","v":591}]
[26,"Craig Calvert","Ten Fags Army",{"$f":"HLOOKUP(B28,August!$H$1:$CF$83,83,FALSE)","v":165},{"$f":"HLOOKUP(B28,September!$H$1:$CF$37,37,FALSE)","v":63},{"$f":"HLOOKUP(B28,October!$H$1:$CF$78,78,FALSE)","v":189},{"$f":"HLOOKUP(B28,November!$H$1:$CF$39,39,FALSE)","v":75},{"$f":"HLOOKUP(B28,December!$H$1:$CF$37,37,FALSE)","v":75},{"$f":"HLOOKUP(B28,January!$H$1:$CF$53,53,FALSE)","v":24},null,null,null,null,{"$f":"SUM(D28:M28)","v":591}]
[27,"Roisin Joyce","WAW",{"$f":"HLOOKUP(B29,August!$H$1:$CF$83,83,FALSE)","v":202},{"$f":"HLOOKUP(B29,September!$H$1:$CF$37,37,FALSE)","v":49},{"$f":"HLOOKUP(B29,October!$H$1:$CF$78,78,FALSE)","v":201},{"$f":"HLOOKUP(B29,November!$H$1:$CF$39,39,FALSE)","v":56},{"$f":"HLOOKUP(B29,December!$H$1:$CF$37,37,FALSE)","v":68},{"$f":"HLOOKUP(B29,January!$H$1:$CF$53,53,FALSE)","v":15},null,null,null,null,{"$f":"SUM(D29:M29)","v":591}]
[28,"Gavin Morgan","Seventeenth Season Syndrome",{"$f":"HLOOKUP(B30,August!$H$1:$CF$83,83,FALSE)","v":170},{"$f":"HLOOKUP(B30,September!$H$1:$CF$37,37,FALSE)","v":53},{"$f":"HLOOKUP(B30,October!$H$1:$CF$78,78,FALSE)","v":214},{"$f":"HLOOKUP(B30,November!$H$1:$CF$39,39,FALSE)","v":65},{"$f":"HLOOKUP(B30,December!$H$1:$CF$37,37,FALSE)","v":75},{"$f":"HLOOKUP(B30,January!$H$1:$CF$53,53,FALSE)","v":9},null,null,null,null,{"$f":"SUM(D30:M30)","v":586}]
[29,"Tommy Hamill","Omeath All-Stars",{"$f":"HLOOKUP(B31,August!$H$1:$CF$83,83,FALSE)","v":175},{"$f":"HLOOKUP(B31,September!$H$1:$CF$37,37,FALSE)","v":63},{"$f":"HLOOKUP(B31,October!$H$1:$CF$78,78,FALSE)","v":214},{"$f":"HLOOKUP(B31,November!$H$1:$CF$39,39,FALSE)","v":45},{"$f":"HLOOKUP(B31,December!$H$1:$CF$37,37,FALSE)","v":70},{"$f":"HLOOKUP(B31,January!$H$1:$CF$53,53,FALSE)","v":14},null,null,null,null,{"$f":"SUM(D31:M31)","v":581}]
[30,"Robert Hynes","Georgia Best",{"$f":"HLOOKUP(B32,August!$H$1:$CF$83,83,FALSE)","v":188},{"$f":"HLOOKUP(B32,September!$H$1:$CF$37,37,FALSE)","v":56},{"$f":"HLOOKUP(B32,October!$H$1:$CF$78,78,FALSE)","v":189},{"$f":"HLOOKUP(B32,November!$H$1:$CF$39,39,FALSE)","v":53},{"$f":"HLOOKUP(B32,December!$H$1:$CF$37,37,FALSE)","v":59},{"$f":"HLOOKUP(B32,January!$H$1:$CF$53,53,FALSE)","v":34},null,null,null,null,{"$f":"SUM(D32:M32)","v":579}]
[31,"Con McSweeney","Coola_Boolas",{"$f":"HLOOKUP(B33,August!$H$1:$CF$83,83,FALSE)","v":165},{"$f":"HLOOKUP(B33,September!$H$1:$CF$37,37,FALSE)","v":48},{"$f":"HLOOKUP(B33,October!$H$1:$CF$78,78,FALSE)","v":194},{"$f":"HLOOKUP(B33,November!$H$1:$CF$39,39,FALSE)","v":80},{"$f":"HLOOKUP(B33,December!$H$1:$CF$37,37,FALSE)","v":65},{"$f":"HLOOKUP(B33,January!$H$1:$CF$53,53,FALSE)","v":24},null,null,null,null,{"$f":"SUM(D33:M33)","v":576}]
[32,"David Cooney","Tuchel Says It's Chilly",{"$f":"HLOOKUP(B34,August!$H$1:$CF$83,83,FALSE)","v":190},{"$f":"HLOOKUP(B34,September!$H$1:$CF$37,37,FALSE)","v":53},{"$f":"HLOOKUP(B34,October!$H$1:$CF$78,78,FALSE)","v":184},{"$f":"HLOOKUP(B34,November!$H$1:$CF$39,39,FALSE)","v":55},{"$f":"HLOOKUP(B34,December!$H$1:$CF$37,37,FALSE)","v":75},{"$f":"HLOOKUP(B34,January!$H$1:$CF$53,53,FALSE)","v":19},null,null,null,null,{"$f":"SUM(D34:M34)","v":576}]
[33,"Joseph Kavanagh","Cherry Orchard Thieves",{"$f":"HLOOKUP(B35,August!$H$1:$CF$83,83,FALSE)","v":180},{"$f":"HLOOKUP(B35,September!$H$1:$CF$37,37,FALSE)","v":48},{"$f":"HLOOKUP(B35,October!$H$1:$CF$78,78,FALSE)","v":199},{"$f":"HLOOKUP(B35,November!$H$1:$CF$39,39,FALSE)","v":75},{"$f":"HLOOKUP(B35,December!$H$1:$CF$37,37,FALSE)","v":45},{"$f":"HLOOKUP(B35,January!$H$1:$CF$53,53,FALSE)","v":29},null,null,null,null,{"$f":"SUM(D35:M35)","v":576}]
[34,"Brian Prendergast","Up The Arsenal",{"$f":"HLOOKUP(B36,August!$H$1:$CF$83,83,FALSE)","v":173},{"$f":"HLOOKUP(B36,September!$H$1:$CF$37,37,FALSE)","v":71},{"$f":"HLOOKUP(B36,October!$H$1:$CF$78,78,FALSE)","v":209},{"$f":"HLOOKUP(B36,November!$H$1:$CF$39,39,FALSE)","v":63},{"$f":"HLOOKUP(B36,December!$H$1:$CF$37,37,FALSE)","v":39},{"$f":"HLOOKUP(B36,January!$H$1:$CF$53,53,FALSE)","v":19},null,null,null,null,{"$f":"SUM(D36:M36)","v":574}]
[35,"David Lavelle","Black & Amber",{"$f":"HLOOKUP(B37,August!$H$1:$CF$83,83,FALSE)","v":172},{"$f":"HLOOKUP(B37,September!$H$1:$CF$37,37,FALSE)","v":65},{"$f":"HLOOKUP(B37,October!$H$1:$CF$78,78,FALSE)","v":171},{"$f":"HLOOKUP(B37,November!$H$1:$CF$39,39,FALSE)","v":76},{"$f":"HLOOKUP(B37,December!$H$1:$CF$37,37,FALSE)","v":53},{"$f":"HLOOKUP(B37,January!$H$1:$CF$53,53,FALSE)","v":37},null,null,null,null,{"$f":"SUM(D37:M37)","v":574}]
[36,"Aidan White","The Ings vs Watkins Conundrum",{"$f":"HLOOKUP(B38,August!$H$1:$CF$83,83,FALSE)","v":160},{"$f":"HLOOKUP(B38,September!$H$1:$CF$37,37,FALSE)","v":63},{"$f":"HLOOKUP(B38,October!$H$1:$CF$78,78,FALSE)","v":189},{"$f":"HLOOKUP(B38,November!$H$1:$CF$39,39,FALSE)","v":60},{"$f":"HLOOKUP(B38,December!$H$1:$CF$37,37,FALSE)","v":80},{"$f":"HLOOKUP(B38,January!$H$1:$CF$53,53,FALSE)","v":19},null,null,null,null,{"$f":"SUM(D38:M38)","v":571}]
[37,"Ian McSweeney","The Dread Pirate Roberts",{"$f":"HLOOKUP(B39,August!$H$1:$CF$83,83,FALSE)","v":183},{"$f":"HLOOKUP(B39,September!$H$1:$CF$37,37,FALSE)","v":63},{"$f":"HLOOKUP(B39,October!$H$1:$CF$78,78,FALSE)","v":187},{"$f":"HLOOKUP(B39,November!$H$1:$CF$39,39,FALSE)","v":61},{"$f":"HLOOKUP(B39,December!$H$1:$CF$37,37,FALSE)","v":58},{"$f":"HLOOKUP(B39,January!$H$1:$CF$53,53,FALSE)","v":19},null,null,null,null,{"$f":"SUM(D39:M39)","v":571}]
[38,"Sean O'Mairtin","Creweless",{"$f":"HLOOKUP(B40,August!$H$1:$CF$83,83,FALSE)","v":165},{"$f":"HLOOKUP(B40,September!$H$1:$CF$37,37,FALSE)","v":48},{"$f":"HLOOKUP(B40,October!$H$1:$CF$78,78,FALSE)","v":184},{"$f":"HLOOKUP(B40,November!$H$1:$CF$39,39,FALSE)","v":85},{"$f":"HLOOKUP(B40,December!$H$1:$CF$37,37,FALSE)","v":75},{"$f":"HLOOKUP(B40,January!$H$1:$CF$53,53,FALSE)","v":14},null,null,null,null,{"$f":"SUM(D40:M40)","v":571}]
[39,"Cathal Thornton","Game of Stones",{"$f":"HLOOKUP(B41,August!$H$1:$CF$83,83,FALSE)","v":155},{"$f":"HLOOKUP(B41,September!$H$1:$CF$37,37,FALSE)","v":58},{"$f":"HLOOKUP(B41,October!$H$1:$CF$78,78,FALSE)","v":219},{"$f":"HLOOKUP(B41,November!$H$1:$CF$39,39,FALSE)","v":80},{"$f":"HLOOKUP(B41,December!$H$1:$CF$37,37,FALSE)","v":45},{"$f":"HLOOKUP(B41,January!$H$1:$CF$53,53,FALSE)","v":4},null,null,null,null,{"$f":"SUM(D41:M41)","v":561}]
[40,"Darragh Kenny","Fox Hunters",{"$f":"HLOOKUP(B42,August!$H$1:$CF$83,83,FALSE)","v":195},{"$f":"HLOOKUP(B42,September!$H$1:$CF$37,37,FALSE)","v":53},{"$f":"HLOOKUP(B42,October!$H$1:$CF$78,78,FALSE)","v":164},{"$f":"HLOOKUP(B42,November!$H$1:$CF$39,39,FALSE)","v":60},{"$f":"HLOOKUP(B42,December!$H$1:$CF$37,37,FALSE)","v":60},{"$f":"HLOOKUP(B42,January!$H$1:$CF$53,53,FALSE)","v":29},null,null,null,null,{"$f":"SUM(D42:M42)","v":561}]
[41,"Richard Johnston","If All U Have Is A Hammer Then Everything Is….",{"$f":"HLOOKUP(B43,August!$H$1:$CF$83,83,FALSE)","v":175},{"$f":"HLOOKUP(B43,September!$H$1:$CF$37,37,FALSE)","v":58},{"$f":"HLOOKUP(B43,October!$H$1:$CF$78,78,FALSE)","v":169},{"$f":"HLOOKUP(B43,November!$H$1:$CF$39,39,FALSE)","v":65},{"$f":"HLOOKUP(B43,December!$H$1:$CF$37,37,FALSE)","v":60},{"$f":"HLOOKUP(B43,January!$H$1:$CF$53,53,FALSE)","v":34},null,null,null,null,{"$f":"SUM(D43:M43)","v":561}]
[42,"Joe Behan","In It To Win It I Wish",{"$f":"HLOOKUP(B44,August!$H$1:$CF$83,83,FALSE)","v":182},{"$f":"HLOOKUP(B44,September!$H$1:$CF$37,37,FALSE)","v":42},{"$f":"HLOOKUP(B44,October!$H$1:$CF$78,78,FALSE)","v":190},{"$f":"HLOOKUP(B44,November!$H$1:$CF$39,39,FALSE)","v":59},{"$f":"HLOOKUP(B44,December!$H$1:$CF$37,37,FALSE)","v":77},{"$f":"HLOOKUP(B44,January!$H$1:$CF$53,53,FALSE)","v":10},null,null,null,null,{"$f":"SUM(D44:M44)","v":560}]
[43,"Micheal Joyce","Marsching On",{"$f":"HLOOKUP(B45,August!$H$1:$CF$83,83,FALSE)","v":160},{"$f":"HLOOKUP(B45,September!$H$1:$CF$37,37,FALSE)","v":43},{"$f":"HLOOKUP(B45,October!$H$1:$CF$78,78,FALSE)","v":189},{"$f":"HLOOKUP(B45,November!$H$1:$CF$39,39,FALSE)","v":70},{"$f":"HLOOKUP(B45,December!$H$1:$CF$37,37,FALSE)","v":75},{"$f":"HLOOKUP(B45,January!$H$1:$CF$53,53,FALSE)","v":14},null,null,null,null,{"$f":"SUM(D45:M45)","v":551}]
[44,"Caroline Carroll","Carrie's Crusaders",{"$f":"HLOOKUP(B46,August!$H$1:$CF$83,83,FALSE)","v":151},{"$f":"HLOOKUP(B46,September!$H$1:$CF$37,37,FALSE)","v":46},{"$f":"HLOOKUP(B46,October!$H$1:$CF$78,78,FALSE)","v":193},{"$f":"HLOOKUP(B46,November!$H$1:$CF$39,39,FALSE)","v":73},{"$f":"HLOOKUP(B46,December!$H$1:$CF$37,37,FALSE)","v":62},{"$f":"HLOOKUP(B46,January!$H$1:$CF$53,53,FALSE)","v":22},null,null,null,null,{"$f":"SUM(D46:M46)","v":547}]
[45,"Joe Turner","What Would Jan Molby Do?",{"$f":"HLOOKUP(B47,August!$H$1:$CF$83,83,FALSE)","v":121},{"$f":"HLOOKUP(B47,September!$H$1:$CF$37,37,FALSE)","v":71},{"$f":"HLOOKUP(B47,October!$H$1:$CF$78,78,FALSE)","v":188},{"$f":"HLOOKUP(B47,November!$H$1:$CF$39,39,FALSE)","v":83},{"$f":"HLOOKUP(B47,December!$H$1:$CF$37,37,FALSE)","v":62},{"$f":"HLOOKUP(B47,January!$H$1:$CF$53,53,FALSE)","v":22},null,null,null,null,{"$f":"SUM(D47:M47)","v":547}]
[46,"Brendan Maguire","Cantthinkofone",{"$f":"HLOOKUP(B48,August!$H$1:$CF$83,83,FALSE)","v":148},{"$f":"HLOOKUP(B48,September!$H$1:$CF$37,37,FALSE)","v":56},{"$f":"HLOOKUP(B48,October!$H$1:$CF$78,78,FALSE)","v":194},{"$f":"HLOOKUP(B48,November!$H$1:$CF$39,39,FALSE)","v":68},{"$f":"HLOOKUP(B48,December!$H$1:$CF$37,37,FALSE)","v":59},{"$f":"HLOOKUP(B48,January!$H$1:$CF$53,53,FALSE)","v":19},null,null,null,null,{"$f":"SUM(D48:M48)","v":544}]
[47,"Eoghan Farrelly","Definitely Last Chance Saloon!",{"$f":"HLOOKUP(B49,August!$H$1:$CF$83,83,FALSE)","v":175},{"$f":"HLOOKUP(B49,September!$H$1:$CF$37,37,FALSE)","v":68},{"$f":"HLOOKUP(B49,October!$H$1:$CF$78,78,FALSE)","v":149},{"$f":"HLOOKUP(B49,November!$H$1:$CF$39,39,FALSE)","v":65},{"$f":"HLOOKUP(B49,December!$H$1:$CF$37,37,FALSE)","v":60},{"$f":"HLOOKUP(B49,January!$H$1:$CF$53,53,FALSE)","v":24},null,null,null,null,{"$f":"SUM(D49:M49)","v":541}]
[48,"Niall Carroll","Rubber's Magic Bus",{"$f":"HLOOKUP(B50,August!$H$1:$CF$83,83,FALSE)","v":155},{"$f":"HLOOKUP(B50,September!$H$1:$CF$37,37,FALSE)","v":53},{"$f":"HLOOKUP(B50,October!$H$1:$CF$78,78,FALSE)","v":184},{"$f":"HLOOKUP(B50,November!$H$1:$CF$39,39,FALSE)","v":65},{"$f":"HLOOKUP(B50,December!$H$1:$CF$37,37,FALSE)","v":65},{"$f":"HLOOKUP(B50,January!$H$1:$CF$53,53,FALSE)","v":19},null,null,null,null,{"$f":"SUM(D50:M50)","v":541}]
[49,"Brian Haughton","Jurgen's Mighty Reds",{"$f":"HLOOKUP(B51,August!$H$1:$CF$83,83,FALSE)","v":154},{"$f":"HLOOKUP(B51,September!$H$1:$CF$37,37,FALSE)","v":59},{"$f":"HLOOKUP(B51,October!$H$1:$CF$78,78,FALSE)","v":216},{"$f":"HLOOKUP(B51,November!$H$1:$CF$39,39,FALSE)","v":47},{"$f":"HLOOKUP(B51,December!$H$1:$CF$37,37,FALSE)","v":44},{"$f":"HLOOKUP(B51,January!$H$1:$CF$53,53,FALSE)","v":19},null,null,null,null,{"$f":"SUM(D51:M51)","v":539}]
[50,"Gary Fitzpatrick","Werner's Originals",{"$f":"HLOOKUP(B52,August!$H$1:$CF$83,83,FALSE)","v":170},{"$f":"HLOOKUP(B52,September!$H$1:$CF$37,37,FALSE)","v":58},{"$f":"HLOOKUP(B52,October!$H$1:$CF$78,78,FALSE)","v":149},{"$f":"HLOOKUP(B52,November!$H$1:$CF$39,39,FALSE)","v":65},{"$f":"HLOOKUP(B52,December!$H$1:$CF$37,37,FALSE)","v":65},{"$f":"HLOOKUP(B52,January!$H$1:$CF$53,53,FALSE)","v":29},null,null,null,null,{"$f":"SUM(D52:M52)","v":536}]
[51,"Johno Percy","Mo Money Mo Salah",{"$f":"HLOOKUP(B53,August!$H$1:$CF$83,83,FALSE)","v":127},{"$f":"HLOOKUP(B53,September!$H$1:$CF$37,37,FALSE)","v":55},{"$f":"HLOOKUP(B53,October!$H$1:$CF$78,78,FALSE)","v":181},{"$f":"HLOOKUP(B53,November!$H$1:$CF$39,39,FALSE)","v":66},{"$f":"HLOOKUP(B53,December!$H$1:$CF$37,37,FALSE)","v":78},{"$f":"HLOOKUP(B53,January!$H$1:$CF$53,53,FALSE)","v":27},null,null,null,null,{"$f":"SUM(D53:M53)","v":534}]
[52,"Brian Mullen","Boris Cuts His Hair With A Knife And Fork",{"$f":"HLOOKUP(B54,August!$H$1:$CF$83,83,FALSE)","v":120},{"$f":"HLOOKUP(B54,September!$H$1:$CF$37,37,FALSE)","v":58},{"$f":"HLOOKUP(B54,October!$H$1:$CF$78,78,FALSE)","v":196},{"$f":"HLOOKUP(B54,November!$H$1:$CF$39,39,FALSE)","v":64},{"$f":"HLOOKUP(B54,December!$H$1:$CF$37,37,FALSE)","v":67},{"$f":"HLOOKUP(B54,January!$H$1:$CF$53,53,FALSE)","v":27},null,null,null,null,{"$f":"SUM(D54:M54)","v":532}]
[53,"Andy Dunne","Steve McMahon's Tackle",{"$f":"HLOOKUP(B55,August!$H$1:$CF$83,83,FALSE)","v":170},{"$f":"HLOOKUP(B55,September!$H$1:$CF$37,37,FALSE)","v":53},{"$f":"HLOOKUP(B55,October!$H$1:$CF$78,78,FALSE)","v":184},{"$f":"HLOOKUP(B55,November!$H$1:$CF$39,39,FALSE)","v":60},{"$f":"HLOOKUP(B55,December!$H$1:$CF$37,37,FALSE)","v":50},{"$f":"HLOOKUP(B55,January!$H$1:$CF$53,53,FALSE)","v":14},null,null,null,null,{"$f":"SUM(D55:M55)","v":531}]
[54,"Niall Gregory","Yid Army",{"$f":"HLOOKUP(B56,August!$H$1:$CF$83,83,FALSE)","v":151},{"$f":"HLOOKUP(B56,September!$H$1:$CF$37,37,FALSE)","v":74},{"$f":"HLOOKUP(B56,October!$H$1:$CF$78,78,FALSE)","v":170},{"$f":"HLOOKUP(B56,November!$H$1:$CF$39,39,FALSE)","v":36},{"$f":"HLOOKUP(B56,December!$H$1:$CF$37,37,FALSE)","v":63},{"$f":"HLOOKUP(B56,January!$H$1:$CF$53,53,FALSE)","v":36},null,null,null,null,{"$f":"SUM(D56:M56)","v":530}]
[55,"Liam Keohan","Artekkers",{"$f":"HLOOKUP(B57,August!$H$1:$CF$83,83,FALSE)","v":125},{"$f":"HLOOKUP(B57,September!$H$1:$CF$37,37,FALSE)","v":68},{"$f":"HLOOKUP(B57,October!$H$1:$CF$78,78,FALSE)","v":176},{"$f":"HLOOKUP(B57,November!$H$1:$CF$39,39,FALSE)","v":69},{"$f":"HLOOKUP(B57,December!$H$1:$CF$37,37,FALSE)","v":67},{"$f":"HLOOKUP(B57,January!$H$1:$CF$53,53,FALSE)","v":22},null,null,null,null,{"$f":"SUM(D57:M57)","v":527}]
[56,"Gerry Moore","A Hat Trick of Gabriels",{"$f":"HLOOKUP(B58,August!$H$1:$CF$83,83,FALSE)","v":183},{"$f":"HLOOKUP(B58,September!$H$1:$CF$37,37,FALSE)","v":37},{"$f":"HLOOKUP(B58,October!$H$1:$CF$78,78,FALSE)","v":183},{"$f":"HLOOKUP(B58,November!$H$1:$CF$39,39,FALSE)","v":46},{"$f":"HLOOKUP(B58,December!$H$1:$CF$37,37,FALSE)","v":62},{"$f":"HLOOKUP(B58,January!$H$1:$CF$53,53,FALSE)","v":15},null,null,null,null,{"$f":"SUM(D58:M58)","v":526}]
[57,"Conor MacMahon","Fu@#ing Cowboys Ted",{"$f":"HLOOKUP(B59,August!$H$1:$CF$83,83,FALSE)","v":143},{"$f":"HLOOKUP(B59,September!$H$1:$CF$37,37,FALSE)","v":66},{"$f":"HLOOKUP(B59,October!$H$1:$CF$78,78,FALSE)","v":204},{"$f":"HLOOKUP(B59,November!$H$1:$CF$39,39,FALSE)","v":58},{"$f":"HLOOKUP(B59,December!$H$1:$CF$37,37,FALSE)","v":39},{"$f":"HLOOKUP(B59,January!$H$1:$CF$53,53,FALSE)","v":14},null,null,null,null,{"$f":"SUM(D59:M59)","v":524}]
[58,"Paul Prendergast","The Untouchables",{"$f":"HLOOKUP(B60,August!$H$1:$CF$83,83,FALSE)","v":122},{"$f":"HLOOKUP(B60,September!$H$1:$CF$37,37,FALSE)","v":50},{"$f":"HLOOKUP(B60,October!$H$1:$CF$78,78,FALSE)","v":216},{"$f":"HLOOKUP(B60,November!$H$1:$CF$39,39,FALSE)","v":76},{"$f":"HLOOKUP(B60,December!$H$1:$CF$37,37,FALSE)","v":53},{"$f":"HLOOKUP(B60,January!$H$1:$CF$53,53,FALSE)","v":7},null,null,null,null,{"$f":"SUM(D60:M60)","v":524}]
[59,"Jenny Behan","Offside Again",{"$f":"HLOOKUP(B61,August!$H$1:$CF$83,83,FALSE)","v":171},{"$f":"HLOOKUP(B61,September!$H$1:$CF$37,37,FALSE)","v":51},{"$f":"HLOOKUP(B61,October!$H$1:$CF$78,78,FALSE)","v":173},{"$f":"HLOOKUP(B61,November!$H$1:$CF$39,39,FALSE)","v":63},{"$f":"HLOOKUP(B61,December!$H$1:$CF$37,37,FALSE)","v":47},{"$f":"HLOOKUP(B61,January!$H$1:$CF$53,53,FALSE)","v":12},null,null,null,null,{"$f":"SUM(D61:M61)","v":517}]
[60,"Gerard McCluskey","Breffni_Blues",{"$f":"HLOOKUP(B62,August!$H$1:$CF$83,83,FALSE)","v":140},{"$f":"HLOOKUP(B62,September!$H$1:$CF$37,37,FALSE)","v":56},{"$f":"HLOOKUP(B62,October!$H$1:$CF$78,78,FALSE)","v":214},{"$f":"HLOOKUP(B62,November!$H$1:$CF$39,39,FALSE)","v":64},{"$f":"HLOOKUP(B62,December!$H$1:$CF$37,37,FALSE)","v":37},{"$f":"HLOOKUP(B62,January!$H$1:$CF$53,53,FALSE)","v":4},null,null,null,null,{"$f":"SUM(D62:M62)","v":515}]
[61,"Ciara Walsh","Kirvin Kicks",{"$f":"HLOOKUP(B63,August!$H$1:$CF$83,83,FALSE)","v":138},{"$f":"HLOOKUP(B63,September!$H$1:$CF$37,37,FALSE)","v":54},{"$f":"HLOOKUP(B63,October!$H$1:$CF$78,78,FALSE)","v":152},{"$f":"HLOOKUP(B63,November!$H$1:$CF$39,39,FALSE)","v":63},{"$f":"HLOOKUP(B63,December!$H$1:$CF$37,37,FALSE)","v":79},{"$f":"HLOOKUP(B63,January!$H$1:$CF$53,53,FALSE)","v":26},null,null,null,null,{"$f":"SUM(D63:M63)","v":512}]
[62,"John Hempenstall","Real SoSo Bad",{"$f":"HLOOKUP(B64,August!$H$1:$CF$83,83,FALSE)","v":156},{"$f":"HLOOKUP(B64,September!$H$1:$CF$37,37,FALSE)","v":74},{"$f":"HLOOKUP(B64,October!$H$1:$CF$78,78,FALSE)","v":190},{"$f":"HLOOKUP(B64,November!$H$1:$CF$39,39,FALSE)","v":56},{"$f":"HLOOKUP(B64,December!$H$1:$CF$37,37,FALSE)","v":23},{"$f":"HLOOKUP(B64,January!$H$1:$CF$53,53,FALSE)","v":6},null,null,null,null,{"$f":"SUM(D64:M64)","v":505}]
[63,"Sarah Coward","Nancy's Army",{"$f":"HLOOKUP(B65,August!$H$1:$CF$83,83,FALSE)","v":143},{"$f":"HLOOKUP(B65,September!$H$1:$CF$37,37,FALSE)","v":35},{"$f":"HLOOKUP(B65,October!$H$1:$CF$78,78,FALSE)","v":167},{"$f":"HLOOKUP(B65,November!$H$1:$CF$39,39,FALSE)","v":78},{"$f":"HLOOKUP(B65,December!$H$1:$CF$37,37,FALSE)","v":62},{"$f":"HLOOKUP(B65,January!$H$1:$CF$53,53,FALSE)","v":15},null,null,null,null,{"$f":"SUM(D65:M65)","v":500}]
[64,"Ronan Rafferty","Ragballrovers",{"$f":"HLOOKUP(B66,August!$H$1:$CF$83,83,FALSE)","v":157},{"$f":"HLOOKUP(B66,September!$H$1:$CF$37,37,FALSE)","v":50},{"$f":"HLOOKUP(B66,October!$H$1:$CF$78,78,FALSE)","v":161},{"$f":"HLOOKUP(B66,November!$H$1:$CF$39,39,FALSE)","v":56},{"$f":"HLOOKUP(B66,December!$H$1:$CF$37,37,FALSE)","v":48},{"$f":"HLOOKUP(B66,January!$H$1:$CF$53,53,FALSE)","v":27},null,null,null,null,{"$f":"SUM(D66:M66)","v":499}]
[65,"Christina Morgan","Mwahahahaha",{"$f":"HLOOKUP(B67,August!$H$1:$CF$83,83,FALSE)","v":124},{"$f":"HLOOKUP(B67,September!$H$1:$CF$37,37,FALSE)","v":54},{"$f":"HLOOKUP(B67,October!$H$1:$CF$78,78,FALSE)","v":181},{"$f":"HLOOKUP(B67,November!$H$1:$CF$39,39,FALSE)","v":47},{"$f":"HLOOKUP(B67,December!$H$1:$CF$37,37,FALSE)","v":69},{"$f":"HLOOKUP(B67,January!$H$1:$CF$53,53,FALSE)","v":19},null,null,null,null,{"$f":"SUM(D67:M67)","v":494}]
[66,"Gary Donnelly","GarWin Nunez",{"$f":"HLOOKUP(B68,August!$H$1:$CF$83,83,FALSE)","v":163},{"$f":"HLOOKUP(B68,September!$H$1:$CF$37,37,FALSE)","v":71},{"$f":"HLOOKUP(B68,October!$H$1:$CF$78,78,FALSE)","v":164},{"$f":"HLOOKUP(B68,November!$H$1:$CF$39,39,FALSE)","v":53},{"$f":"HLOOKUP(B68,December!$H$1:$CF$37,37,FALSE)","v":39},{"$f":"HLOOKUP(B68,January!$H$1:$CF$53,53,FALSE)","v":4},null,null,null,null,{"$f":"SUM(D68:M68)","v":494}]
[67,"Lionel Knott","The Best Redabbey Reds",{"$f":"HLOOKUP(B69,August!$H$1:$CF$83,83,FALSE)","v":163},{"$f":"HLOOKUP(B69,September!$H$1:$CF$37,37,FALSE)","v":30},{"$f":"HLOOKUP(B69,October!$H$1:$CF$78,78,FALSE)","v":137},{"$f":"HLOOKUP(B69,November!$H$1:$CF$39,39,FALSE)","v":83},{"$f":"HLOOKUP(B69,December!$H$1:$CF$37,37,FALSE)","v":57},{"$f":"HLOOKUP(B69,January!$H$1:$CF$53,53,FALSE)","v":15},null,null,null,null,{"$f":"SUM(D69:M69)","v":485}]
[68,"Monica Collins","Monica's Legs Eleven",{"$f":"HLOOKUP(B70,August!$H$1:$CF$83,83,FALSE)","v":128},{"$f":"HLOOKUP(B70,September!$H$1:$CF$37,37,FALSE)","v":55},{"$f":"HLOOKUP(B70,October!$H$1:$CF$78,78,FALSE)","v":171},{"$f":"HLOOKUP(B70,November!$H$1:$CF$39,39,FALSE)","v":56},{"$f":"HLOOKUP(B70,December!$H$1:$CF$37,37,FALSE)","v":42},{"$f":"HLOOKUP(B70,January!$H$1:$CF$53,53,FALSE)","v":12},null,null,null,null,{"$f":"SUM(D70:M70)","v":464}]
[69,"John Massey","Geezers On Tour",{"$f":"HLOOKUP(B71,August!$H$1:$CF$83,83,FALSE)","v":157},{"$f":"HLOOKUP(B71,September!$H$1:$CF$37,37,FALSE)","v":65},{"$f":"HLOOKUP(B71,October!$H$1:$CF$78,78,FALSE)","v":151},{"$f":"HLOOKUP(B71,November!$H$1:$CF$39,39,FALSE)","v":71},{"$f":"HLOOKUP(B71,December!$H$1:$CF$37,37,FALSE)","v":13},{"$f":"HLOOKUP(B71,January!$H$1:$CF$53,53,FALSE)","v":2},null,null,null,null,{"$f":"SUM(D71:M71)","v":459}]
[70,"Javier Suarez","Cafu Con Leche",{"$f":"HLOOKUP(B72,August!$H$1:$CF$83,83,FALSE)","v":157},{"$f":"HLOOKUP(B72,September!$H$1:$CF$37,37,FALSE)","v":55},{"$f":"HLOOKUP(B72,October!$H$1:$CF$78,78,FALSE)","v":136},{"$f":"HLOOKUP(B72,November!$H$1:$CF$39,39,FALSE)","v":26},{"$f":"HLOOKUP(B72,December!$H$1:$CF$37,37,FALSE)","v":63},{"$f":"HLOOKUP(B72,January!$H$1:$CF$53,53,FALSE)","v":17},null,null,null,null,{"$f":"SUM(D72:M72)","v":454}]
[71,"Colm Cahill","COYS FC",{"$f":"HLOOKUP(B73,August!$H$1:$CF$83,83,FALSE)","v":129},{"$f":"HLOOKUP(B73,September!$H$1:$CF$37,37,FALSE)","v":57},{"$f":"HLOOKUP(B73,October!$H$1:$CF$78,78,FALSE)","v":155},{"$f":"HLOOKUP(B73,November!$H$1:$CF$39,39,FALSE)","v":49},{"$f":"HLOOKUP(B73,December!$H$1:$CF$37,37,FALSE)","v":37},{"$f":"HLOOKUP(B73,January!$H$1:$CF$53,53,FALSE)","v":21},null,null,null,null,{"$f":"SUM(D73:M73)","v":448}]
[72,"Derek McDonald","Closet Scouser",{"$f":"HLOOKUP(B74,August!$H$1:$CF$83,83,FALSE)","v":163},{"$f":"HLOOKUP(B74,September!$H$1:$CF$37,37,FALSE)","v":73},{"$f":"HLOOKUP(B74,October!$H$1:$CF$78,78,FALSE)","v":119},{"$f":"HLOOKUP(B74,November!$H$1:$CF$39,39,FALSE)","v":35},{"$f":"HLOOKUP(B74,December!$H$1:$CF$37,37,FALSE)","v":15},{"$f":"HLOOKUP(B74,January!$H$1:$CF$53,53,FALSE)","v":27},null,null,null,null,{"$f":"SUM(D74:M74)","v":432}]
[73,"Shane Hempenstall","Ham Salah",{"$f":"HLOOKUP(B75,August!$H$1:$CF$83,83,FALSE)","v":150},{"$f":"HLOOKUP(B75,September!$H$1:$CF$37,37,FALSE)","v":43},{"$f":"HLOOKUP(B75,October!$H$1:$CF$78,78,FALSE)","v":156},{"$f":"HLOOKUP(B75,November!$H$1:$CF$39,39,FALSE)","v":64},{"$f":"HLOOKUP(B75,December!$H$1:$CF$37,37,FALSE)","v":2},{"$f":"HLOOKUP(B75,January!$H$1:$CF$53,53,FALSE)","v":2},null,null,null,null,{"$f":"SUM(D75:M75)","v":417}]
[74,"Andrew Keohan","Allstar Assholes",{"$f":"HLOOKUP(B76,August!$H$1:$CF$83,83,FALSE)","v":128},{"$f":"HLOOKUP(B76,September!$H$1:$CF$37,37,FALSE)","v":38},{"$f":"HLOOKUP(B76,October!$H$1:$CF$78,78,FALSE)","v":139},{"$f":"HLOOKUP(B76,November!$H$1:$CF$39,39,FALSE)","v":6},{"$f":"HLOOKUP(B76,December!$H$1:$CF$37,37,FALSE)","v":8},{"$f":"HLOOKUP(B76,January!$H$1:$CF$53,53,FALSE)","v":4},null,null,null,null,{"$f":"SUM(D76:M76)","v":323}]
[75,"Kieran Killeen","Wanderers",{"$f":"HLOOKUP(B77,August!$H$1:$CF$83,83,FALSE)","v":105},{"$f":"HLOOKUP(B77,September!$H$1:$CF$37,37,FALSE)","v":43},{"$f":"HLOOKUP(B77,October!$H$1:$CF$78,78,FALSE)","v":66},{"$f":"HLOOKUP(B77,November!$H$1:$CF$39,39,FALSE)","v":4},{"$f":"HLOOKUP(B77,December!$H$1:$CF$37,37,FALSE)","v":52},{"$f":"HLOOKUP(B77,January!$H$1:$CF$53,53,FALSE)","v":32},null,null,null,null,{"$f":"SUM(D77:M77)","v":302}]
[76,"Shane Finnan","Interlocking Spurs",{"$f":"HLOOKUP(B78,August!$H$1:$CF$83,83,FALSE)","v":141},{"$f":"HLOOKUP(B78,September!$H$1:$CF$37,37,FALSE)","v":36},{"$f":"HLOOKUP(B78,October!$H$1:$CF$78,78,FALSE)","v":93},{"$f":"HLOOKUP(B78,November!$H$1:$CF$39,39,FALSE)","v":8},{"$f":"HLOOKUP(B78,December!$H$1:$CF$37,37,FALSE)","v":2},{"$f":"HLOOKUP(B78,January!$H$1:$CF$53,53,FALSE)","v":2},null,null,null,null,{"$f":"SUM(D78:M78)","v":282}]
[77,"Ciaran Healy","I Forgot Again This Week",{"$f":"HLOOKUP(B79,August!$H$1:$CF$83,83,FALSE)","v":160},{"$f":"HLOOKUP(B79,September!$H$1:$CF$37,37,FALSE)","v":8},{"$f":"HLOOKUP(B79,October!$H$1:$CF$78,78,FALSE)","v":24},{"$f":"HLOOKUP(B79,November!$H$1:$CF$39,39,FALSE)","v":10},{"$f":"HLOOKUP(B79,December!$H$1:$CF$37,37,FALSE)","v":10},{"$f":"HLOOKUP(B79,January!$H$1:$CF$53,53,FALSE)","v":4},null,null,null,null,{"$f":"SUM(D79:M79)","v":216}]

{"sheet":"August","index":1,"n_rows":83,"n_cols":84,"rows_kept":83,"cut":false,"hidden":false,"merged":[[1,1,1,4]]}
[null,null,null,null,null,null,null,"Aidan Scanlon","Aidan White","Anastas Popov","Andrew Keohan","Andy Dunne","Bobby Hynes","Brendan Maguire","Brian Haughton","Brian Mullen","Brian Prendergast","Caroline Carroll","Cathal Thornton","Chris Keohan","Christina Morgan","Ciara Walsh","Ciaran Healy","Ciaran O'Hart","Ciaran Rooney","Colm Cahill","Con McSweeney","Conor MacMahon","Craig Calvert","Darragh Kenny","Dave McGinley","David Cooney","David Lavelle","Dean Kelly","Derek McDonald","Dylan Delaney","Dylan O'Riordan","Eoghan Farrelly","Frank McSweeney","Gareth Pierpoint","Gary Donnelly","Gary Fitzpatrick","Gary McGurk","Gavin Morgan","Gerard McCluskey","Gerry Draper","Gerry Moore","Graham Pierpoint","Ian McSweeney","James Keville","Javier Suarez","Jenny Behan","Joe Behan","Joe Turner","John Brophy","John Hempenstall","John Massey","Johno Percy","Jonathan Fox","Joseph Kavanagh","Keith Ryan","Kieran Killeen","Liam Keohan","Lionel Knott","Micheal Joyce","Monica Collins","Niall Carroll","Niall Gregory","Paul Moore","Paul Prendergast","Phil Doyle","Philip Jordan","Richard Johnston","Robert Hynes","Roisin Joyce","Ronan Rafferty","Rory Ellard","Sarah Coward","Sean Cleary","Sean O'Mairtin","Shane Finnan","Shane Hempenstall","Simon Scanlon","Tommy Hamill"]
["Date","Teams",null,null,null,"Time"]
["2022-08-05","Crystal Palace",0,2,"Arsenal","19:45:00",null,5,5,10,0,0,5,10,5,10,5,0,0,5,0,5,5,5,5,5,5,5,0,0,0,5,10,0,5,5,5,5,0,5,5,0,5,10,"-",0,5,10,10,5,5,0,5,0,5,10,5,0,5,5,10,0,5,0,0,5,0,0,5,0,0,10,0,0,0,0,5,0,5,0,5,5,0,0]
["2022-08-06","Fulham",2,2,"Liverpool","12:30:00",null,0,0,0,0,0,0,0,0,0,0,0,0,0,0,10,0,0,0,0,0,0,0,0,0,0,0,0,0,0,0,0,0,0,0,0,0,0,0,0,0,0,0,0,0,0,0,0,0,0,0,0,0,0,0,0,0,0,0,0,0,0,0,0,0,0,0,0,0,0,0,0,0,0,0,0,0,0]
["2022-08-06","Bournemouth",2,0,"Aston Villa","15:00:00",null,0,0,0,0,0,0,0,0,0,0,0,5,0,0,0,0,5,0,0,0,0,0,0,5,0,0,0,0,0,0,0,0,0,0,0,0,0,5,0,0,0,0,0,0,0,0,0,0,0,0,0,0,0,0,0,0,0,5,0,0,0,0,0,0,0,0,0,5,0,0,0,0,0,0,0,0,0]
["2022-08-06","Leeds Utd",2,1,"Wolves","15:00:00",null,0,0,0,0,10,0,5,0,0,10,0,0,0,5,0,0,0,0,0,10,0,0,0,0,10,0,0,0,10,0,10,5,0,0,0,5,0,10,0,0,0,0,10,0,10,10,5,10,0,0,0,5,0,0,0,0,10,0,0,0,10,5,5,10,0,0,10,0,0,0,0,0,5,0,0,0,5]
["2022-08-06","Newcastle",2,0,"Nottingham Forest","15:00:00",null,5,5,10,10,5,5,5,10,0,10,10,10,10,10,5,10,10,10,5,10,10,5,10,5,0,5,10,5,5,0,5,0,10,5,5,10,10,10,5,5,10,0,5,5,10,10,5,10,10,10,5,5,5,5,0,10,5,5,0,5,10,10,5,10,5,0,5,5,0,10,5,10,5,5,5,5,5]
["2022-08-06","Spurs",4,1,"Southampton","15:00:00",null,5,5,5,5,5,5,5,5,5,5,5,5,5,5,5,5,5,5,5,5,5,5,5,5,5,5,5,5,5,5,5,5,5,5,5,5,5,0,5,5,5,5,5,5,0,5,5,5,5,5,5,5,5,5,5,5,5,5,5,5,5,5,5,5,5,10,5,5,5,5,5,5,5,5,5,5,5]
["2022-08-06","Everton",0,1,"Chelsea","17:30:00",null,5,5,10,5,5,5,5,5,5,5,10,5,5,0,5,5,0,5,10,5,5,5,5,5,5,5,5,0,5,5,5,5,10,5,5,10,10,0,5,5,5,5,10,5,5,5,0,10,0,5,5,10,5,5,5,5,5,5,5,0,0,5,5,5,5,5,5,5,0,5,0,5,5,5,5,5,5]
["2022-08-07","Leicester",2,2,"Brentford","15:00:00",null,0,0,0,0,0,5,0,0,0,0,0,0,0,0,0,0,5,5,0,0,0,0,0,5,0,0,0,0,10,0,5,0,0,10,0,0,0,5,0,5,0,0,0,0,0,0,0,0,0,0,0,0,5,0,0,0,5,5,0,0,0,0,0,0,5,0,5,0,0,5,0,0,0,0,5,0,5]
["2022-08-07","Man Utd",1,2,"Brighton","14:00:00",null,0,0,0,0,0,0,0,0,0,0,0,0,0,0,0,0,0,0,0,0,0,0,0,0,0,0,0,0,0,0,0,0,0,0,0,0,0,0,0,0,0,0,0,0,0,0,0,0,0,0,0,0,0,0,0,0,0,0,0,0,0,0,0,0,0,0,0,0,0,0,0,0,0,0,0,0,0]
["2022-08-07","West Ham",0,2,"Man City","16:30:00",null,5,5,10,5,5,5,0,5,5,5,10,5,10,5,5,5,0,5,0,5,5,5,5,5,5,5,5,0,5,5,5,0,5,0,5,0,5,5,5,5,10,5,5,5,5,5,5,5,10,5,5,10,5,10,5,5,5,5,5,5,5,5,0,5,5,5,5,5,5,5,10,5,0,0,10,0,5]
["2022-08-13","Aston Villa",2,1,"Everton","12:30:00",null,0,5,5,0,5,5,0,5,0,0,5,0,0,0,0,5,10,10,0,0,0,0,10,0,0,10,0,0,0,0,0,10,5,0,5,5,0,10,0,5,0,10,0,0,5,5,0,0,0,5,0,10,5,0,10,10,5,5,5,0,5,10,0,5,0,5,5,5,0,10,0,0,0,5,0,5,0]
["2022-08-13","Arsenal",4,2,"Leicester","15:00:00",null,5,5,5,5,5,5,5,5,5,5,5,5,5,5,0,5,5,5,5,5,5,5,5,5,5,5,5,5,5,5,5,0,5,5,5,5,5,5,5,5,5,5,5,5,5,5,5,5,5,5,5,5,5,5,0,5,0,5,5,5,0,5,5,5,5,5,5,5,0,5,5,5,5,5,5,0,5]
["2022-08-13","Brighton",0,0,"Newcastle","15:00:00",null,0,0,5,0,0,5,5,0,5,5,0,5,5,5,5,0,5,5,5,5,0,0,0,5,5,0,0,5,0,5,5,0,0,5,5,5,0,0,0,5,0,0,5,5,0,5,0,5,5,5,0,0,0,0,5,0,5,5,0,5,5,5,0,0,0,0,5,5,0,5,0,5,5,5,0,0,0]
["2022-08-13","Man City",4,0,"Bournemouth","15:00:00",null,5,5,5,5,5,10,5,5,5,10,5,5,5,5,5,5,5,5,5,10,5,5,10,5,10,10,5,5,5,5,10,5,5,5,5,5,5,5,5,5,10,5,10,10,5,10,5,5,5,10,5,5,5,10,5,5,5,5,5,10,5,5,5,10,10,5,5,5,10,10,5,10,5,10,5,10,5]
["2022-08-13","Southampton",2,2,"Leeds Utd","15:00:00",null,5,5,0,0,0,5,0,0,0,0,5,0,0,0,0,0,0,0,0,0,5,0,0,5,10,0,10,0,0,0,5,0,0,0,0,5,0,0,0,5,5,10,0,5,0,10,5,0,5,0,0,0,0,10,0,0,5,0,0,5,0,5,0,5,0,10,5,0,0,0,0,0,5,0,0,0,5]
["2022-08-13","Wolves",0,0,"Fulham","15:00:00",null,5,0,5,5,0,0,5,10,0,0,0,0,0,0,0,0,5,0,0,0,0,5,5,0,0,5,0,5,0,0,0,0,0,0,0,0,0,0,0,5,0,0,0,0,0,0,0,0,5,5,0,0,0,5,0,0,5,5,0,5,5,5,0,10,0,0,5,5,5,0,10,5,0,0,5,0,0]
["2022-08-13","Brentford",4,0,"Man Utd","17:30:00",null,0,0,5,0,5,0,0,0,0,0,0,0,0,5,0,0,0,0,0,0,0,0,0,0,0,0,5,0,0,0,0,0,0,0,0,0,0,0,5,0,0,0,0,0,5,0,0,0,0,5,0,0,0,0,0,0,5,0,5,0,5,0,0,0,0,5,0,5,0,0,0,0,0,0,5,0,0]
["2022-08-14","Nottingham Forest",1,0,"West Ham","14:00:00",null,0,0,10,0,0,0,0,5,0,0,5,0,10,0,0,0,0,0,0,0,0,10,0,0,0,0,0,0,0,0,0,0,0,0,10,0,0,0,0,0,0,0,0,0,5,0,0,0,0,0,0,0,0,0,0,0,5,0,5,5,5,0,0,0,0,0,0,5,0,0,0,0,0,0,0,0,0]
["2022-08-14","Chelsea",2,2,"Spurs","16:30:00",null,10,0,5,0,0,5,0,0,0,0,0,0,0,0,0,0,0,0,0,5,0,10,5,5,0,5,0,10,0,0,0,5,5,5,0,10,0,5,5,10,10,0,10,0,0,10,0,5,0,0,5,0,10,10,0,0,5,10,0,5,0,0,5,0,5,0,0,10,10,5,0,10,10,0,10,5,0]
["2022-08-15","Liverpool",1,1,"Crystal Palace","20:00:00",null,0,0,0,0,0,0,0,0,0,0,0,0,0,0,0,0,0,0,0,0,0,0,0,0,0,0,0,0,0,0,0,0,0,0,0,0,0,0,0,0,0,0,0,0,0,0,0,0,0,0,0,0,0,0,0,0,0,0,0,0,0,0,0,0,0,0,0,0,0,0,0,0,0,0,0,0,0]
["2022-08-20","Spurs",1,0,"Wolves","12:30:00",null,5,5,5,5,5,5,5,5,5,5,5,5,5,5,5,10,5,5,5,5,5,5,5,5,5,5,10,5,5,5,5,5,5,5,5,5,5,5,5,5,5,5,5,5,5,5,5,5,5,5,5,5,5,5,0,5,5,5,5,0,5,5,0,5,5,5,5,5,5,5,5,5,5,5,5,5,5]
["2022-08-20","Crystal Palace",3,1,"Aston Villa","15:00:00",null,0,0,5,5,0,0,0,5,0,5,5,5,0,5,0,5,5,0,0,0,0,5,5,5,5,5,5,5,5,0,5,0,0,5,0,0,5,5,5,5,0,0,0,5,5,5,5,5,5,0,5,5,0,0,0,0,5,0,5,0,0,5,5,0,5,0,0,5,5,5,5,0,0,5,0,5,0]
["2022-08-20","Everton",1,1,"Nottingham Forest","15:00:00",null,5,10,0,0,0,0,0,10,0,10,0,10,0,0,0,0,0,0,0,0,5,5,10,0,10,10,0,0,10,0,0,0,0,5,10,0,0,0,0,5,0,0,10,0,0,10,0,10,0,10,0,0,10,10,0,0,0,10,10,0,10,0,0,5,10,0,10,0,10,0,0,0,0,0,0,0,0]
["2022-08-20","Fulham",3,2,"Brentford","15:00:00",null,5,0,0,0,0,0,0,0,0,0,0,5,5,5,0,5,0,0,0,0,0,0,0,0,0,5,0,5,0,0,0,5,0,0,0,0,0,0,0,0,0,0,5,5,0,0,0,0,0,0,0,5,0,0,0,5,0,0,0,0,5,0,0,0,5,0,5,0,0,0,5,0,5,0,0,0,0]
["2022-08-20","Leicester",1,2,"Southampton","15:00:00",null,0,0,0,0,0,0,0,0,0,0,0,0,0,0,5,0,0,0,0,0,0,0,0,0,10,0,0,0,0,0,0,0,0,0,0,0,0,10,0,0,0,0,0,0,0,0,0,0,0,0,0,0,0,0,0,0,0,0,0,10,0,0,0,0,0,0,0,0,0,0,0,0,0,0,0,0,0]
["2022-08-20","Bournemouth",0,3,"Arsenal","17:30:00",null,5,5,5,5,5,5,10,5,5,5,10,5,5,5,5,0,5,5,5,5,10,5,5,5,5,5,5,0,5,5,5,5,5,5,5,5,5,5,5,5,5,5,5,5,5,5,5,5,5,5,5,5,5,10,5,10,5,5,5,5,0,5,5,5,5,5,5,5,5,10,5,10,5,5,10,5,5]
["2022-08-21","Leeds Utd",3,0,"Chelsea","14:00:00",null,0,0,0,0,0,0,0,0,0,0,0,0,0,0,0,5,0,0,0,0,0,0,0,0,0,0,0,5,0,0,0,0,0,0,0,0,0,0,0,0,0,0,0,0,0,0,0,0,0,0,0,0,0,0,0,0,0,0,0,0,0,0,0,0,0,0,0,0,0,0,0,0,0,0,0,0,0]
["2022-08-21","West Ham",0,2,"Brighton","14:00:00",null,0,0,0,0,0,0,0,0,0,0,0,0,0,0,0,0,0,5,5,0,0,0,0,0,0,0,0,0,0,0,0,5,0,0,0,0,0,0,0,0,0,5,0,0,0,0,0,0,0,0,5,0,0,0,0,0,0,0,0,0,0,0,0,0,0,0,0,5,0,0,0,0,0,0,5,0,0]
["2022-08-21","Newcastle",3,3,"Man City","16:30:00",null,0,0,0,0,0,0,0,0,0,0,0,0,0,0,0,0,0,0,0,0,0,0,0,0,0,0,0,0,0,0,0,0,0,0,0,5,0,0,0,5,0,0,0,0,5,0,0,0,0,0,0,0,0,0,0,0,0,0,0,0,0,5,0,0,0,0,0,0,0,0,0,0,5,0,0,0,0]
["2022-08-22","Man Utd",2,1,"Liverpool","20:00:00",null,0,0,0,0,0,0,0,0,0,0,0,0,0,0,0,5,0,0,0,0,0,0,10,0,0,0,0,10,0,0,0,0,0,0,0,0,0,0,0,0,0,0,0,0,5,0,0,0,0,0,0,0,0,0,0,0,0,0,0,0,10,0,0,0,10,0,0,0,10,0,0,0,0,0,0,5,0]
["2022-08-27","Southampton",0,1,"Man Utd","12:30:00",null,5,5,5,5,0,5,10,5,0,5,5,0,5,0,5,0,5,5,0,5,5,5,5,5,0,0,5,5,5,5,5,5,5,5,5,0,5,0,5,0,5,5,5,5,5,5,5,0,5,5,0,10,0,5,0,5,5,0,5,5,0,0,0,5,5,5,5,0,5,5,5,5,5,5,5,0,5]
["2022-08-27","Brentford",1,1,"Everton","15:00:00",null,5,0,0,0,0,0,10,10,0,0,0,0,0,0,5,0,10,0,0,0,0,0,0,0,0,0,10,10,0,10,0,0,0,10,0,0,0,0,0,0,0,10,0,10,0,0,0,0,0,0,0,0,10,0,0,0,0,0,0,0,0,0,0,5,10,5,0,0,0,0,0,10,0,0,10,5,10]
["2022-08-27","Brighton",1,0,"Leeds Utd","15:00:00",null,5,0,0,0,5,0,0,0,0,0,5,5,0,0,0,10,10,5,0,0,0,0,0,5,5,10,0,5,5,5,0,0,5,0,5,5,10,10,0,0,0,0,0,0,0,0,10,5,0,0,0,10,0,5,10,0,0,0,0,5,0,5,5,0,5,0,10,0,5,5,0,5,10,5,0,0,0]
["2022-08-27","Chelsea",2,1,"Leicester","15:00:00",null,5,5,5,0,10,5,5,5,5,5,5,0,5,5,0,5,5,5,5,5,5,5,5,5,5,5,5,5,5,0,5,5,5,5,5,10,5,5,10,5,5,10,10,5,5,5,5,5,5,5,5,5,10,5,5,5,5,5,0,5,5,5,5,5,5,5,5,10,5,5,5,10,5,5,5,10,5]
["2022-08-27","Liverpool",9,0,"Bournemouth","15:00:00",null,5,5,5,5,5,5,5,5,5,5,5,5,5,5,5,5,5,5,5,5,5,5,5,5,5,5,5,5,5,5,5,5,5,5,5,5,5,5,5,5,5,5,5,5,5,5,5,5,5,5,5,5,5,5,5,5,5,5,5,5,5,5,5,5,5,5,5,5,5,5,5,5,5,5,5,5,5]
["2022-08-27","Man City",4,2,"Crystal Palace","15:00:00",null,5,5,5,5,5,5,5,5,5,5,5,5,5,5,5,5,5,5,5,5,5,5,5,5,5,5,5,5,5,10,5,5,5,10,5,5,5,0,5,0,5,5,5,5,5,10,5,5,5,5,5,5,5,5,5,5,5,5,5,5,5,5,5,5,5,5,5,5,5,5,0,5,5,5,5,5,5]
["2022-08-27","Arsenal",2,1,"Fulham","17:30:00",null,5,5,10,5,10,5,5,5,5,10,5,5,10,0,0,5,5,5,5,5,5,5,5,5,5,5,5,5,5,10,5,0,5,5,5,5,5,0,5,5,5,5,5,5,0,5,5,5,5,5,5,5,5,5,5,5,10,5,5,5,0,5,5,5,5,10,0,10,10,5,5,5,5,5,5,5,5]
["2022-08-28","Aston Villa",0,1,"West Ham","14:00:00",null,0,5,0,5,0,0,0,0,0,0,0,0,5,0,5,0,0,0,0,5,5,0,10,0,0,0,0,0,0,0,0,0,0,0,0,0,0,0,5,0,0,0,0,0,10,0,0,0,0,0,0,0,0,0,0,5,0,0,0,0,0,5,0,5,10,0,0,0,0,0,10,0,0,5,0,0,5]
["2022-08-28","Wolves",1,1,"Newcastle","14:00:00",null,0,0,0,0,0,10,0,0,0,0,0,0,0,0,0,0,0,0,0,0,0,10,0,0,5,0,5,0,10,0,0,10,0,0,10,0,0,0,10,5,10,10,10,5,0,0,5,0,0,0,0,0,0,0,0,0,0,0,0,0,0,10,0,0,0,0,10,10,10,0,0,10,5,0,0,0,10]
["2022-08-28","Nottingham Forest",0,2,"Spurs","16:30:00",null,5,5,10,5,10,5,10,5,5,5,10,10,10,5,5,0,5,5,5,10,5,5,5,5,10,0,5,5,5,10,10,10,5,10,5,5,10,0,10,5,10,5,5,0,5,10,5,10,10,10,5,5,10,10,0,5,10,5,5,5,10,5,10,5,10,5,5,5,5,10,5,5,5,5,5,0,5]
["2022-08-30","Crystal Palace",1,1,"Brentford","19:30:00",null,0,10,0,0,10,0,0,0,0,0,0,0,0,0,5,0,0,0,0,0,5,0,0,0,0,0,0,5,0,10,10,10,0,5,0,0,0,0,0,10,0,10,10,0,5,0,0,0,0,0,0,0,0,10,0,0,0,0,0,0,0,10,0,0,0,5,10,10,0,10,0,10,0,10,0,0,0]
["2022-08-30","Fulham",2,1,"Brighton","19:30:00",null,0,0,0,0,10,0,0,0,0,10,0,10,0,5,0,5,10,0,10,0,0,0,0,10,0,5,0,10,0,5,0,10,0,0,0,0,5,5,0,0,0,0,0,5,0,0,0,0,0,5,0,0,0,0,5,0,10,0,0,0,5,5,5,0,5,5,10,0,0,0,0,10,0,5,0,10,0]
["2022-08-30","Southampton",2,1,"Chelsea","19:45:00",null,0,0,0,0,0,0,0,0,0,10,0,0,0,5,0,5,0,0,5,0,0,0,0,10,0,0,0,0,0,0,0,5,0,0,0,0,0,5,0,0,0,0,0,0,0,0,0,0,0,0,0,0,0,0,5,0,0,0,0,0,0,0,0,0,0,0,0,0,0,0,0,0,0,0,0,10,0]
["2022-08-30","Leeds Utd",1,1,"Everton","20:00:00",null,0,0,0,0,0,0,0,0,10,0,0,0,10,0,10,0,0,0,0,0,0,0,0,0,0,0,10,0,0,0,0,5,0,0,0,10,10,0,0,0,10,0,0,0,0,0,0,0,0,0,0,0,10,0,0,0,0,5,0,10,0,0,0,0,0,0,0,0,0,10,10,0,0,0,0,0,10]
["2022-08-31","Arsenal",2,1,"Aston Villa","19:30:00",null,5,5,5,5,5,5,5,5,5,5,5,5,5,5,5,5,5,5,5,5,10,5,5,5,5,5,5,5,5,5,5,5,5,10,5,5,5,5,10,5,5,5,10,5,5,5,5,5,5,5,5,5,5,5,5,5,5,5,5,5,0,5,5,5,5,10,5,5,0,5,5,5,5,10,5,5,10]
["2022-08-31","Bournemouth",0,0,"Wolves","19:30:00",null,5,0,10,0,0,0,0,0,0,0,0,0,0,0,0,0,5,0,0,0,0,0,0,5,0,0,5,0,0,0,0,0,0,0,0,0,0,0,5,10,0,10,0,0,5,5,5,5,0,0,0,0,0,0,0,0,0,5,0,0,0,10,0,5,0,0,0,5,5,5,10,0,0,0,5,0,0]
["2022-08-31","Man City",6,0,"Nottingham Forest","19:30:00",null,5,5,5,5,5,5,5,5,5,5,5,5,5,0,10,5,5,5,10,5,5,5,5,5,5,5,5,5,5,5,10,5,5,5,5,5,5,5,5,5,5,5,5,5,5,5,5,5,5,5,5,5,5,5,5,5,5,5,5,5,5,5,5,5,5,5,5,5,5,5,5,5,5,5,5,5,5]
["2022-08-31","West Ham",1,1,"Spurs","19:45:00",null,0,0,0,0,0,10,5,0,0,0,5,0,0,5,0,0,10,0,0,5,5,0,10,10,5,0,0,5,0,0,0,10,10,0,10,10,0,0,0,10,10,0,0,5,10,0,0,0,0,0,10,0,0,0,0,0,0,0,0,0,0,0,0,10,0,0,0,0,5,0,0,0,5,0,0,5,0]
["2022-08-31","Liverpool",2,1,"Newcastle","20:00:00",null,0,10,10,5,5,5,0,5,0,5,10,0,5,5,0,5,5,10,5,5,0,10,10,5,10,10,10,5,5,5,5,5,5,5,5,10,5,5,5,5,5,0,10,5,5,5,5,10,10,0,5,5,10,10,5,0,5,0,5,0,0,5,5,10,5,5,5,5,0,10,10,0,5,5,0,10,10]
[]
["Golden Boots"]
["Bruno Fernandes - Man United",null,null,{"$f":"COUNT(G54:GV54)","v":3},{"$f":"0+0+0+1","v":1},null,null,null,null,null,null,null,null,null,null,null,null,null,null,null,null,null,null,{"$f":"2*$E54","v":2},null,null,null,null,null,null,null,null,null,null,{"$f":"2*$E54","v":2},null,null,null,null,null,null,null,null,null,null,null,null,null,{"$f":"2*$E54","v":2}]
["Diogo Jota - Liverpool",null,null,1,{"$f":"0+0+0+0+0","v":0},null,null,null,null,null,null,null,null,null,null,null,null,null,null,null,null,null,null,null,null,null,null,null,null,null,null,null,null,null,null,null,null,null,null,null,null,null,null,null,null,null,null,null,null,null,null,null,null,null,null,null,null,null,null,null,null,null,null,null,null,null,null,null,null,null,null,null,null,null,{"$f":"2*$E55","v":0}]
["Harry Kane - Tottenham",null,null,52,{"$f":"0+1+1+2+0","v":4},null,null,{"$f":"2*$E56","v":8},8,8,8,8,8,8,8,null,8,null,{"$f":"2*$E56","v":8},null,{"$f":"2*$E56","v":8},{"$f":"2*$E56","v":8},{"$f":"2*$E56","v":8},{"$f":"2*$E56","v":8},{"$f":"2*$E56","v":8},{"$f":"2*$E56","v":8},8,8,8,8,8,8,null,{"$f":"2*$E56","v":8},null,{"$f":"2*$E56","v":8},null,{"$f":"2*$E56","v":8},8,8,8,8,{"$f":"2*$E56","v":8},8,null,8,null,{"$f":"2*$E56","v":8},8,{"$f":"2*$E56","v":8},null,null,null,null,{"$f":"2*$E56","v":8},{"$f":"2*$E56","v":8},null,null,{"$f":"2*$E56","v":8},{"$f":"2*$E56","v":8},{"$f":"2*$E56","v":8},null,null,null,{"$f":"2*$E56","v":8},null,{"$f":"2*$E56","v":8},{"$f":"2*$E56","v":8},{"$f":"2*$E56","v":8},null,{"$f":"2*$E56","v":8},null,{"$f":"2*$E56","v":8},{"$f":"2*$E56","v":8},null,null,{"$f":"2*$E56","v":8},null,{"$f":"2*$E56","v":8},{"$f":"2*$E56","v":8},null,null,{"$f":"2*$E56","v":8},{"$f":"2*$E56","v":8}]
["Kevin de Bruyne - Man City",null,null,4,{"$f":"0+1+0+0+0","v":1},null,null,null,null,null,{"$f":"2*$E57","v":2},null,null,null,null,null,null,null,null,null,null,null,null,null,null,null,null,null,null,null,null,null,null,null,null,null,null,null,null,null,null,null,null,null,null,null,null,null,null,null,null,null,{"$f":"2*$E57","v":2},null,null,null,null,null,null,null,null,null,null,{"$f":"2*$E57","v":2},null,null,null,null,null,null,null,null,null,null,null,null,null,{"$f":"2*$E57","v":2}]
["Mohamed Salah - Liverpool",null,null,69,{"$f":"1+0+1+0+0","v":2},null,null,{"$f":"2*$E58","v":4},{"$f":"2*$E58","v":4},{"$f":"2*$E58","v":4},null,{"$f":"2*$E58","v":4},4,4,4,4,4,4,4,4,4,4,4,null,{"$f":"2*$E58","v":4},null,{"$f":"2*$E58","v":4},{"$f":"2*$E58","v":4},{"$f":"2*$E58","v":4},{"$f":"2*$E58","v":4},{"$f":"2*$E58","v":4},{"$f":"2*$E58","v":4},4,{"$f":"2*$E58","v":4},null,4,4,4,4,4,4,4,{"$f":"2*$E58","v":4},{"$f":"2*$E58","v":4},{"$f":"2*$E58","v":4},4,{"$f":"2*$E58","v":4},{"$f":"2*$E58","v":4},null,{"$f":"2*$E58","v":4},{"$f":"2*$E58","v":4},{"$f":"2*$E58","v":4},{"$f":"2*$E58","v":4},{"$f":"2*$E58","v":4},{"$f":"2*$E58","v":4},null,{"$f":"2*$E58","v":4},{"$f":"2*$E58","v":4},{"$f":"2*$E58","v":4},{"$f":"2*$E58","v":4},4,{"$f":"2*$E58","v":4},4,{"$f":"2*$E58","v":4},{"$f":"2*$E58","v":4},4,4,null,{"$f":"2*$E58","v":4},4,null,{"$f":"2*$E58","v":4},4,4,4,4,4,{"$f":"2*$E58","v":4},{"$f":"2*$E58","v":4},4,4,4,4,4]
["Son Heung-min - Tottenham",null,null,23,{"$f":"0+0+0+0+0","v":0},null,null,null,null,null,null,null,null,null,null,{"$f":"2*$E59","v":0},null,{"$f":"2*$E59","v":0},null,{"$f":"2*$E59","v":0},null,null,null,null,null,{"$f":"2*$E59","v":0},null,null,null,null,null,null,{"$f":"2*$E59","v":0},null,{"$f":"2*$E59","v":0},null,{"$f":"2*$E59","v":0},null,null,null,null,null,null,null,{"$f":"2*$E59","v":0},null,null,null,null,null,{"$f":"2*$E59","v":0},{"$f":"2*$E59","v":0},null,{"$f":"2*$E59","v":0},null,{"$f":"2*$E59","v":0},{"$f":"2*$E59","v":0},{"$f":"2*$E59","v":0},null,null,null,{"$f":"2*$E59","v":0},{"$f":"2*$E59","v":0},null,null,null,null,{"$f":"2*$E59","v":0},null,{"$f":"2*$E59","v":0},{"$f":"2*$E59","v":0},{"$f":"2*$E59","v":0},null,null,null,{"$f":"2*$E59","v":0},null,null,null,null,{"$f":"2*$E59","v":0},{"$f":"2*$E59","v":0}]
["Wilfried Zaha - Crystal Palace",null,null,2,{"$f":"0+1+2+0+1","v":4},null,null,null,null,null,null,null,null,null,null,null,null,null,null,null,null,null,null,null,null,null,null,null,null,null,null,null,null,null,null,null,null,null,null,null,null,null,null,null,null,null,{"$f":"2*$E60","v":8},null,null,null,null,null,null,null,null,null,null,null,null,null,null,null,null,null,null,{"$f":"2*$E60","v":8}]
[]
["New Kids On The Block 102"]
["Darwin Nunez - Liverpool",null,null,{"$f":"COUNT(G63:GV63)","v":9},{"$f":"1+0+0+0+0","v":1},null,null,null,null,{"$f":"2*$E63","v":2},null,null,null,null,{"$f":"2*$E63","v":2},null,null,{"$f":"2*$E63","v":2},null,null,{"$f":"2*$E63","v":2},null,null,null,null,null,null,null,null,null,null,null,null,null,null,null,null,null,null,null,null,null,null,null,null,null,null,null,null,null,null,{"$f":"2*$E63","v":2},null,{"$f":"2*$E63","v":2},null,null,null,null,null,null,null,null,null,{"$f":"2*$E63","v":2},null,null,null,null,null,null,null,null,null,null,null,null,null,{"$f":"2*$E63","v":2},null,null,{"$f":"2*$E63","v":2}]
["Erling Haaland - Man City",null,null,{"$f":"COUNT(G64:GV64)","v":52},{"$f":"2+0+1+3+3","v":9},null,null,{"$f":"2*$E64","v":18},{"$f":"2*$E64","v":18},null,{"$f":"2*$E64","v":18},{"$f":"2*$E64","v":18},{"$f":"2*$E64","v":18},null,null,null,null,null,{"$f":"2*$E64","v":18},{"$f":"2*$E64","v":18},null,null,{"$f":"2*$E64","v":18},{"$f":"2*$E64","v":18},{"$f":"2*$E64","v":18},null,{"$f":"2*$E64","v":18},null,{"$f":"2*$E64","v":18},{"$f":"2*$E64","v":18},{"$f":"2*$E64","v":18},{"$f":"2*$E64","v":18},18,{"$f":"2*$E64","v":18},null,18,18,18,18,18,null,18,{"$f":"2*$E64","v":18},{"$f":"2*$E64","v":18},null,18,null,{"$f":"2*$E64","v":18},18,{"$f":"2*$E64","v":18},18,null,null,null,{"$f":"2*$E64","v":18},18,18,18,18,18,18,null,null,null,{"$f":"2*$E64","v":18},null,{"$f":"2*$E64","v":18},18,18,18,18,18,18,null,{"$f":"2*$E64","v":18},{"$f":"2*$E64","v":18},{"$f":"2*$E64","v":18},null,{"$f":"2*$E64","v":18},{"$f":"2*$E64","v":18},null,null,{"$f":"2*$E64","v":18},{"$f":"2*$E64","v":18}]
["Gabriel Jesus - Arsenal",null,null,{"$f":"COUNT(G65:GV65)","v":13},{"$f":"0+2+0+0+1","v":3},null,null,null,null,null,null,null,null,{"$f":"2*$E65","v":6},null,{"$f":"2*$E65","v":6},{"$f":"2*$E65","v":6},null,null,null,null,null,null,null,null,{"$f":"2*$E65","v":6},null,{"$f":"2*$E65","v":6},null,null,null,null,null,null,{"$f":"2*$E65","v":6},null,null,null,null,null,{"$f":"2*$E65","v":6},null,null,null,null,null,{"$f":"2*$E65","v":6},null,null,null,null,null,{"$f":"2*$E65","v":6},null,null,null,null,null,null,null,null,{"$f":"2*$E65","v":6},{"$f":"2*$E65","v":6},null,null,null,null,null,null,null,null,null,null,{"$f":"2*$E65","v":6},null,null,null,null,null,null,null,{"$f":"2*$E65","v":6}]
["Raheem Sterling - Chelsea",null,null,{"$f":"COUNT(G66:GV66)","v":3},{"$f":"0+0+0+2+1","v":3},null,null,null,null,null,null,null,null,null,null,null,null,null,null,null,null,{"$f":"2*$E66","v":6},null,null,null,null,null,null,null,null,null,null,null,null,null,null,null,null,null,null,null,null,null,null,{"$f":"2*$E66","v":6},null,null,null,null,null,null,null,null,null,null,null,null,null,null,null,null,null,null,null,null,{"$f":"2*$E66","v":6}]
[]
["Sack Race"]
["Antonio Conte - Tottenham",null,null,{"$f":"COUNT(G69:GV69)","v":1},null,null,null,null,null,null,null,null,null,null,null,null,null,null,null,null,null,null,null,null,null,{"$f":"15*$E69","v":0}]
["Brendan Rodgers - Leicester City",null,null,5,null,null,null,null,null,null,null,null,null,null,null,null,null,null,null,null,null,null,null,{"$f":"15*$E70","v":0},null,null,null,null,null,{"$f":"15*$E70","v":0},null,null,null,null,null,null,null,null,null,null,null,null,null,null,null,null,null,null,null,null,null,null,null,null,null,null,null,null,null,{"$f":"15*$E70","v":0},null,null,null,null,null,null,null,null,null,null,null,null,null,null,null,null,null,{"$f":"15*$E70","v":0},null,null,null,{"$f":"15*$E70","v":0}]
["Bruno Lage - Wolves",null,null,4,null,null,null,{"$f":"15*$E71","v":0},null,null,null,null,null,null,null,null,null,null,null,null,null,null,null,null,null,null,null,null,null,null,null,null,null,{"$f":"15*$E71","v":0},null,null,null,null,null,null,null,null,null,null,null,null,null,null,null,null,null,null,null,null,null,null,null,null,null,null,null,null,null,{"$f":"15*$E71","v":0},null,null,null,null,null,null,null,null,null,{"$f":"15*$E71","v":0}]
["Eddie Howe - Newcastle United",null,null,1,null,null,null,null,null,null,null,null,null,null,null,null,null,null,null,null,null,null,null,null,null,null,null,null,null,null,null,{"$f":"15*$E72","v":0}]
["Frank Lampard - Everton",null,null,21,null,null,null,null,{"$f":"15*$E73","v":0},null,null,{"$f":"15*$E73","v":0},null,null,{"$f":"15*$E73","v":0},null,null,null,null,null,{"$f":"15*$E73","v":0},null,{"$f":"15*$E73","v":0},null,{"$f":"15*$E73","v":0},null,{"$f":"15*$E73","v":0},null,null,null,null,null,null,null,null,null,null,null,null,{"$f":"15*$E73","v":0},null,{"$f":"15*$E73","v":0},null,{"$f":"15*$E73","v":0},null,null,null,null,null,null,null,null,{"$f":"15*$E73","v":0},{"$f":"15*$E73","v":0},null,null,{"$f":"15*$E73","v":0},null,{"$f":"15*$E73","v":0},null,null,{"$f":"15*$E73","v":0},null,null,{"$f":"15*$E73","v":0},{"$f":"15*$E73","v":0},null,null,null,null,null,{"$f":"15*$E73","v":0},null,null,null,{"$f":"15*$E73","v":0},null,null,null,{"$f":"15*$E73","v":0},null,null,{"$f":"15*$E73","v":0}]
["Graham Potter - Brighton",null,null,1,null,null,null,null,null,null,null,null,null,null,null,null,null,null,null,null,null,null,null,null,null,null,null,null,null,null,null,null,null,null,null,null,{"$f":"15*$E74","v":0}]
["Jesse Marsch - Leeds United",null,null,14,null,null,null,null,null,null,null,null,{"$f":"15*$E75","v":0},null,null,null,{"$f":"15*$E75","v":0},{"$f":"15*$E75","v":0},null,null,null,null,null,null,null,null,null,null,{"$f":"15*$E75","v":0},null,null,null,null,null,null,null,null,{"$f":"15*$E75","v":0},{"$f":"15*$E75","v":0},null,{"$f":"15*$E75","v":0},null,null,null,{"$f":"15*$E75","v":0},null,{"$f":"15*$E75","v":0},null,{"$f":"15*$E75","v":0},null,{"$f":"15*$E75","v":0},null,null,null,null,{"$f":"15*$E75","v":0},null,null,null,null,null,null,{"$f":"15*$E75","v":0},null,null,null,{"$f":"15*$E75","v":0}]
["Marco Silva - Fulham",null,null,9,null,null,null,null,null,null,{"$f":"15*$E76","v":0},null,null,null,null,null,null,null,{"$f":"15*$E76","v":0},{"$f":"15*$E76","v":0},null,null,null,null,null,null,null,{"$f":"15*$E76","v":0},null,null,{"$f":"15*$E76","v":0},null,null,null,null,null,null,null,null,null,null,null,null,null,null,null,null,null,null,{"$f":"15*$E76","v":0},null,null,null,null,{"$f":"15*$E76","v":0},null,null,null,null,null,null,null,null,null,null,null,null,null,null,null,null,null,null,null,null,null,{"$f":"15*$E76","v":0},null,null,null,null,null,null,{"$f":"15*$E76","v":0}]
["Ralph Hassenhuttl - Southampton",null,null,12,null,null,null,null,null,null,null,null,null,null,null,null,null,null,null,null,null,null,null,null,null,null,null,null,null,null,null,null,{"$f":"15*$E77","v":0},null,null,{"$f":"15*$E77","v":0},null,null,null,null,null,null,{"$f":"15*$E77","v":0},null,null,{"$f":"15*$E77","v":0},null,{"$f":"15*$E77","v":0},null,null,null,null,null,null,null,null,null,{"$f":"15*$E77","v":0},null,null,{"$f":"15*$E77","v":0},null,null,null,null,null,null,{"$f":"15*$E77","v":0},{"$f":"15*$E77","v":0},null,{"$f":"15*$E77","v":0},null,null,null,null,null,null,null,{"$f":"15*$E77","v":0},null,{"$f":"15*$E77","v":0}]
["Scott Parker - Bournemouth",null,null,5,1,null,null,null,null,{"$f":"15*$E78","v":15},null,null,null,null,null,{"$f":"15*$E78","v":15},null,null,null,null,null,null,null,null,null,null,null,null,null,null,null,null,null,null,null,null,null,null,null,null,null,null,null,null,null,null,null,null,null,null,null,{"$f":"15*$E78","v":15},null,null,null,null,null,null,null,null,null,null,null,null,null,null,null,null,null,null,null,null,{"$f":"15*$E78","v":15},null,{"$f":"15*$E78","v":15}]
["Steve Cooper - Nottingham Forest",null,null,1,null,null,null,null,null,null,null,null,null,null,null,null,null,null,null,null,null,{"$f":"15*$E79","v":0}]
["Steven Gerrard - Aston Villa",null,null,1,null,null,null,null,null,null,null,null,null,null,null,null,null,null,null,null,null,null,null,null,null,null,null,null,null,null,null,null,null,null,{"$f":"15*$E80","v":0}]
["Thomas Frank - Brentford",null,null,2,null,null,null,null,null,null,null,null,null,{"$f":"15*$E81","v":0},null,null,null,null,null,null,null,null,null,null,null,null,null,null,null,null,null,null,null,null,null,null,null,null,null,null,null,null,null,null,null,null,null,null,null,null,null,null,null,null,null,null,null,null,null,null,null,null,null,null,null,null,null,null,null,{"$f":"15*$E81","v":0}]
[]
["Total Points - August",null,null,null,null,null,null,{"$f":"SUM(H$3:H82)","v":160},{"$f":"SUM(I$3:I82)","v":160},{"$f":"SUM(J$3:J82)","v":204},{"$f":"SUM(K$3:K82)","v":128},{"$f":"SUM(L$3:L82)","v":170},{"$f":"SUM(M$3:M82)","v":170},{"$f":"SUM(N$3:N82)","v":148},{"$f":"SUM(O$3:O82)","v":154},{"$f":"SUM(P$3:P82)","v":120},{"$f":"SUM(Q$3:Q82)","v":173},{"$f":"SUM(R$3:R82)","v":151},{"$f":"SUM(S$3:S82)","v":155},{"$f":"SUM(T$3:T82)","v":167},{"$f":"SUM(U$3:U82)","v":124},{"$f":"SUM(V$3:V82)","v":138},{"$f":"SUM(W$3:W82)","v":160},{"$f":"SUM(X$3:X82)","v":193},{"$f":"SUM(Y$3:Y82)","v":160},{"$f":"SUM(Z$3:Z82)","v":129},{"$f":"SUM(AA$3:AA82)","v":165},{"$f":"SUM(AB$3:AB82)","v":143},{"$f":"SUM(AC$3:AC82)","v":165},{"$f":"SUM(AD$3:AD82)","v":195},{"$f":"SUM(AE$3:AE82)","v":185},{"$f":"SUM(AF$3:AF82)","v":190},{"$f":"SUM(AG$3:AG82)","v":172},{"$f":"SUM(AH$3:AH82)","v":180},{"$f":"SUM(AI$3:AI82)","v":163},{"$f":"SUM(AJ$3:AJ82)","v":170},{"$f":"SUM(AK$3:AK82)","v":152},{"$f":"SUM(AL$3:AL82)","v":175},{"$f":"SUM(AM$3:AM82)","v":180},{"$f":"SUM(AN$3:AN82)","v":155},{"$f":"SUM(AO$3:AO82)","v":163},{"$f":"SUM(AP$3:AP82)","v":170},{"$f":"SUM(AQ$3:AQ82)","v":190},{"$f":"SUM(AR$3:AR82)","v":170},{"$f":"SUM(AS$3:AS82)","v":140},{"$f":"SUM(AT$3:AT82)","v":165},{"$f":"SUM(AU$3:AU82)","v":183},{"$f":"SUM(AV$3:AV82)","v":190},{"$f":"SUM(AW$3:AW82)","v":183},{"$f":"SUM(AX$3:AX82)","v":205},{"$f":"SUM(AY$3:AY82)","v":157},{"$f":"SUM(AZ$3:AZ82)","v":171},{"$f":"SUM(BA$3:BA82)","v":182},{"$f":"SUM(BB$3:BB82)","v":121},{"$f":"SUM(BC$3:BC82)","v":180},{"$f":"SUM(BD$3:BD82)","v":156},{"$f":"SUM(BE$3:BE82)","v":157},{"$f":"SUM(BF$3:BF82)","v":127},{"$f":"SUM(BG$3:BG82)","v":170},{"$f":"SUM(BH$3:BH82)","v":180},{"$f":"SUM(BI$3:BI82)","v":200},{"$f":"SUM(BJ$3:BJ82)","v":105},{"$f":"SUM(BK$3:BK82)","v":125},{"$f":"SUM(BL$3:BL82)","v":163},{"$f":"SUM(BM$3:BM82)","v":160},{"$f":"SUM(BN$3:BN82)","v":128},{"$f":"SUM(BO$3:BO82)","v":155},{"$f":"SUM(BP$3:BP82)","v":151},{"$f":"SUM(BQ$3:BQ82)","v":205},{"$f":"SUM(BR$3:BR82)","v":122},{"$f":"SUM(BS$3:BS82)","v":186},{"$f":"SUM(BT$3:BT82)","v":197},{"$f":"SUM(BU$3:BU82)","v":175},{"$f":"SUM(BV$3:BV82)","v":188},{"$f":"SUM(BW$3:BW82)","v":202},{"$f":"SUM(BX$3:BX82)","v":157},{"$f":"SUM(BY$3:BY82)","v":205},{"$f":"SUM(BZ$3:BZ82)","v":143},{"$f":"SUM(CA$3:CA82)","v":200},{"$f":"SUM(CB$3:CB82)","v":165},{"$f":"SUM(CC$3:CC82)","v":141},{"$f":"SUM(CD$3:CD82)","v":150},{"$f":"SUM(CE$3:CE82)","v":160},{"$f":"SUM(CF$3:CF82)","v":175}]

{"sheet":"September","index":2,"n_rows":37,"n_cols":84,"rows_kept":37,"cut":false,"hidden":false,"merged":[[1,1,1,4]]}
[null,null,null,null,null,null,null,"Aidan Scanlon","Aidan White","Anastas Popov","Andrew Keohan","Andy Dunne","Bobby Hynes","Brendan Maguire","Brian Haughton","Brian Mullen","Brian Prendergast","Caroline Carroll","Cathal Thornton","Chris Keohan","Christina Morgan","Ciara Walsh","Ciaran Healy","Ciaran O'Hart","Ciaran Rooney","Colm Cahill","Con McSweeney","Conor MacMahon","Craig Calvert","Darragh Kenny","Dave McGinley","David Cooney","David Lavelle","Dean Kelly","Derek McDonald","Dylan Delaney","Dylan O'Riordan","Eoghan Farrelly","Frank McSweeney","Gareth Pierpoint","Gary Donnelly","Gary Fitzpatrick","Gary McGurk","Gavin Morgan","Gerard McCluskey","Gerry Draper","Gerry Moore","Graham Pierpoint","Ian McSweeney","James Keville","Javier Suarez","Jenny Behan","Joe Behan","Joe Turner","John Brophy","John Hempenstall","John Massey","Johno Percy","Jonathan Fox","Joseph Kavanagh","Keith Ryan","Kieran Killeen","Liam Keohan","Lionel Knott","Micheal Joyce","Monica Collins","Niall Carroll","Niall Gregory","Paul Moore","Paul Prendergast","Phil Doyle","Philip Jordan","Richard Johnston","Robert Hynes","Roisin Joyce","Ronan Rafferty","Rory Ellard","Sarah Coward","Sean Cleary","Sean O'Mairtin","Shane Finnan","Shane Hempenstall","Simon Scanlon","Tommy Hamill"]
["Date","Teams",null,null,null,"Time"]
["2022-09-01","Leicester",0,1,"Man Utd","20:00:00",null,5,10,10,5,0,0,5,5,0,10,5,5,10,0,5,0,0,5,0,0,5,5,5,5,5,0,5,5,5,10,5,0,5,5,0,0,0,0,0,0,5,0,0,0,5,5,0,0,5,0,0,10,5,10,0,5,10,5,5,5,5,0,0,5,5,5,0,5,5,5,0,5,0,5,5,5,0]
["2022-09-03","Everton",0,0,"Liverpool","12:30:00",null,0,0,0,0,0,0,0,0,0,0,0,0,0,0,5,"-",0,0,0,5,0,0,0,0,0,0,0,0,0,0,5,0,0,0,5,0,0,0,0,0,0,0,0,0,0,0,0,5,0,0,5,0,0,5,0,0,0,0,0,5,5,0,0,5,0,0,0,0,0,0,0,0,0,0,0,5,0]
["2022-09-03","Brentford",5,2,"Leeds Utd","15:00:00",null,0,0,5,0,0,0,0,0,0,0,0,0,0,5,0,"-",0,5,5,0,5,0,0,5,5,5,5,5,0,0,5,5,0,5,0,0,5,5,0,0,0,0,0,5,0,0,5,5,5,5,5,5,0,0,0,0,0,0,0,0,5,5,5,0,0,0,5,0,5,5,0,5,5,0,0,5,0]
["2022-09-03","Chelsea",2,1,"West Ham","15:00:00",null,0,10,5,0,5,5,10,10,10,10,0,5,10,5,0,"-",5,10,5,0,10,10,10,10,10,10,10,10,10,5,10,5,10,10,10,5,5,5,0,0,5,5,10,5,5,5,5,5,5,10,5,5,10,0,5,10,5,0,5,0,10,5,5,10,5,10,10,10,5,5,5,10,10,10,5,0,5]
["2022-09-03","Newcastle",0,0,"Crystal Palace","15:00:00",null,0,0,0,0,0,5,0,0,0,0,5,0,0,0,5,"-",5,0,0,0,0,0,0,0,0,0,5,0,0,0,0,5,0,0,0,0,0,0,0,0,0,5,0,0,0,0,5,0,0,0,0,0,0,0,0,0,0,5,0,0,0,0,0,0,0,0,0,5,0,0,5,0,0,0,0,0,0]
["2022-09-03","Nottingham Forest",2,3,"Bournemouth","15:00:00",null,0,0,0,0,0,0,0,0,0,0,0,0,0,5,0,"-",0,0,0,0,0,0,0,0,0,0,0,0,0,0,0,0,0,0,0,0,0,0,0,0,0,0,0,5,0,0,0,0,0,0,0,0,0,0,0,0,0,0,0,0,5,0,0,0,0,0,0,0,0,0,0,0,0,0,0,0,0]
["2022-09-03","Spurs",2,1,"Fulham","15:00:00",null,5,5,10,5,10,5,5,5,10,5,5,10,5,5,5,"-",5,5,10,5,10,5,5,10,5,5,5,10,5,10,5,10,5,10,5,5,5,5,10,0,5,5,10,5,5,5,5,5,5,5,0,5,5,5,5,5,5,0,10,10,5,5,5,5,5,5,5,5,5,5,5,10,0,10,5,5,10]
["2022-09-03","Wolves",1,0,"Southampton","15:00:00",null,10,0,10,0,0,5,0,10,0,5,0,0,10,0,0,"-",10,5,0,5,10,0,0,0,0,10,0,5,0,5,0,0,10,5,5,10,10,10,5,0,10,0,10,0,0,0,10,0,0,5,0,0,0,5,5,5,0,0,0,0,5,0,0,0,10,0,0,0,0,0,0,0,0,0,0,0,10]
["2022-09-03","Aston Villa",1,1,"Man City","17:30:00",null,0,0,0,0,0,0,0,0,0,0,0,0,0,0,0,"-",0,0,0,0,0,0,0,0,0,0,0,0,0,0,0,0,0,0,0,0,0,0,0,0,0,0,0,0,0,0,0,0,0,0,0,0,0,0,0,0,0,0,0,0,0,0,0,0,0,0,0,0,0,0,0,0,0,0,0,0,0]
["2022-09-04","Brighton",5,2,"Leicester","14:00:00",null,5,5,5,5,5,0,5,5,5,5,5,5,5,5,5,"-",0,5,5,5,0,5,5,5,5,5,5,5,5,5,5,5,5,5,5,5,5,5,5,5,0,5,5,0,5,5,5,5,5,5,5,5,5,5,0,0,0,5,0,0,0,5,5,0,5,5,5,5,5,5,0,5,5,0,5,0,5]
["2022-09-04","Man Utd",3,1,"Arsenal","16:30:00",null,0,0,0,0,0,5,5,5,0,10,0,5,0,0,5,"-",0,0,0,0,5,5,0,0,0,0,0,5,5,5,5,0,0,5,5,0,0,5,0,0,0,0,0,0,5,0,0,0,5,0,0,0,0,5,0,5,0,0,5,0,0,0,0,5,5,0,5,0,5,5,0,0,0,0,0,10,0]
["2022-09-16","Aston Villa",1,0,"Southampton","20:00:00",null,5,5,10,5,5,5,5,5,10,5,5,0,5,10,5,0,10,5,5,0,0,0,0,0,0,0,10,0,5,0,0,5,5,0,0,10,0,5,5,10,10,0,5,0,0,0,10,0,5,10,0,10,0,0,0,5,0,0,0,10,5,0,5,5,5,10,5,0,0,0,5,0,5,0,5,0,10]
["2022-09-16","Nottingham Forest",2,3,"Fulham","20:00:00",null,0,0,0,0,0,0,5,0,0,0,5,5,5,0,5,0,0,5,0,0,5,5,5,0,0,0,0,0,0,0,5,5,0,0,0,0,0,0,0,5,0,5,0,5,0,0,5,0,0,0,5,5,0,0,0,5,0,0,0,5,0,5,0,0,5,0,0,5,0,5,5,5,0,0,0,5,0]
["2022-09-17","Wolves",0,3,"Man City","12:30:00",null,5,10,5,0,5,5,5,5,5,5,5,5,10,5,5,0,10,5,5,5,5,10,5,5,5,10,5,10,10,5,5,5,10,5,5,0,5,0,5,5,5,10,5,5,10,10,5,10,10,5,10,10,5,5,5,10,5,5,10,0,0,5,5,5,10,5,5,5,5,5,5,10,10,0,0,10,5]
["2022-09-17","Newcastle",1,1,"Bournemouth","15:00:00",null,0,0,0,0,0,0,0,0,0,0,0,0,0,0,0,0,0,0,0,0,0,0,0,0,0,0,0,0,0,0,0,0,0,0,0,0,0,0,0,0,0,10,0,0,0,0,0,0,0,5,0,0,0,0,10,0,0,0,10,0,0,0,0,0,0,0,0,0,0,0,0,0,0,0,0,0,0]
["2022-09-17","Spurs",6,2,"Leicester","17:30:00",null,5,5,5,5,5,5,5,5,5,5,5,5,5,5,5,0,5,5,5,5,5,5,5,5,5,5,5,5,5,5,5,5,5,5,5,5,5,5,5,5,5,5,5,5,5,5,5,5,5,0,5,5,5,5,5,5,5,5,5,5,5,5,5,5,5,5,5,5,5,5,0,5,5,5,5,5,5]
["2022-09-18","Brentford",0,3,"Arsenal","12:00:00",null,0,5,5,0,5,5,0,0,5,5,0,5,5,0,0,0,5,5,5,0,0,0,5,0,5,5,5,5,5,5,0,5,5,5,5,0,5,0,5,5,5,5,5,5,5,5,0,5,5,0,5,5,5,5,0,5,0,5,5,5,0,5,5,5,5,5,5,0,0,5,5,5,0,0,0,0,5]
["2022-09-18","Everton",1,0,"West Ham","14:15:00",null,0,0,0,5,5,0,0,0,0,0,0,0,0,5,0,0,0,0,0,10,0,5,0,0,0,0,10,0,0,0,5,0,0,5,0,0,0,5,0,0,0,0,0,5,0,0,5,5,5,5,0,0,0,0,0,0,0,5,0,0,10,0,0,0,0,0,0,0,0,0,0,5,0,0,5,0,0]
[]
["Golden Boots"]
["Bruno Fernandes - Man United",null,null,{"$f":"COUNT(G23:GV23)","v":3},{"$f":"0","v":0},null,null,null,null,null,null,null,null,null,null,null,null,null,null,null,null,null,null,{"$f":"2*$E23","v":0},null,null,null,null,null,null,null,null,null,null,{"$f":"2*$E23","v":0},null,null,null,null,null,null,null,null,null,null,null,null,null,{"$f":"2*$E23","v":0}]
["Diogo Jota - Liverpool",null,null,1,{"$f":"0","v":0},null,null,null,null,null,null,null,null,null,null,null,null,null,null,null,null,null,null,null,null,null,null,null,null,null,null,null,null,null,null,null,null,null,null,null,null,null,null,null,null,null,null,null,null,null,null,null,null,null,null,null,null,null,null,null,null,null,null,null,null,null,null,null,null,null,null,null,null,null,{"$f":"2*$E24","v":0}]
["Harry Kane - Tottenham",null,null,52,{"$f":"1+1","v":2},null,null,{"$f":"2*$E25","v":4},4,4,4,4,4,4,4,null,4,null,{"$f":"2*$E25","v":4},null,{"$f":"2*$E25","v":4},{"$f":"2*$E25","v":4},{"$f":"2*$E25","v":4},{"$f":"2*$E25","v":4},{"$f":"2*$E25","v":4},{"$f":"2*$E25","v":4},4,4,4,4,4,4,null,{"$f":"2*$E25","v":4},null,{"$f":"2*$E25","v":4},null,{"$f":"2*$E25","v":4},4,4,4,4,{"$f":"2*$E25","v":4},4,null,4,null,{"$f":"2*$E25","v":4},4,{"$f":"2*$E25","v":4},null,null,null,null,{"$f":"2*$E25","v":4},{"$f":"2*$E25","v":4},null,null,{"$f":"2*$E25","v":4},{"$f":"2*$E25","v":4},{"$f":"2*$E25","v":4},null,null,null,{"$f":"2*$E25","v":4},null,{"$f":"2*$E25","v":4},{"$f":"2*$E25","v":4},{"$f":"2*$E25","v":4},null,{"$f":"2*$E25","v":4},null,{"$f":"2*$E25","v":4},{"$f":"2*$E25","v":4},null,null,{"$f":"2*$E25","v":4},null,{"$f":"2*$E25","v":4},{"$f":"2*$E25","v":4},null,null,{"$f":"2*$E25","v":4},{"$f":"2*$E25","v":4}]
["Kevin de Bruyne - Man City",null,null,4,{"$f":"0+0","v":0},null,null,null,null,null,{"$f":"2*$E26","v":0},null,null,null,null,null,null,null,null,null,null,null,null,null,null,null,null,null,null,null,null,null,null,null,null,null,null,null,null,null,null,null,null,null,null,null,null,null,null,null,null,null,{"$f":"2*$E26","v":0},null,null,null,null,null,null,null,null,null,null,{"$f":"2*$E26","v":0},null,null,null,null,null,null,null,null,null,null,null,null,null,{"$f":"2*$E26","v":0}]
["Mohamed Salah - Liverpool",null,null,69,{"$f":"0","v":0},null,null,{"$f":"2*$E27","v":0},{"$f":"2*$E27","v":0},{"$f":"2*$E27","v":0},null,{"$f":"2*$E27","v":0},0,0,0,0,0,0,0,0,0,0,0,null,{"$f":"2*$E27","v":0},null,{"$f":"2*$E27","v":0},{"$f":"2*$E27","v":0},{"$f":"2*$E27","v":0},{"$f":"2*$E27","v":0},{"$f":"2*$E27","v":0},{"$f":"2*$E27","v":0},0,{"$f":"2*$E27","v":0},null,0,0,0,0,0,0,0,{"$f":"2*$E27","v":0},{"$f":"2*$E27","v":0},{"$f":"2*$E27","v":0},0,{"$f":"2*$E27","v":0},{"$f":"2*$E27","v":0},null,{"$f":"2*$E27","v":0},{"$f":"2*$E27","v":0},{"$f":"2*$E27","v":0},{"$f":"2*$E27","v":0},{"$f":"2*$E27","v":0},{"$f":"2*$E27","v":0},null,{"$f":"2*$E27","v":0},{"$f":"2*$E27","v":0},{"$f":"2*$E27","v":0},{"$f":"2*$E27","v":0},0,{"$f":"2*$E27","v":0},0,{"$f":"2*$E27","v":0},{"$f":"2*$E27","v":0},0,0,null,{"$f":"2*$E27","v":0},0,null,{"$f":"2*$E27","v":0},0,0,0,0,0,{"$f":"2*$E27","v":0},{"$f":"2*$E27","v":0},0,0,0,0,0]
["Son Heung-min - Tottenham",null,null,23,{"$f":"0+3","v":3},null,null,null,null,null,null,null,null,null,null,{"$f":"2*$E28","v":6},null,{"$f":"2*$E28","v":6},null,{"$f":"2*$E28","v":6},null,null,null,null,null,{"$f":"2*$E28","v":6},null,null,null,null,null,null,{"$f":"2*$E28","v":6},null,{"$f":"2*$E28","v":6},null,{"$f":"2*$E28","v":6},null,null,null,null,null,null,null,{"$f":"2*$E28","v":6},null,null,null,null,null,{"$f":"2*$E28","v":6},{"$f":"2*$E28","v":6},null,{"$f":"2*$E28","v":6},null,{"$f":"2*$E28","v":6},{"$f":"2*$E28","v":6},{"$f":"2*$E28","v":6},null,null,null,{"$f":"2*$E28","v":6},{"$f":"2*$E28","v":6},null,null,null,null,{"$f":"2*$E28","v":6},null,{"$f":"2*$E28","v":6},{"$f":"2*$E28","v":6},{"$f":"2*$E28","v":6},null,null,null,{"$f":"2*$E28","v":6},null,null,null,null,{"$f":"2*$E28","v":6},{"$f":"2*$E28","v":6}]
["Wilfried Zaha - Crystal Palace",null,null,2,{"$f":"0","v":0},null,null,null,null,null,null,null,null,null,null,null,null,null,null,null,null,null,null,null,null,null,null,null,null,null,null,null,null,null,null,null,null,null,null,null,null,null,null,null,null,null,{"$f":"2*$E29","v":0},null,null,null,null,null,null,null,null,null,null,null,null,null,null,null,null,null,null,{"$f":"2*$E29","v":0}]
[]
["New Kids On The Block 102"]
["Darwin Nunez - Liverpool",null,null,{"$f":"COUNT(G32:GV32)","v":9},{"$f":"0","v":0},null,null,null,null,{"$f":"2*$E32","v":0},null,null,null,null,{"$f":"2*$E32","v":0},null,null,{"$f":"2*$E32","v":0},null,null,{"$f":"2*$E32","v":0},null,null,null,null,null,null,null,null,null,null,null,null,null,null,null,null,null,null,null,null,null,null,null,null,null,null,null,null,null,null,{"$f":"2*$E32","v":0},null,{"$f":"2*$E32","v":0},null,null,null,null,null,null,null,null,null,{"$f":"2*$E32","v":0},null,null,null,null,null,null,null,null,null,null,null,null,null,{"$f":"2*$E32","v":0},null,null,{"$f":"2*$E32","v":0}]
["Erling Haaland - Man City",null,null,{"$f":"COUNT(G33:GV33)","v":52},{"$f":"1+1","v":2},null,null,{"$f":"2*$E33","v":4},{"$f":"2*$E33","v":4},null,{"$f":"2*$E33","v":4},{"$f":"2*$E33","v":4},{"$f":"2*$E33","v":4},null,null,null,null,null,{"$f":"2*$E33","v":4},{"$f":"2*$E33","v":4},null,null,{"$f":"2*$E33","v":4},{"$f":"2*$E33","v":4},{"$f":"2*$E33","v":4},null,{"$f":"2*$E33","v":4},null,{"$f":"2*$E33","v":4},{"$f":"2*$E33","v":4},{"$f":"2*$E33","v":4},{"$f":"2*$E33","v":4},4,{"$f":"2*$E33","v":4},null,4,4,4,4,4,null,4,{"$f":"2*$E33","v":4},{"$f":"2*$E33","v":4},null,4,null,{"$f":"2*$E33","v":4},4,{"$f":"2*$E33","v":4},4,null,null,null,{"$f":"2*$E33","v":4},4,4,4,4,4,4,null,null,null,{"$f":"2*$E33","v":4},null,{"$f":"2*$E33","v":4},4,4,4,4,4,4,null,{"$f":"2*$E33","v":4},{"$f":"2*$E33","v":4},{"$f":"2*$E33","v":4},null,{"$f":"2*$E33","v":4},{"$f":"2*$E33","v":4},null,null,{"$f":"2*$E33","v":4},{"$f":"2*$E33","v":4}]
["Gabriel Jesus - Arsenal",null,null,{"$f":"COUNT(G34:GV34)","v":13},{"$f":"0+1","v":1},null,null,null,null,null,null,null,null,{"$f":"2*$E34","v":2},null,{"$f":"2*$E34","v":2},{"$f":"2*$E34","v":2},null,null,null,null,null,null,null,null,{"$f":"2*$E34","v":2},null,{"$f":"2*$E34","v":2},null,null,null,null,null,null,{"$f":"2*$E34","v":2},null,null,null,null,null,{"$f":"2*$E34","v":2},null,null,null,null,null,{"$f":"2*$E34","v":2},null,null,null,null,null,{"$f":"2*$E34","v":2},null,null,null,null,null,null,null,null,{"$f":"2*$E34","v":2},{"$f":"2*$E34","v":2},null,null,null,null,null,null,null,null,null,null,{"$f":"2*$E34","v":2},null,null,null,null,null,null,null,{"$f":"2*$E34","v":2}]
["Raheem Sterling - Chelsea",null,null,{"$f":"COUNT(G35:GV35)","v":3},{"$f":"0","v":0},null,null,null,null,null,null,null,null,null,null,null,null,null,null,null,null,{"$f":"2*$E35","v":0},null,null,null,null,null,null,null,null,null,null,null,null,null,null,null,null,null,null,null,null,null,null,{"$f":"2*$E35","v":0},null,null,null,null,null,null,null,null,null,null,null,null,null,null,null,null,null,null,null,null,{"$f":"2*$E35","v":0}]
[]
["Total Points - September",null,null,null,null,null,null,{"$f":"SUM(H$3:H36)","v":48},{"$f":"SUM(I$3:I36)","v":63},{"$f":"SUM(J$3:J36)","v":74},{"$f":"SUM(K$3:K36)","v":38},{"$f":"SUM(L$3:L36)","v":53},{"$f":"SUM(M$3:M36)","v":53},{"$f":"SUM(N$3:N36)","v":56},{"$f":"SUM(O$3:O36)","v":59},{"$f":"SUM(P$3:P36)","v":58},{"$f":"SUM(Q$3:Q36)","v":71},{"$f":"SUM(R$3:R36)","v":46},{"$f":"SUM(S$3:S36)","v":58},{"$f":"SUM(T$3:T36)","v":80},{"$f":"SUM(U$3:U36)","v":54},{"$f":"SUM(V$3:V36)","v":54},{"$f":"SUM(W$3:W36)","v":8},{"$f":"SUM(X$3:X36)","v":63},{"$f":"SUM(Y$3:Y36)","v":68},{"$f":"SUM(Z$3:Z36)","v":57},{"$f":"SUM(AA$3:AA36)","v":48},{"$f":"SUM(AB$3:AB36)","v":66},{"$f":"SUM(AC$3:AC36)","v":63},{"$f":"SUM(AD$3:AD36)","v":53},{"$f":"SUM(AE$3:AE36)","v":53},{"$f":"SUM(AF$3:AF36)","v":53},{"$f":"SUM(AG$3:AG36)","v":65},{"$f":"SUM(AH$3:AH36)","v":78},{"$f":"SUM(AI$3:AI36)","v":73},{"$f":"SUM(AJ$3:AJ36)","v":63},{"$f":"SUM(AK$3:AK36)","v":65},{"$f":"SUM(AL$3:AL36)","v":68},{"$f":"SUM(AM$3:AM36)","v":63},{"$f":"SUM(AN$3:AN36)","v":68},{"$f":"SUM(AO$3:AO36)","v":71},{"$f":"SUM(AP$3:AP36)","v":58},{"$f":"SUM(AQ$3:AQ36)","v":48},{"$f":"SUM(AR$3:AR36)","v":53},{"$f":"SUM(AS$3:AS36)","v":56},{"$f":"SUM(AT$3:AT36)","v":48},{"$f":"SUM(AU$3:AU36)","v":37},{"$f":"SUM(AV$3:AV36)","v":58},{"$f":"SUM(AW$3:AW36)","v":63},{"$f":"SUM(AX$3:AX36)","v":63},{"$f":"SUM(AY$3:AY36)","v":55},{"$f":"SUM(AZ$3:AZ36)","v":51},{"$f":"SUM(BA$3:BA36)","v":42},{"$f":"SUM(BB$3:BB36)","v":71},{"$f":"SUM(BC$3:BC36)","v":58},{"$f":"SUM(BD$3:BD36)","v":74},{"$f":"SUM(BE$3:BE36)","v":65},{"$f":"SUM(BF$3:BF36)","v":55},{"$f":"SUM(BG$3:BG36)","v":73},{"$f":"SUM(BH$3:BH36)","v":48},{"$f":"SUM(BI$3:BI36)","v":58},{"$f":"SUM(BJ$3:BJ36)","v":43},{"$f":"SUM(BK$3:BK36)","v":68},{"$f":"SUM(BL$3:BL36)","v":30},{"$f":"SUM(BM$3:BM36)","v":43},{"$f":"SUM(BN$3:BN36)","v":55},{"$f":"SUM(BO$3:BO36)","v":53},{"$f":"SUM(BP$3:BP36)","v":74},{"$f":"SUM(BQ$3:BQ36)","v":48},{"$f":"SUM(BR$3:BR36)","v":50},{"$f":"SUM(BS$3:BS36)","v":64},{"$f":"SUM(BT$3:BT36)","v":75},{"$f":"SUM(BU$3:BU36)","v":58},{"$f":"SUM(BV$3:BV36)","v":56},{"$f":"SUM(BW$3:BW36)","v":49},{"$f":"SUM(BX$3:BX36)","v":50},{"$f":"SUM(BY$3:BY36)","v":58},{"$f":"SUM(BZ$3:BZ36)","v":35},{"$f":"SUM(CA$3:CA36)","v":73},{"$f":"SUM(CB$3:CB36)","v":48},{"$f":"SUM(CC$3:CC36)","v":36},{"$f":"SUM(CD$3:CD36)","v":43},{"$f":"SUM(CE$3:CE36)","v":58},{"$f":"SUM(CF$3:CF36)","v":63}]

{"sheet":"October","index":3,"n_rows":78,"n_cols":84,"rows_kept":78,"cut":false,"hidden":false,"merged":[[1,1,1,4]]}
[null,null,null,null,null,null,null,"Aidan Scanlon","Aidan White","Anastas Popov","Andrew Keohan","Andy Dunne","Bobby Hynes","Brendan Maguire","Brian Haughton","Brian Mullen","Brian Prendergast","Caroline Carroll","Cathal Thornton","Chris Keohan","Christina Morgan","Ciara Walsh","Ciaran Healy","Ciaran O'Hart","Ciaran Rooney","Colm Cahill","Con McSweeney","Conor MacMahon","Craig Calvert","Darragh Kenny","Dave McGinley","David Cooney","David Lavelle","Dean Kelly","Derek McDonald","Dylan Delaney","Dylan O'Riordan","Eoghan Farrelly","Frank McSweeney","Gareth Pierpoint","Gary Donnelly","Gary Fitzpatrick","Gary McGurk","Gavin Morgan","Gerard McCluskey","Gerry Draper","Gerry Moore","Graham Pierpoint","Ian McSweeney","James Keville","Javier Suarez","Jenny Behan","Joe Behan","Joe Turner","John Brophy","John Hempenstall","John Massey","Johno Percy","Jonathan Fox","Joseph Kavanagh","Keith Ryan","Kieran Killeen","Liam Keohan","Lionel Knott","Micheal Joyce","Monica Collins","Niall Carroll","Niall Gregory","Paul Moore","Paul Prendergast","Phil Doyle","Philip Jordan","Richard Johnston","Robert Hynes","Roisin Joyce","Ronan Rafferty","Rory Ellard","Sarah Coward","Sean Cleary","Sean O'Mairtin","Shane Finnan","Shane Hempenstall","Simon Scanlon","Tommy Hamill"]
["Date","Teams",null,null,null,"Time"]
["2022-10-01","Arsenal",3,1,"Spurs","12:30:00",null,10,0,0,10,5,0,5,5,5,0,0,0,0,5,5,"-",0,5,0,5,0,0,0,0,5,0,0,0,0,5,0,0,0,0,0,5,5,5,5,5,0,0,0,5,0,0,0,0,0,0,0,5,0,5,5,5,5,0,0,0,0,0,5,5,0,5,0,0,0,0,0,5,0,5,0,0,0]
["2022-10-01","Bournemouth",0,0,"Brentford","15:00:00",null,0,5,0,0,0,5,5,0,5,0,5,0,0,5,0,"-",0,0,5,0,0,5,0,5,5,0,0,5,0,0,5,0,0,0,0,5,5,0,5,0,5,0,0,0,0,0,5,0,0,10,0,0,0,0,0,0,0,5,0,0,0,5,5,0,0,0,5,5,5,5,0,0,5,0,0,0,5]
["2022-10-01","Crystal Palace",1,2,"Chelsea","15:00:00",null,5,5,5,0,0,10,10,5,10,10,0,10,5,5,0,"-",5,10,0,10,10,0,5,0,5,0,5,0,10,0,0,10,10,5,0,5,5,10,10,0,10,10,10,0,0,5,0,5,5,0,0,5,10,0,0,0,0,10,10,0,0,0,10,5,5,0,0,5,0,10,5,0,0,0,5,10,10]
["2022-10-01","Fulham",1,4,"Newcastle","15:00:00",null,5,0,0,0,5,0,0,0,5,0,0,5,0,0,5,"-",0,0,0,0,5,0,0,0,0,5,0,5,0,5,0,0,0,0,0,5,0,0,0,0,0,0,0,0,0,0,0,5,0,0,0,5,5,5,0,5,0,0,0,0,0,0,5,0,5,0,0,0,0,5,0,0,0,0,5,5,0]
["2022-10-01","Liverpool",3,3,"Brighton","15:00:00",null,0,0,0,0,0,0,0,0,0,0,0,0,0,0,0,"-",0,0,0,0,0,0,0,0,0,0,0,0,0,0,5,0,0,0,0,0,0,0,0,0,0,0,0,0,0,0,0,0,0,5,0,0,0,0,0,0,0,0,0,0,0,0,0,0,0,0,0,0,0,0,0,0,0,0,0,0,0]
["2022-10-01","Southampton",1,2,"Everton","15:00:00",null,0,0,0,0,5,0,0,0,5,0,0,0,0,0,0,"-",0,0,0,0,0,0,0,0,0,0,5,10,5,0,0,10,10,0,0,0,0,0,0,0,0,0,0,0,0,0,0,0,10,0,0,0,0,0,0,0,5,10,0,5,0,0,10,10,0,0,0,0,0,0,0,10,0,0,5,0,10]
["2022-10-01","West Ham",2,0,"Wolves","17:30:00",null,0,5,5,5,0,0,5,10,0,5,5,0,5,5,5,"-",5,10,0,5,0,5,5,5,0,0,10,0,5,5,5,5,10,0,0,5,0,5,10,0,5,0,10,5,5,10,5,10,5,0,10,5,5,0,5,5,0,0,0,0,0,10,5,10,5,5,5,0,0,5,5,0,10,5,0,0,10]
["2022-10-02","Man City",6,3,"Man Utd","14:00:00",null,5,5,5,5,5,5,0,5,5,5,5,5,5,5,0,"-",5,5,0,5,0,0,5,0,5,5,5,0,5,5,5,0,5,5,5,0,5,5,5,5,5,5,5,5,5,5,5,5,5,0,5,5,5,0,5,0,5,5,5,5,5,0,5,0,5,5,5,0,0,5,5,5,5,5,5,0,5]
["2022-10-02","Leeds Utd",0,0,"Aston Villa","16:30:00",null,0,0,0,0,0,5,0,0,0,0,0,0,0,0,0,"-",0,5,0,0,0,0,0,0,0,0,5,0,5,5,5,0,0,0,0,5,0,10,0,0,5,5,0,0,5,0,0,10,0,10,0,0,5,0,0,0,0,5,5,0,0,0,0,0,5,0,0,0,0,5,5,0,0,0,0,0,5]
["2022-10-03","Leicester",4,0,"Nottingham Forest","20:00:00",null,0,5,0,5,0,5,5,0,0,5,5,0,0,0,0,"-",0,5,0,5,5,5,0,5,5,5,5,0,5,5,5,5,5,5,0,5,5,5,5,5,5,0,5,5,0,5,5,5,0,0,5,5,5,0,5,5,0,0,5,5,5,5,5,0,5,0,5,5,5,5,5,5,5,5,0,5,5]
["2022-10-08","Bournemouth",2,1,"Leicester","15:00:00",null,0,5,5,0,0,0,0,0,0,0,5,0,0,5,0,"-",0,0,0,0,0,0,0,0,0,0,0,0,0,0,0,5,0,0,0,5,0,10,0,0,0,0,0,5,0,5,0,5,0,0,0,0,0,0,0,0,0,0,0,0,0,0,0,10,0,0,0,10,0,0,0,0,0,10,5,0,0]
["2022-10-08","Chelsea",3,0,"Wolves","15:00:00",null,5,5,5,5,5,5,10,5,5,5,5,5,5,5,5,"-",5,5,5,5,10,10,5,5,5,5,10,5,5,5,5,5,5,5,5,5,5,5,5,10,5,5,5,5,5,10,5,5,5,5,5,5,5,5,5,0,5,5,5,5,5,5,5,10,5,5,5,5,5,5,5,5,5,5,5,10,5]
["2022-10-08","Man City",4,0,"Southampton","15:00:00",null,5,5,5,10,5,5,10,5,10,5,10,10,10,5,10,"-",5,10,5,10,5,5,10,10,10,10,5,5,5,10,5,5,5,5,10,5,5,10,5,5,0,5,10,5,10,5,5,10,10,10,5,10,10,5,5,10,5,5,10,10,10,10,10,10,5,5,5,5,5,10,10,10,5,5,5,5,10]
["2022-10-08","Newcastle",5,1,"Brentford","15:00:00",null,5,0,5,0,5,5,5,5,5,5,5,5,5,5,0,"-",5,5,5,5,5,5,5,5,5,5,5,5,5,0,5,5,5,5,5,5,5,0,5,5,5,0,5,5,5,5,5,5,5,5,5,5,5,5,0,5,5,5,0,0,5,5,5,0,5,5,5,5,5,0,0,5,5,5,5,5,0]
["2022-10-08","Brighton",0,1,"Spurs","17:30:00",null,0,5,0,5,0,0,0,5,5,5,5,10,5,0,5,"-",0,0,5,0,5,0,5,0,0,5,5,0,5,0,0,0,0,5,0,0,0,5,5,0,5,5,0,0,0,0,0,0,5,5,0,10,0,5,0,5,0,5,5,0,5,0,0,5,0,5,0,0,0,5,5,5,0,0,0,0,5]
["2022-10-09","Crystal Palace",2,1,"Leeds Utd","14:00:00",null,10,0,5,10,0,10,0,10,5,0,5,0,0,10,0,"-",5,10,10,10,0,5,0,10,5,5,5,10,10,5,5,5,10,10,0,5,5,5,10,0,5,10,5,5,0,5,5,0,5,0,10,5,10,0,0,10,0,10,0,10,5,5,5,0,10,0,10,0,5,10,0,10,5,10,5,5,5]
["2022-10-09","West Ham",3,1,"Fulham","14:00:00",null,5,5,5,5,0,5,0,5,5,5,5,0,0,0,5,"-",5,5,5,5,5,5,5,5,10,5,5,0,10,0,5,5,5,5,5,5,5,5,5,0,5,5,5,5,5,5,5,5,5,5,0,5,5,0,5,10,5,0,0,5,0,0,5,5,5,5,0,5,0,5,0,5,5,5,5,10,5]
["2022-10-09","Arsenal",3,2,"Liverpool","16:30:00",null,10,5,5,0,0,0,5,0,5,0,5,5,0,10,5,"-",0,5,5,5,0,5,5,0,0,0,0,5,0,5,0,5,0,0,0,0,5,0,0,10,5,0,0,5,5,5,0,5,5,0,5,5,0,0,0,0,0,5,0,10,0,0,0,10,5,0,0,0,0,0,0,5,0,5,5,5,0]
["2022-10-09","Everton",1,2,"Man Utd","19:00:00",null,10,10,5,5,0,0,10,10,0,10,0,10,10,5,0,"-",0,10,0,0,5,5,5,10,0,0,5,10,5,10,0,0,10,10,0,0,10,10,10,0,0,5,0,0,5,0,0,5,0,5,0,5,0,5,0,10,5,0,10,0,0,10,0,10,5,5,0,10,10,10,0,5,10,0,0,5,0]
["2022-10-10","Nottingham Forest",1,1,"Aston Villa","20:00:00",null,10,5,10,0,0,0,5,0,0,10,10,10,0,0,0,"-",5,0,10,5,0,0,0,10,0,0,0,0,0,10,0,0,0,0,0,5,5,5,0,5,10,5,0,0,10,0,0,10,10,0,0,0,0,10,5,0,10,0,0,0,0,5,0,0,0,0,10,0,0,0,0,10,0,0,0,0,10]
["2022-10-14","Brentford",2,0,"Brighton","20:00:00",null,0,0,0,5,0,0,0,0,0,5,0,0,5,5,0,"-",0,0,5,0,0,5,0,5,0,0,0,0,0,5,0,0,0,0,0,0,5,10,0,0,0,0,0,5,5,0,5,0,0,0,0,0,0,5,5,0,0,0,0,0,0,0,0,0,0,5,0,0,0,0,5,0,0,5,10,5,0]
["2022-10-15","Leicester",0,0,"Crystal Palace","12:30:00",null,5,0,0,0,0,0,5,0,0,0,0,5,5,0,5,"-",5,5,0,0,0,5,5,5,0,0,5,0,0,0,0,5,0,0,5,0,0,0,0,5,5,0,0,0,0,0,5,5,0,0,5,0,5,5,0,5,0,0,0,0,0,0,0,0,0,0,0,10,5,0,0,5,5,0,0,0,0]
["2022-10-15","Fulham",2,2,"Bournemouth","15:00:00",null,0,5,0,0,0,0,0,5,0,0,0,0,0,0,0,"-",0,0,0,0,10,0,5,0,0,5,0,5,10,0,0,0,0,0,0,5,0,5,0,0,0,0,0,0,0,10,0,0,0,0,0,5,0,0,0,0,0,10,0,0,0,0,0,0,5,0,0,5,0,0,0,0,0,0,0,0,0]
["2022-10-15","Wolves",1,0,"Nottingham Forest","15:00:00",null,0,5,10,5,10,5,5,5,5,10,10,0,10,0,0,"-",10,10,0,5,5,10,0,10,0,5,10,5,0,0,5,10,0,5,10,10,10,5,5,0,5,5,10,10,5,5,10,5,0,0,10,10,5,0,10,5,0,0,0,0,0,5,5,0,5,5,10,5,10,5,0,0,0,5,5,5,0]
["2022-10-15","Spurs",2,0,"Everton","17:30:00",null,5,10,10,5,10,10,5,5,10,10,10,5,5,0,5,"-",5,10,0,10,10,10,10,5,5,5,5,5,5,5,5,5,10,5,5,5,10,10,5,10,10,5,5,5,5,10,10,5,0,10,5,10,5,10,5,5,5,5,10,10,10,10,10,5,5,5,5,5,5,5,5,5,10,5,10,10,10]
["2022-10-16","Aston Villa",0,2,"Chelsea","14:00:00",null,5,5,10,0,5,10,10,5,10,10,10,10,5,5,0,"-",10,0,0,10,5,10,0,5,10,5,10,5,10,5,5,5,10,10,5,10,5,0,10,5,10,10,10,0,0,5,5,5,10,5,10,10,5,10,0,5,5,5,10,10,5,0,10,5,10,5,0,5,5,5,5,10,5,0,0,5,10]
["2022-10-16","Leeds Utd",0,1,"Arsenal","14:00:00",null,5,5,5,0,5,5,5,5,5,0,5,5,5,0,10,"-",5,5,0,5,5,5,5,5,5,5,5,0,5,5,5,5,5,5,5,0,10,0,5,5,5,5,5,0,0,5,5,5,5,5,5,5,5,5,"-",5,5,5,5,5,0,5,5,5,5,5,5,10,0,5,5,5,5,0,0,5,5]
["2022-10-16","Man Utd",0,0,"Newcastle","14:00:00",null,0,5,0,0,5,0,0,0,0,0,5,5,0,0,0,"-",0,0,0,5,5,0,0,0,0,5,0,0,0,5,0,5,0,0,0,0,5,0,0,0,5,0,0,0,0,10,5,5,0,0,0,0,0,0,"-",0,0,0,5,0,5,5,0,0,0,0,0,5,0,0,5,0,0,0,0,0,0]
["2022-10-16","Southampton",1,1,"West Ham","14:00:00",null,10,0,0,0,10,10,0,0,0,0,0,0,0,0,5,"-",10,0,0,0,0,0,0,10,10,0,0,0,0,5,0,0,0,0,10,0,0,10,10,10,10,10,10,0,0,0,10,0,0,0,0,0,0,10,"-",0,0,0,10,0,0,0,10,0,0,0,10,0,10,10,5,10,0,0,0,5,10]
["2022-10-16","Liverpool",1,0,"Man City","16:30:00",null,0,0,0,5,5,0,0,5,0,0,5,0,0,5,0,"-",0,0,0,0,0,0,0,0,0,0,0,0,0,5,0,5,5,5,0,5,0,0,0,5,0,0,0,10,5,0,10,0,0,0,0,0,5,0,"-",0,0,0,0,0,0,5,0,0,0,5,5,0,0,0,0,0,0,5,5,0,0]
["2022-10-18","Brighton",0,0,"Nottingham Forest","19:30:00",null,0,0,0,0,0,0,0,5,0,0,0,0,0,0,5,"-",0,0,5,0,0,0,0,0,0,0,0,0,0,0,0,0,0,0,0,5,0,0,0,0,0,0,0,"-",0,0,0,0,0,0,0,0,0,0,"-",0,0,0,0,0,0,0,0,0,0,0,0,5,0,0,0,0,0,"-",0,0,0]
["2022-10-18","Crystal Palace",2,1,"Wolves","20:15:00",null,5,5,5,5,10,0,10,5,10,10,5,10,5,0,0,"-",5,5,0,0,0,5,10,10,5,5,5,0,5,0,0,10,5,0,0,5,5,0,5,10,5,0,0,"-",0,5,5,0,5,5,5,5,10,5,"-",10,10,5,5,10,10,5,5,10,0,0,0,0,0,0,10,5,5,"-",5,5,5]
["2022-10-19","Bournemouth",0,1,"Southampton","19:30:00",null,0,0,0,0,0,0,0,0,0,0,0,10,0,0,0,"-",0,0,0,0,5,0,0,0,0,10,5,0,0,0,0,0,0,0,0,0,0,0,0,0,0,0,5,"-",5,0,0,0,0,0,0,0,0,0,"-",5,0,5,0,0,0,0,0,0,0,0,0,0,0,0,10,0,0,"-","-",10,0]
["2022-10-19","Brentford",0,0,"Chelsea","19:30:00",null,0,0,0,"-",0,0,0,0,0,5,0,0,0,0,0,"-",0,0,0,0,0,0,0,0,0,0,0,0,0,5,0,0,0,0,0,0,0,0,0,5,0,0,0,"-",5,0,0,0,0,0,0,0,0,5,"-",0,0,0,0,0,0,5,0,0,0,0,0,0,0,0,0,0,0,"-","-",0,0]
["2022-10-19","Newcastle",1,0,"Everton","19:30:00",null,5,5,10,"-",5,5,0,10,5,5,5,5,5,5,0,"-",0,5,5,5,5,5,5,5,5,5,10,5,5,0,0,5,5,0,0,5,5,0,5,5,10,0,5,"-",5,5,5,5,0,5,10,10,5,5,"-",5,5,5,5,5,10,10,10,5,10,5,5,5,5,5,5,5,5,"-","-",5,0]
["2022-10-19","Liverpool",1,0,"West Ham","19:30:00",null,5,5,10,"-",5,5,5,5,5,5,5,5,5,5,5,"-",5,5,5,5,5,5,5,5,5,5,5,5,5,5,0,5,5,5,5,5,5,5,5,5,5,10,5,"-",5,5,5,5,5,0,5,5,5,0,"-",5,5,5,10,5,5,5,5,5,5,5,5,5,5,5,5,0,5,"-","-",5,5]
["2022-10-19","Man Utd",2,0,"Spurs","20:15:00",null,5,0,5,"-",0,0,5,5,0,5,0,0,0,5,5,"-",0,0,0,0,5,5,0,5,0,0,0,0,5,0,0,0,0,0,0,0,5,0,0,0,0,0,0,"-",5,0,0,0,0,0,0,0,0,5,"-",5,0,0,0,5,0,0,0,5,5,0,5,5,5,5,0,0,0,"-","-",5,0]
["2022-10-20","Fulham",3,0,"Aston Villa","19:30:00",null,0,5,5,"-",0,0,5,0,0,0,5,5,5,10,0,"-",5,0,0,5,5,5,5,5,5,0,0,0,5,0,0,0,0,5,0,5,5,5,0,5,0,0,0,"-",5,0,5,0,5,0,5,5,0,0,"-",0,0,5,5,5,5,5,0,5,0,5,5,5,0,0,0,0,5,"-","-",0,5]
["2022-10-20","Leicester",2,0,"Leeds Utd","20:15:00",null,5,0,5,"-",5,5,0,0,0,0,0,0,0,0,0,"-",5,0,5,0,10,5,0,5,5,0,0,0,5,5,0,5,5,0,0,5,5,10,10,10,5,0,5,"-",0,0,5,0,5,5,0,5,0,0,"-",0,5,0,5,5,10,0,10,0,5,0,5,10,5,5,5,5,0,"-","-",5,0]
["2022-10-22","Nottingham Forest",1,0,"Liverpool","12:30:00",null,0,0,0,"-",0,0,0,0,5,0,0,5,0,0,0,"-",5,0,0,0,0,0,0,0,0,0,0,5,0,0,0,0,0,0,0,0,0,5,0,0,0,10,0,"-",0,0,0,0,5,0,0,0,0,0,"-",0,5,0,0,0,0,0,0,0,0,0,0,0,0,0,0,0,0,"-",0,0,0]
["2022-10-22","Everton",3,0,"Crystal Palace","15:00:00",null,0,0,0,"-",5,0,0,5,5,5,0,5,5,5,0,"-",5,0,0,0,0,0,0,5,0,0,5,5,0,0,5,0,5,0,0,5,5,0,5,0,5,5,0,"-",0,0,0,5,5,0,5,0,0,0,"-",0,5,0,0,0,5,0,0,0,0,5,5,0,0,0,0,0,0,"-",0,5,0]
["2022-10-22","Man City",3,1,"Brighton","15:00:00",null,5,5,5,"-",5,5,5,5,5,5,5,5,5,5,10,"-",0,5,5,5,5,5,5,5,5,5,5,5,10,5,5,5,10,5,5,10,5,5,5,5,5,5,5,"-",10,5,5,5,5,0,5,5,5,5,"-",5,5,5,5,5,5,5,5,5,5,5,5,5,5,10,10,5,5,"-",10,5,5]
["2022-10-22","Chelsea",1,1,"Man Utd","17:30:00",null,0,5,0,"-",0,10,0,10,0,0,0,0,0,0,0,"-",10,0,10,5,0,0,0,10,0,0,10,0,10,10,5,0,0,10,5,10,0,0,0,5,0,0,10,"-",0,5,0,10,0,5,0,0,0,0,"-",0,0,0,0,10,0,0,0,0,0,5,10,0,0,0,5,0,0,"-",0,0,0]
["2022-10-23","Aston Villa",4,0,"Brentford","14:00:00",null,0,5,0,"-",5,0,0,5,5,5,5,5,0,5,0,"-",0,5,0,0,0,0,0,0,0,0,5,5,0,0,0,0,5,0,0,0,0,5,5,0,0,5,0,"-",0,0,0,0,5,0,0,0,5,0,"-",0,5,0,0,0,0,0,5,0,5,0,0,0,0,0,0,0,0,"-",0,0,0]
["2022-10-23","Leeds Utd",2,3,"Fulham","14:00:00",null,0,5,0,"-",0,0,0,0,0,0,5,0,5,10,0,"-",0,0,0,0,0,0,5,0,5,5,0,0,0,5,0,5,0,5,0,0,0,0,0,0,0,0,0,"-",0,0,0,0,0,0,0,0,5,5,"-",0,0,0,5,0,0,5,0,0,5,0,5,5,0,5,0,5,0,"-",5,5,0]
["2022-10-23","Southampton",1,1,"Arsenal","14:00:00",null,0,0,0,"-",0,0,0,0,0,10,0,0,10,0,0,"-",0,0,0,0,0,0,0,0,0,0,10,0,0,0,0,0,0,0,0,10,0,0,0,0,0,0,0,"-",5,0,0,0,0,5,0,0,0,0,"-",0,0,0,0,0,0,0,0,0,0,0,0,0,0,0,0,0,0,"-",0,0,0]
["2022-10-23","Wolves",0,4,"Leicester","14:00:00",null,0,0,0,"-",0,0,0,0,0,0,0,0,0,0,0,"-",0,0,0,0,0,0,0,0,0,0,5,0,0,0,0,0,0,0,0,0,0,5,0,5,0,0,0,"-",5,0,0,0,0,0,5,5,0,0,"-",5,0,0,0,0,5,0,0,0,5,0,0,0,0,0,5,5,0,"-",5,5,0]
["2022-10-23","Spurs",1,2,"Newcastle","16:30:00",null,10,0,0,"-",0,0,0,0,0,0,0,0,0,5,0,"-",0,0,0,0,0,0,0,0,0,0,0,0,0,10,0,0,0,5,5,0,0,0,0,0,0,0,0,"-",0,0,0,0,0,0,0,0,0,0,"-",0,0,0,0,0,0,0,0,0,0,5,0,0,0,0,0,0,0,"-",0,0,0]
["2022-10-24","West Ham",2,0,"Bournemouth","20:00:00",null,10,0,5,"-",5,10,10,10,5,10,10,5,10,5,10,"-",0,10,10,10,10,10,5,5,5,5,10,5,5,0,5,5,5,5,5,10,5,5,10,10,10,5,10,"-",10,10,5,0,5,0,10,5,10,10,"-",0,0,5,0,5,5,5,10,5,10,10,10,0,10,10,0,10,10,0,5,10,5]
["2022-10-29","Leicester",0,1,"Man City","12:30:00",null,5,5,5,5,5,0,5,5,5,0,5,5,5,0,5,"-",5,5,5,5,5,5,5,5,5,5,5,"-",5,5,0,5,5,5,5,5,5,5,5,0,5,5,5,5,5,5,5,10,5,5,5,5,5,5,"-",5,0,5,5,5,5,5,5,5,5,5,5,10,5,5,5,5,5,0,5,5,5]
["2022-10-29","Bournemouth",2,3,"Spurs","15:00:00",null,5,5,5,5,5,5,5,5,5,5,0,5,5,0,0,"-",5,5,5,5,5,5,5,5,0,5,5,"-",5,5,5,5,5,0,0,5,5,5,5,0,5,5,5,5,5,5,5,0,5,5,5,5,5,5,"-",5,0,5,5,0,5,5,0,5,5,5,5,5,0,5,5,5,5,0,5,5,5]
["2022-10-29","Brentford",1,1,"Wolves","15:00:00",null,0,0,0,0,0,10,0,0,10,0,0,0,0,0,10,"-",0,0,10,0,5,0,0,0,0,10,10,"-",0,0,0,0,0,0,0,10,0,0,0,0,5,0,0,5,0,0,0,0,0,0,0,0,0,0,"-",0,0,10,0,5,0,10,0,0,10,0,0,0,0,0,0,0,10,0,0,0,0]
["2022-10-29","Brighton",4,1,"Chelsea","15:00:00",null,0,0,0,0,0,0,0,0,0,0,0,0,0,0,5,"-",0,0,0,0,0,0,0,0,0,0,0,"-",0,0,0,0,0,0,0,0,0,0,0,0,0,0,0,0,0,0,0,0,0,0,0,0,0,0,"-",0,0,0,0,0,0,0,0,0,0,0,0,0,5,0,0,0,0,0,0,0,0]
["2022-10-29","Crystal Palace",1,0,"Southampton","15:00:00",null,10,0,5,5,10,5,5,5,10,5,5,5,10,5,0,"-",5,5,5,5,5,0,0,5,5,5,0,"-",5,10,5,0,5,5,5,10,5,5,5,10,10,0,5,0,0,5,10,0,10,5,5,10,0,10,"-",5,0,0,0,0,5,0,5,10,10,0,0,5,5,5,0,5,5,0,5,5,10]
["2022-10-29","Newcastle",4,0,"Aston Villa","15:00:00",null,5,0,5,5,5,5,5,5,0,5,5,5,5,5,0,"-",5,5,5,5,5,0,0,5,5,5,5,"-",5,5,5,5,5,0,5,5,5,5,5,5,5,5,5,5,5,5,5,5,5,5,5,5,5,5,"-",5,5,5,5,5,0,5,5,0,5,5,5,5,5,5,0,5,5,0,5,5,0]
["2022-10-29","Fulham",0,0,"Everton","17:30:00",null,0,0,0,0,0,5,5,5,0,0,0,0,5,0,0,"-",5,0,0,0,10,0,0,5,5,0,0,"-",0,5,5,5,5,0,5,10,0,0,5,0,5,0,5,5,0,5,0,10,0,0,0,0,5,5,"-",5,0,5,5,5,0,5,5,0,0,0,0,0,5,5,0,5,0,0,0,0,5]
["2022-10-29","Liverpool",1,2,"Leeds Utd","19:45:00",null,0,0,0,0,0,0,0,0,0,0,0,0,0,0,0,"-",0,0,0,0,0,0,0,0,0,0,0,"-",0,0,0,0,0,0,0,0,0,0,0,0,0,0,0,0,0,0,0,0,0,0,0,0,0,0,"-",0,0,0,0,0,0,0,0,0,0,0,0,0,0,0,0,0,0,0,0,0,0]
["2022-10-30","Arsenal",5,0,"Nottingham Forest","14:00:00",null,5,5,5,5,5,5,5,5,5,5,5,5,5,5,5,"-",5,5,5,5,5,5,5,5,5,5,5,"-",5,5,5,5,5,5,5,5,5,5,5,5,5,5,5,5,5,5,5,5,5,5,5,5,5,5,"-",5,5,5,5,5,5,5,5,5,5,5,5,5,5,5,5,5,5,0,5,5,5]
["2022-10-30","Man Utd",1,0,"West Ham","16:30:00",null,5,5,5,0,0,5,5,5,5,5,0,5,5,5,10,"-",5,5,5,0,5,5,5,5,5,0,5,"-",5,5,5,0,5,5,5,5,5,5,5,0,5,10,5,5,5,5,5,10,5,5,5,10,5,5,"-",5,5,0,5,0,10,5,5,5,5,5,5,10,5,5,10,5,5,0,10,5,10]
[]
["Golden Boots"]
["Bruno Fernandes - Man United",null,null,{"$f":"COUNT(G64:GV64)","v":3},{"$f":"0+0+0+1+0+0","v":1},null,null,null,null,null,null,null,null,null,null,null,null,null,null,null,null,null,null,{"$f":"2*$E64","v":2},null,null,null,null,null,null,null,null,null,null,{"$f":"2*$E64","v":2},null,null,null,null,null,null,null,null,null,null,null,null,null,{"$f":"2*$E64","v":2}]
["Diogo Jota - Liverpool",null,null,1,{"$f":"0+0+0+0+0+0","v":0},null,null,null,null,null,null,null,null,null,null,null,null,null,null,null,null,null,null,null,null,null,null,null,null,null,null,null,null,null,null,null,null,null,null,null,null,null,null,null,null,null,null,null,null,null,null,null,null,null,null,null,null,null,null,null,null,null,null,null,null,null,null,null,null,null,null,null,null,null,{"$f":"2*$E65","v":0}]
["Harry Kane - Tottenham",null,null,52,{"$f":"1+1+1+0+1+0","v":4},null,null,{"$f":"2*$E66","v":8},8,8,8,8,8,8,8,null,8,null,{"$f":"2*$E66","v":8},null,{"$f":"2*$E66","v":8},{"$f":"2*$E66","v":8},{"$f":"2*$E66","v":8},{"$f":"2*$E66","v":8},{"$f":"2*$E66","v":8},{"$f":"2*$E66","v":8},8,8,8,8,8,8,null,{"$f":"2*$E66","v":8},null,{"$f":"2*$E66","v":8},null,{"$f":"2*$E66","v":8},8,8,8,8,{"$f":"2*$E66","v":8},8,null,8,null,{"$f":"2*$E66","v":8},8,{"$f":"2*$E66","v":8},null,null,null,null,{"$f":"2*$E66","v":8},{"$f":"2*$E66","v":8},null,null,{"$f":"2*$E66","v":8},{"$f":"2*$E66","v":8},{"$f":"2*$E66","v":8},null,null,null,{"$f":"2*$E66","v":8},null,{"$f":"2*$E66","v":8},{"$f":"2*$E66","v":8},{"$f":"2*$E66","v":8},null,{"$f":"2*$E66","v":8},null,{"$f":"2*$E66","v":8},{"$f":"2*$E66","v":8},null,null,{"$f":"2*$E66","v":8},null,{"$f":"2*$E66","v":8},{"$f":"2*$E66","v":8},null,null,{"$f":"2*$E66","v":8},{"$f":"2*$E66","v":8}]
["Kevin de Bruyne - Man City",null,null,4,{"$f":"0+0+0+1+1","v":2},null,null,null,null,null,{"$f":"2*$E67","v":4},null,null,null,null,null,null,null,null,null,null,null,null,null,null,null,null,null,null,null,null,null,null,null,null,null,null,null,null,null,null,null,null,null,null,null,null,null,null,null,null,null,{"$f":"2*$E67","v":4},null,null,null,null,null,null,null,null,null,null,{"$f":"2*$E67","v":4},null,null,null,null,null,null,null,null,null,null,null,null,null,{"$f":"2*$E67","v":4}]
["Mohamed Salah - Liverpool",null,null,69,{"$f":"0+0+1+0+0+1","v":2},null,null,{"$f":"2*$E68","v":4},{"$f":"2*$E68","v":4},{"$f":"2*$E68","v":4},null,{"$f":"2*$E68","v":4},4,4,4,4,4,4,4,4,4,4,4,null,{"$f":"2*$E68","v":4},null,{"$f":"2*$E68","v":4},{"$f":"2*$E68","v":4},{"$f":"2*$E68","v":4},{"$f":"2*$E68","v":4},{"$f":"2*$E68","v":4},{"$f":"2*$E68","v":4},4,{"$f":"2*$E68","v":4},null,4,4,4,4,4,4,4,{"$f":"2*$E68","v":4},{"$f":"2*$E68","v":4},{"$f":"2*$E68","v":4},4,{"$f":"2*$E68","v":4},{"$f":"2*$E68","v":4},null,{"$f":"2*$E68","v":4},{"$f":"2*$E68","v":4},{"$f":"2*$E68","v":4},{"$f":"2*$E68","v":4},{"$f":"2*$E68","v":4},{"$f":"2*$E68","v":4},null,{"$f":"2*$E68","v":4},{"$f":"2*$E68","v":4},{"$f":"2*$E68","v":4},{"$f":"2*$E68","v":4},4,{"$f":"2*$E68","v":4},4,{"$f":"2*$E68","v":4},{"$f":"2*$E68","v":4},4,4,null,{"$f":"2*$E68","v":4},4,null,{"$f":"2*$E68","v":4},4,4,4,4,4,{"$f":"2*$E68","v":4},{"$f":"2*$E68","v":4},4,4,4,4,4]
["Son Heung-min - Tottenham",null,null,23,{"$f":"0+0+0+0+0+0","v":0},null,null,null,null,null,null,null,null,null,null,{"$f":"2*$E69","v":0},null,{"$f":"2*$E69","v":0},null,{"$f":"2*$E69","v":0},null,null,null,null,null,{"$f":"2*$E69","v":0},null,null,null,null,null,null,{"$f":"2*$E69","v":0},null,{"$f":"2*$E69","v":0},null,{"$f":"2*$E69","v":0},null,null,null,null,null,null,null,{"$f":"2*$E69","v":0},null,null,null,null,null,{"$f":"2*$E69","v":0},{"$f":"2*$E69","v":0},null,{"$f":"2*$E69","v":0},null,{"$f":"2*$E69","v":0},{"$f":"2*$E69","v":0},{"$f":"2*$E69","v":0},null,null,null,{"$f":"2*$E69","v":0},{"$f":"2*$E69","v":0},null,null,null,null,{"$f":"2*$E69","v":0},null,{"$f":"2*$E69","v":0},{"$f":"2*$E69","v":0},{"$f":"2*$E69","v":0},null,null,null,{"$f":"2*$E69","v":0},null,null,null,null,{"$f":"2*$E69","v":0},{"$f":"2*$E69","v":0}]
["Wilfried Zaha - Crystal Palace",null,null,2,{"$f":"0+0+0+1+0+0","v":1},null,null,null,null,null,null,null,null,null,null,null,null,null,null,null,null,null,null,null,null,null,null,null,null,null,null,null,null,null,null,null,null,null,null,null,null,null,null,null,null,null,{"$f":"2*$E70","v":2},null,null,null,null,null,null,null,null,null,null,null,null,null,null,null,null,null,null,{"$f":"2*$E70","v":2}]
[]
["New Kids On The Block 102"]
["Darwin Nunez - Liverpool",null,null,{"$f":"COUNT(G73:GV73)","v":9},{"$f":"0+1+0+1+0+0","v":2},null,null,null,null,{"$f":"2*$E73","v":4},null,null,null,null,{"$f":"2*$E73","v":4},null,null,{"$f":"2*$E73","v":4},null,null,{"$f":"2*$E73","v":4},null,null,null,null,null,null,null,null,null,null,null,null,null,null,null,null,null,null,null,null,null,null,null,null,null,null,null,null,null,null,{"$f":"2*$E73","v":4},null,{"$f":"2*$E73","v":4},null,null,null,null,null,null,null,null,null,{"$f":"2*$E73","v":4},null,null,null,null,null,null,null,null,null,null,null,null,null,{"$f":"2*$E73","v":4},null,null,{"$f":"2*$E73","v":4}]
["Erling Haaland - Man City",null,null,{"$f":"COUNT(G74:GV74)","v":52},{"$f":"3+1+0+2+0","v":6},null,null,{"$f":"2*$E74","v":12},{"$f":"2*$E74","v":12},null,{"$f":"2*$E74","v":12},{"$f":"2*$E74","v":12},{"$f":"2*$E74","v":12},null,null,null,null,null,{"$f":"2*$E74","v":12},{"$f":"2*$E74","v":12},null,null,{"$f":"2*$E74","v":12},{"$f":"2*$E74","v":12},{"$f":"2*$E74","v":12},null,{"$f":"2*$E74","v":12},null,{"$f":"2*$E74","v":12},{"$f":"2*$E74","v":12},{"$f":"2*$E74","v":12},{"$f":"2*$E74","v":12},12,{"$f":"2*$E74","v":12},null,12,12,12,12,12,null,12,{"$f":"2*$E74","v":12},{"$f":"2*$E74","v":12},null,12,null,{"$f":"2*$E74","v":12},12,{"$f":"2*$E74","v":12},12,null,null,null,{"$f":"2*$E74","v":12},12,12,12,12,12,12,null,null,null,{"$f":"2*$E74","v":12},null,{"$f":"2*$E74","v":12},12,12,12,12,12,12,null,{"$f":"2*$E74","v":12},{"$f":"2*$E74","v":12},{"$f":"2*$E74","v":12},null,{"$f":"2*$E74","v":12},{"$f":"2*$E74","v":12},null,null,{"$f":"2*$E74","v":12},{"$f":"2*$E74","v":12}]
["Gabriel Jesus - Arsenal",null,null,{"$f":"COUNT(G75:GV75)","v":13},{"$f":"1+0+0+0+0","v":1},null,null,null,null,null,null,null,null,{"$f":"2*$E75","v":2},null,{"$f":"2*$E75","v":2},{"$f":"2*$E75","v":2},null,null,null,null,null,null,null,null,{"$f":"2*$E75","v":2},null,{"$f":"2*$E75","v":2},null,null,null,null,null,null,{"$f":"2*$E75","v":2},null,null,null,null,null,{"$f":"2*$E75","v":2},null,null,null,null,null,{"$f":"2*$E75","v":2},null,null,null,null,null,{"$f":"2*$E75","v":2},null,null,null,null,null,null,null,null,{"$f":"2*$E75","v":2},{"$f":"2*$E75","v":2},null,null,null,null,null,null,null,null,null,null,{"$f":"2*$E75","v":2},null,null,null,null,null,null,null,{"$f":"2*$E75","v":2}]
["Raheem Sterling - Chelsea",null,null,{"$f":"COUNT(G76:GV76)","v":3},{"$f":"0+0+0+0+0+0","v":0},null,null,null,null,null,null,null,null,null,null,null,null,null,null,null,null,{"$f":"2*$E76","v":0},null,null,null,null,null,null,null,null,null,null,null,null,null,null,null,null,null,null,null,null,null,null,{"$f":"2*$E76","v":0},null,null,null,null,null,null,null,null,null,null,null,null,null,null,null,null,null,null,null,null,{"$f":"2*$E76","v":0}]
[]
["Total Points - October",null,null,null,null,null,null,{"$f":"SUM(H$3:H77)","v":224},{"$f":"SUM(I$3:I77)","v":189},{"$f":"SUM(J$3:J77)","v":196},{"$f":"SUM(K$3:K77)","v":139},{"$f":"SUM(L$3:L77)","v":184},{"$f":"SUM(M$3:M77)","v":204},{"$f":"SUM(N$3:N77)","v":194},{"$f":"SUM(O$3:O77)","v":216},{"$f":"SUM(P$3:P77)","v":196},{"$f":"SUM(Q$3:Q77)","v":209},{"$f":"SUM(R$3:R77)","v":193},{"$f":"SUM(S$3:S77)","v":219},{"$f":"SUM(T$3:T77)","v":196},{"$f":"SUM(U$3:U77)","v":181},{"$f":"SUM(V$3:V77)","v":152},{"$f":"SUM(W$3:W77)","v":24},{"$f":"SUM(X$3:X77)","v":187},{"$f":"SUM(Y$3:Y77)","v":209},{"$f":"SUM(Z$3:Z77)","v":155},{"$f":"SUM(AA$3:AA77)","v":194},{"$f":"SUM(AB$3:AB77)","v":204},{"$f":"SUM(AC$3:AC77)","v":189},{"$f":"SUM(AD$3:AD77)","v":164},{"$f":"SUM(AE$3:AE77)","v":234},{"$f":"SUM(AF$3:AF77)","v":184},{"$f":"SUM(AG$3:AG77)","v":171},{"$f":"SUM(AH$3:AH77)","v":244},{"$f":"SUM(AI$3:AI77)","v":119},{"$f":"SUM(AJ$3:AJ77)","v":219},{"$f":"SUM(AK$3:AK77)","v":211},{"$f":"SUM(AL$3:AL77)","v":149},{"$f":"SUM(AM$3:AM77)","v":194},{"$f":"SUM(AN$3:AN77)","v":214},{"$f":"SUM(AO$3:AO77)","v":164},{"$f":"SUM(AP$3:AP77)","v":149},{"$f":"SUM(AQ$3:AQ77)","v":259},{"$f":"SUM(AR$3:AR77)","v":214},{"$f":"SUM(AS$3:AS77)","v":214},{"$f":"SUM(AT$3:AT77)","v":229},{"$f":"SUM(AU$3:AU77)","v":183},{"$f":"SUM(AV$3:AV77)","v":239},{"$f":"SUM(AW$3:AW77)","v":187},{"$f":"SUM(AX$3:AX77)","v":204},{"$f":"SUM(AY$3:AY77)","v":136},{"$f":"SUM(AZ$3:AZ77)","v":173},{"$f":"SUM(BA$3:BA77)","v":190},{"$f":"SUM(BB$3:BB77)","v":188},{"$f":"SUM(BC$3:BC77)","v":214},{"$f":"SUM(BD$3:BD77)","v":190},{"$f":"SUM(BE$3:BE77)","v":151},{"$f":"SUM(BF$3:BF77)","v":181},{"$f":"SUM(BG$3:BG77)","v":229},{"$f":"SUM(BH$3:BH77)","v":199},{"$f":"SUM(BI$3:BI77)","v":194},{"$f":"SUM(BJ$3:BJ77)","v":66},{"$f":"SUM(BK$3:BK77)","v":176},{"$f":"SUM(BL$3:BL77)","v":137},{"$f":"SUM(BM$3:BM77)","v":189},{"$f":"SUM(BN$3:BN77)","v":171},{"$f":"SUM(BO$3:BO77)","v":184},{"$f":"SUM(BP$3:BP77)","v":170},{"$f":"SUM(BQ$3:BQ77)","v":199},{"$f":"SUM(BR$3:BR77)","v":216},{"$f":"SUM(BS$3:BS77)","v":195},{"$f":"SUM(BT$3:BT77)","v":216},{"$f":"SUM(BU$3:BU77)","v":169},{"$f":"SUM(BV$3:BV77)","v":189},{"$f":"SUM(BW$3:BW77)","v":201},{"$f":"SUM(BX$3:BX77)","v":161},{"$f":"SUM(BY$3:BY77)","v":219},{"$f":"SUM(BZ$3:BZ77)","v":167},{"$f":"SUM(CA$3:CA77)","v":219},{"$f":"SUM(CB$3:CB77)","v":184},{"$f":"SUM(CC$3:CC77)","v":93},{"$f":"SUM(CD$3:CD77)","v":156},{"$f":"SUM(CE$3:CE77)","v":219},{"$f":"SUM(CF$3:CF77)","v":214}]

{"sheet":"November","index":4,"n_rows":39,"n_cols":84,"rows_kept":39,"cut":false,"hidden":false,"merged":[[1,1,1,4]]}
[null,null,null,null,null,null,null,"Aidan Scanlon","Aidan White","Anastas Popov","Andrew Keohan","Andy Dunne","Bobby Hynes","Brendan Maguire","Brian Haughton","Brian Mullen","Brian Prendergast","Caroline Carroll","Cathal Thornton","Chris Keohan","Christina Morgan","Ciara Walsh","Ciaran Healy","Ciaran O'Hart","Ciaran Rooney","Colm Cahill","Con McSweeney","Conor MacMahon","Craig Calvert","Darragh Kenny","Dave McGinley","David Cooney","David Lavelle","Dean Kelly","Derek McDonald","Dylan Delaney","Dylan O'Riordan","Eoghan Farrelly","Frank McSweeney","Gareth Pierpoint","Gary Donnelly","Gary Fitzpatrick","Gary McGurk","Gavin Morgan","Gerard McCluskey","Gerry Draper","Gerry Moore","Graham Pierpoint","Ian McSweeney","James Keville","Javier Suarez","Jenny Behan","Joe Behan","Joe Turner","John Brophy","John Hempenstall","John Massey","Johno Percy","Jonathan Fox","Joseph Kavanagh","Keith Ryan","Kieran Killeen","Liam Keohan","Lionel Knott","Micheal Joyce","Monica Collins","Niall Carroll","Niall Gregory","Paul Moore","Paul Prendergast","Phil Doyle","Philip Jordan","Richard Johnston","Robert Hynes","Roisin Joyce","Ronan Rafferty","Rory Ellard","Sarah Coward","Sean Cleary","Sean O'Mairtin","Shane Finnan","Shane Hempenstall","Simon Scanlon","Tommy Hamill"]
["Date","Teams",null,null,null,"Time"]
["2022-11-05","Leeds Utd",4,3,"Bournemouth","15:00:00",null,5,5,5,"-",5,5,5,0,5,5,5,0,5,5,5,"-",5,5,5,5,0,0,5,5,5,0,5,5,5,5,5,5,5,5,0,5,5,5,5,5,5,5,5,"-",5,5,5,0,5,5,5,5,0,5,"-",5,5,5,0,5,5,0,5,5,5,5,5,5,5,0,5,5,5,"-",5,5,5]
["2022-11-05","Man City",2,1,"Fulham","15:00:00",null,5,5,5,"-",5,5,5,5,5,5,5,5,5,0,10,"-",5,5,5,5,5,5,5,5,5,5,5,5,5,5,5,5,5,5,5,5,5,10,5,0,5,5,5,"-",5,5,5,5,5,5,5,5,5,5,"-",5,5,5,5,5,5,5,5,5,5,5,5,5,5,5,5,5,5,"-",5,10,5]
["2022-11-05","Nottingham Forest",2,2,"Brentford","15:00:00",null,5,0,0,"-",5,0,5,5,5,0,0,0,5,0,5,"-",5,5,5,5,0,0,0,5,5,0,5,5,5,5,0,5,5,0,0,5,5,0,5,5,5,0,5,"-",10,5,0,5,5,5,0,0,5,0,"-",0,5,5,0,5,0,0,0,5,0,0,5,0,0,0,5,0,10,"-",0,0,0]
["2022-11-05","Wolves",2,3,"Brighton","15:00:00",null,10,5,5,"-",0,5,5,0,5,0,5,0,5,0,5,"-",5,5,0,5,0,5,0,0,0,5,5,5,5,5,5,5,5,5,5,0,5,0,5,0,5,5,0,"-",5,5,5,5,5,5,5,5,5,5,"-",5,5,0,5,5,0,5,0,5,5,0,5,5,5,5,5,5,5,"-",5,0,0]
["2022-11-05","Everton",0,2,"Leicester","17:30:00",null,0,0,0,"-",0,0,0,0,0,0,0,5,0,0,0,"-",0,0,0,0,0,0,0,0,0,5,0,0,0,0,0,0,0,0,0,0,0,0,0,0,0,0,0,0,0,0,0,0,0,0,0,0,0,0,"-",5,5,5,0,0,0,0,0,5,0,0,0,0,5,0,0,0,0,"-",0,0,0]
["2022-11-06","Chelsea",0,1,"Arsenal","12:00:00",null,0,0,0,"-",0,0,5,0,5,0,0,5,5,5,0,"-",0,5,0,5,5,0,5,0,0,5,0,0,0,5,0,0,10,0,0,0,5,0,0,5,0,0,0,5,0,10,0,0,0,0,5,0,0,0,"-",5,0,5,0,0,0,0,5,5,5,5,0,5,0,0,0,0,0,"-",0,0,0]
["2022-11-06","Aston Villa",3,1,"Man Utd","14:00:00",null,0,0,0,"-",0,0,0,0,0,0,0,0,0,0,0,"-",0,0,0,0,0,0,0,0,5,0,0,0,0,0,0,0,0,0,0,0,0,0,0,0,0,0,0,0,0,0,0,5,0,0,0,0,0,0,"-",0,0,0,0,0,0,0,0,0,0,0,0,0,0,0,0,0,0,"-",0,5,0]
["2022-11-06","Southampton",1,4,"Newcastle","14:00:00",null,5,5,5,"-",5,0,0,5,5,5,5,5,5,5,5,"-",0,5,5,5,0,5,0,5,5,5,5,0,5,5,5,5,5,5,5,5,5,0,5,0,5,5,5,5,5,0,5,5,5,5,5,5,5,5,"-",5,5,5,5,5,5,5,5,5,5,5,0,5,0,5,0,5,5,"-",5,0,5]
["2022-11-06","West Ham",1,2,"Crystal Palace","14:00:00",null,0,0,0,"-",0,0,0,0,0,0,0,0,0,0,0,"-",0,0,0,0,0,0,0,0,0,0,0,0,0,10,0,0,0,0,10,0,0,5,0,0,0,0,10,5,0,0,0,0,0,0,0,0,0,0,"-",0,0,0,0,0,0,0,0,0,0,0,0,0,0,0,5,0,0,"-",0,0,0]
["2022-11-06","Spurs",1,2,"Liverpool","16:30:00",null,0,0,0,"-",10,10,0,10,0,0,0,0,10,5,0,"-",0,10,0,10,10,0,0,0,0,5,10,0,0,5,0,10,5,5,5,5,0,5,10,0,0,10,0,5,0,0,5,0,0,0,0,5,10,0,"-",5,5,10,0,0,0,5,10,0,10,5,10,0,0,10,10,0,10,"-",0,0,0]
["2022-11-12","Man City",1,2,"Brentford","12:30:00",null,0,0,0,"-",0,0,0,0,0,0,0,0,0,0,0,"-",0,0,0,0,0,0,0,0,0,0,0,0,0,0,0,0,0,0,0,0,0,0,0,0,0,0,0,"-",0,0,0,5,0,0,0,0,0,0,"-",0,0,0,0,0,0,0,0,0,0,0,0,0,0,0,0,0,0,"-",0,0,0]
["2022-11-12","Bournemouth",3,0,"Everton","15:00:00",null,0,0,0,"-",0,0,5,0,0,5,5,0,0,5,0,"-",0,0,5,0,0,5,5,0,0,5,0,0,5,0,0,0,0,0,5,0,5,5,0,5,0,0,5,"-",5,0,5,0,5,0,0,5,5,0,"-",0,5,5,0,5,5,0,0,5,0,0,0,0,0,0,0,0,5,"-",0,0,0]
["2022-11-12","Liverpool",3,1,"Southampton","15:00:00",null,10,5,5,"-",5,5,0,0,5,5,5,5,5,5,5,"-",5,5,5,5,10,5,5,5,5,10,5,0,5,5,10,5,5,5,5,5,5,5,5,5,5,5,5,"-",5,5,5,5,5,10,5,5,5,5,"-",10,5,5,5,5,0,5,5,5,5,5,5,5,10,10,5,0,5,"-",5,0,5]
["2022-11-12","Nottingham Forest",1,0,"Crystal Palace","15:00:00",null,0,0,0,"-",0,0,5,0,0,10,0,0,0,5,0,"-",0,0,5,0,0,0,0,0,0,10,0,0,0,0,0,5,0,0,0,10,0,0,0,0,0,0,0,"-",5,0,10,0,5,5,0,0,0,0,"-",0,0,0,0,0,5,0,0,0,0,10,0,0,0,0,0,0,0,"-",5,0,0]
["2022-11-12","Spurs",4,3,"Leeds Utd","15:00:00",null,5,5,5,"-",5,5,5,0,5,5,5,5,5,0,5,"-",5,5,5,5,0,5,5,5,5,5,5,5,5,0,5,5,5,5,5,5,5,5,5,5,5,5,5,"-",5,5,5,5,5,5,5,5,5,5,"-",0,5,5,5,5,5,5,5,5,5,0,5,5,5,5,5,5,5,"-",5,5,0]
["2022-11-12","West Ham",0,2,"Leicester","15:00:00",null,0,0,0,"-",0,0,0,0,0,0,5,10,0,0,0,"-",0,0,0,0,0,10,0,0,0,0,0,0,0,0,0,0,0,0,5,0,0,5,5,0,0,0,0,"-",0,0,0,0,0,0,0,0,0,0,"-",5,5,0,0,0,0,0,5,0,5,0,0,0,5,0,0,0,0,"-",10,0,0]
["2022-11-12","Newcastle",1,0,"Chelsea","17:30:00",null,5,5,5,"-",5,0,5,0,5,5,5,5,5,0,5,"-",5,5,5,0,5,5,5,0,0,0,0,0,0,5,5,0,0,0,0,0,5,0,5,5,5,0,5,"-",5,0,10,0,5,5,5,5,10,10,"-",5,0,0,5,5,0,0,5,5,0,0,0,0,5,0,5,5,5,"-",5,5,0]
["2022-11-12","Wolves",0,2,"Arsenal","19:45:00",null,5,10,10,"-",5,5,10,0,10,0,10,5,10,0,5,"-",10,10,0,10,5,10,5,5,10,5,10,5,10,10,10,10,10,5,5,0,5,5,5,5,10,10,5,"-",0,10,5,10,0,5,10,5,5,10,"-",5,10,5,10,5,0,5,10,5,10,5,5,5,0,10,5,10,5,"-",5,10,5]
["2022-11-13","Brighton",1,2,"Aston Villa","14:00:00",null,0,0,0,"-",0,0,0,0,0,0,0,10,10,0,0,"-",0,0,0,0,0,0,0,0,0,0,0,0,0,5,0,0,0,0,0,5,0,0,0,0,0,0,0,"-","-",0,0,0,0,0,0,0,0,0,"-",0,0,0,0,0,0,0,0,0,0,0,0,0,0,0,5,0,0,"-",0,0,10]
["2022-11-13","Fulham",1,2,"Man Utd","16:30:00",null,5,5,10,"-",0,10,5,10,5,10,10,10,10,0,5,"-",5,5,0,10,10,10,10,10,0,5,5,5,10,0,5,0,10,5,0,5,0,10,10,0,0,5,10,"-","-",5,10,0,0,10,10,5,5,5,"-",5,10,0,10,5,0,0,10,5,5,10,0,10,5,5,10,5,10,"-",5,5,0]
[]
["Golden Boots"]
["Bruno Fernandes - Man United",null,null,{"$f":"COUNT(G25:GV25)","v":3},{"$f":"0+0","v":0},null,null,null,null,null,null,null,null,null,null,null,null,null,null,null,null,null,null,{"$f":"2*$E25","v":0},null,null,null,null,null,null,null,null,null,null,{"$f":"2*$E25","v":0},null,null,null,null,null,null,null,null,null,null,null,null,null,{"$f":"2*$E25","v":0}]
["Diogo Jota - Liverpool",null,null,1,{"$f":"0+0","v":0},null,null,null,null,null,null,null,null,null,null,null,null,null,null,null,null,null,null,null,null,null,null,null,null,null,null,null,null,null,null,null,null,null,null,null,null,null,null,null,null,null,null,null,null,null,null,null,null,null,null,null,null,null,null,null,null,null,null,null,null,null,null,null,null,null,null,null,null,null,{"$f":"2*$E26","v":0}]
["Harry Kane - Tottenham",null,null,52,{"$f":"1+1","v":2},null,null,{"$f":"2*$E27","v":4},4,4,4,4,4,4,4,null,4,null,{"$f":"2*$E27","v":4},null,{"$f":"2*$E27","v":4},{"$f":"2*$E27","v":4},{"$f":"2*$E27","v":4},{"$f":"2*$E27","v":4},{"$f":"2*$E27","v":4},{"$f":"2*$E27","v":4},4,4,4,4,4,4,null,{"$f":"2*$E27","v":4},null,{"$f":"2*$E27","v":4},null,{"$f":"2*$E27","v":4},4,4,4,4,{"$f":"2*$E27","v":4},4,null,4,null,{"$f":"2*$E27","v":4},4,{"$f":"2*$E27","v":4},null,null,null,null,{"$f":"2*$E27","v":4},{"$f":"2*$E27","v":4},null,null,{"$f":"2*$E27","v":4},{"$f":"2*$E27","v":4},{"$f":"2*$E27","v":4},null,null,null,{"$f":"2*$E27","v":4},null,{"$f":"2*$E27","v":4},{"$f":"2*$E27","v":4},{"$f":"2*$E27","v":4},null,{"$f":"2*$E27","v":4},null,{"$f":"2*$E27","v":4},{"$f":"2*$E27","v":4},null,null,{"$f":"2*$E27","v":4},null,{"$f":"2*$E27","v":4},{"$f":"2*$E27","v":4},null,null,{"$f":"2*$E27","v":4},{"$f":"2*$E27","v":4}]
["Kevin de Bruyne - Man City",null,null,4,{"$f":"0+0","v":0},null,null,null,null,null,{"$f":"2*$E28","v":0},null,null,null,null,null,null,null,null,null,null,null,null,null,null,null,null,null,null,null,null,null,null,null,null,null,null,null,null,null,null,null,null,null,null,null,null,null,null,null,null,null,{"$f":"2*$E28","v":0},null,null,null,null,null,null,null,null,null,null,{"$f":"2*$E28","v":0},null,null,null,null,null,null,null,null,null,null,null,null,null,{"$f":"2*$E28","v":0}]
["Mohamed Salah - Liverpool",null,null,69,{"$f":"2+0","v":2},null,null,{"$f":"2*$E29","v":4},{"$f":"2*$E29","v":4},{"$f":"2*$E29","v":4},null,{"$f":"2*$E29","v":4},4,4,4,4,4,4,4,4,4,4,4,null,{"$f":"2*$E29","v":4},null,{"$f":"2*$E29","v":4},{"$f":"2*$E29","v":4},{"$f":"2*$E29","v":4},{"$f":"2*$E29","v":4},{"$f":"2*$E29","v":4},{"$f":"2*$E29","v":4},4,{"$f":"2*$E29","v":4},null,4,4,4,4,4,4,4,{"$f":"2*$E29","v":4},{"$f":"2*$E29","v":4},{"$f":"2*$E29","v":4},4,{"$f":"2*$E29","v":4},{"$f":"2*$E29","v":4},null,{"$f":"2*$E29","v":4},{"$f":"2*$E29","v":4},{"$f":"2*$E29","v":4},{"$f":"2*$E29","v":4},{"$f":"2*$E29","v":4},{"$f":"2*$E29","v":4},null,{"$f":"2*$E29","v":4},{"$f":"2*$E29","v":4},{"$f":"2*$E29","v":4},{"$f":"2*$E29","v":4},4,{"$f":"2*$E29","v":4},4,{"$f":"2*$E29","v":4},{"$f":"2*$E29","v":4},4,4,null,{"$f":"2*$E29","v":4},4,null,{"$f":"2*$E29","v":4},4,4,4,4,4,{"$f":"2*$E29","v":4},{"$f":"2*$E29","v":4},4,4,4,4,4]
["Son Heung-min - Tottenham",null,null,23,{"$f":"0+0","v":0},null,null,null,null,null,null,null,null,null,null,{"$f":"2*$E30","v":0},null,{"$f":"2*$E30","v":0},null,{"$f":"2*$E30","v":0},null,null,null,null,null,{"$f":"2*$E30","v":0},null,null,null,null,null,null,{"$f":"2*$E30","v":0},null,{"$f":"2*$E30","v":0},null,{"$f":"2*$E30","v":0},null,null,null,null,null,null,null,{"$f":"2*$E30","v":0},null,null,null,null,null,{"$f":"2*$E30","v":0},{"$f":"2*$E30","v":0},null,{"$f":"2*$E30","v":0},null,{"$f":"2*$E30","v":0},{"$f":"2*$E30","v":0},{"$f":"2*$E30","v":0},null,null,null,{"$f":"2*$E30","v":0},{"$f":"2*$E30","v":0},null,null,null,null,{"$f":"2*$E30","v":0},null,{"$f":"2*$E30","v":0},{"$f":"2*$E30","v":0},{"$f":"2*$E30","v":0},null,null,null,{"$f":"2*$E30","v":0},null,null,null,null,{"$f":"2*$E30","v":0},{"$f":"2*$E30","v":0}]
["Wilfried Zaha - Crystal Palace",null,null,2,{"$f":"1+0","v":1},null,null,null,null,null,null,null,null,null,null,null,null,null,null,null,null,null,null,null,null,null,null,null,null,null,null,null,null,null,null,null,null,null,null,null,null,null,null,null,null,null,{"$f":"2*$E31","v":2},null,null,null,null,null,null,null,null,null,null,null,null,null,null,null,null,null,null,{"$f":"2*$E31","v":2}]
[]
["New Kids On The Block 102"]
["Darwin Nunez - Liverpool",null,null,{"$f":"COUNT(G34:GV34)","v":9},{"$f":"0+2","v":2},null,null,null,null,{"$f":"2*$E34","v":4},null,null,null,null,{"$f":"2*$E34","v":4},null,null,{"$f":"2*$E34","v":4},null,null,{"$f":"2*$E34","v":4},null,null,null,null,null,null,null,null,null,null,null,null,null,null,null,null,null,null,null,null,null,null,null,null,null,null,null,null,null,null,{"$f":"2*$E34","v":4},null,{"$f":"2*$E34","v":4},null,null,null,null,null,null,null,null,null,{"$f":"2*$E34","v":4},null,null,null,null,null,null,null,null,null,null,null,null,null,{"$f":"2*$E34","v":4},null,null,{"$f":"2*$E34","v":4}]
["Erling Haaland - Man City",null,null,{"$f":"COUNT(G35:GV35)","v":52},{"$f":"1+0","v":1},null,null,{"$f":"2*$E35","v":2},{"$f":"2*$E35","v":2},null,{"$f":"2*$E35","v":2},{"$f":"2*$E35","v":2},{"$f":"2*$E35","v":2},null,null,null,null,null,{"$f":"2*$E35","v":2},{"$f":"2*$E35","v":2},null,null,{"$f":"2*$E35","v":2},{"$f":"2*$E35","v":2},{"$f":"2*$E35","v":2},null,{"$f":"2*$E35","v":2},null,{"$f":"2*$E35","v":2},{"$f":"2*$E35","v":2},{"$f":"2*$E35","v":2},{"$f":"2*$E35","v":2},2,{"$f":"2*$E35","v":2},null,2,2,2,2,2,null,2,{"$f":"2*$E35","v":2},{"$f":"2*$E35","v":2},null,2,null,{"$f":"2*$E35","v":2},2,{"$f":"2*$E35","v":2},2,null,null,null,{"$f":"2*$E35","v":2},2,2,2,2,2,2,null,null,null,{"$f":"2*$E35","v":2},null,{"$f":"2*$E35","v":2},2,2,2,2,2,2,null,{"$f":"2*$E35","v":2},{"$f":"2*$E35","v":2},{"$f":"2*$E35","v":2},null,{"$f":"2*$E35","v":2},{"$f":"2*$E35","v":2},null,null,{"$f":"2*$E35","v":2},{"$f":"2*$E35","v":2}]
["Gabriel Jesus - Arsenal",null,null,{"$f":"COUNT(G36:GV36)","v":13},{"$f":"0+0","v":0},null,null,null,null,null,null,null,null,{"$f":"2*$E36","v":0},null,{"$f":"2*$E36","v":0},{"$f":"2*$E36","v":0},null,null,null,null,null,null,null,null,{"$f":"2*$E36","v":0},null,{"$f":"2*$E36","v":0},null,null,null,null,null,null,{"$f":"2*$E36","v":0},null,null,null,null,null,{"$f":"2*$E36","v":0},null,null,null,null,null,{"$f":"2*$E36","v":0},null,null,null,null,null,{"$f":"2*$E36","v":0},null,null,null,null,null,null,null,null,{"$f":"2*$E36","v":0},{"$f":"2*$E36","v":0},null,null,null,null,null,null,null,null,null,null,{"$f":"2*$E36","v":0},null,null,null,null,null,null,null,{"$f":"2*$E36","v":0}]
["Raheem Sterling - Chelsea",null,null,{"$f":"COUNT(G37:GV37)","v":3},{"$f":"0+0","v":0},null,null,null,null,null,null,null,null,null,null,null,null,null,null,null,null,{"$f":"2*$E37","v":0},null,null,null,null,null,null,null,null,null,null,null,null,null,null,null,null,null,null,null,null,null,null,{"$f":"2*$E37","v":0},null,null,null,null,null,null,null,null,null,null,null,null,null,null,null,null,null,null,null,null,{"$f":"2*$E37","v":0}]
[]
["Total Points - November",null,null,null,null,null,null,{"$f":"SUM(H$3:H38)","v":70},{"$f":"SUM(I$3:I38)","v":60},{"$f":"SUM(J$3:J38)","v":67},{"$f":"SUM(K$3:K38)","v":6},{"$f":"SUM(L$3:L38)","v":60},{"$f":"SUM(M$3:M38)","v":60},{"$f":"SUM(N$3:N38)","v":68},{"$f":"SUM(O$3:O38)","v":47},{"$f":"SUM(P$3:P38)","v":64},{"$f":"SUM(Q$3:Q38)","v":63},{"$f":"SUM(R$3:R38)","v":73},{"$f":"SUM(S$3:S38)","v":80},{"$f":"SUM(T$3:T38)","v":91},{"$f":"SUM(U$3:U38)","v":47},{"$f":"SUM(V$3:V38)","v":63},{"$f":"SUM(W$3:W38)","v":10},{"$f":"SUM(X$3:X38)","v":56},{"$f":"SUM(Y$3:Y38)","v":80},{"$f":"SUM(Z$3:Z38)","v":49},{"$f":"SUM(AA$3:AA38)","v":80},{"$f":"SUM(AB$3:AB38)","v":58},{"$f":"SUM(AC$3:AC38)","v":75},{"$f":"SUM(AD$3:AD38)","v":60},{"$f":"SUM(AE$3:AE38)","v":55},{"$f":"SUM(AF$3:AF38)","v":55},{"$f":"SUM(AG$3:AG38)","v":76},{"$f":"SUM(AH$3:AH38)","v":70},{"$f":"SUM(AI$3:AI38)","v":35},{"$f":"SUM(AJ$3:AJ38)","v":70},{"$f":"SUM(AK$3:AK38)","v":76},{"$f":"SUM(AL$3:AL38)","v":65},{"$f":"SUM(AM$3:AM38)","v":70},{"$f":"SUM(AN$3:AN38)","v":80},{"$f":"SUM(AO$3:AO38)","v":53},{"$f":"SUM(AP$3:AP38)","v":65},{"$f":"SUM(AQ$3:AQ38)","v":65},{"$f":"SUM(AR$3:AR38)","v":65},{"$f":"SUM(AS$3:AS38)","v":64},{"$f":"SUM(AT$3:AT38)","v":80},{"$f":"SUM(AU$3:AU38)","v":46},{"$f":"SUM(AV$3:AV38)","v":60},{"$f":"SUM(AW$3:AW38)","v":61},{"$f":"SUM(AX$3:AX38)","v":75},{"$f":"SUM(AY$3:AY38)","v":26},{"$f":"SUM(AZ$3:AZ38)","v":63},{"$f":"SUM(BA$3:BA38)","v":59},{"$f":"SUM(BB$3:BB38)","v":83},{"$f":"SUM(BC$3:BC38)","v":60},{"$f":"SUM(BD$3:BD38)","v":56},{"$f":"SUM(BE$3:BE38)","v":71},{"$f":"SUM(BF$3:BF38)","v":66},{"$f":"SUM(BG$3:BG38)","v":65},{"$f":"SUM(BH$3:BH38)","v":75},{"$f":"SUM(BI$3:BI38)","v":65},{"$f":"SUM(BJ$3:BJ38)","v":4},{"$f":"SUM(BK$3:BK38)","v":69},{"$f":"SUM(BL$3:BL38)","v":83},{"$f":"SUM(BM$3:BM38)","v":70},{"$f":"SUM(BN$3:BN38)","v":56},{"$f":"SUM(BO$3:BO38)","v":65},{"$f":"SUM(BP$3:BP38)","v":36},{"$f":"SUM(BQ$3:BQ38)","v":45},{"$f":"SUM(BR$3:BR38)","v":76},{"$f":"SUM(BS$3:BS38)","v":71},{"$f":"SUM(BT$3:BT38)","v":71},{"$f":"SUM(BU$3:BU38)","v":65},{"$f":"SUM(BV$3:BV38)","v":53},{"$f":"SUM(BW$3:BW38)","v":56},{"$f":"SUM(BX$3:BX38)","v":56},{"$f":"SUM(BY$3:BY38)","v":65},{"$f":"SUM(BZ$3:BZ38)","v":78},{"$f":"SUM(CA$3:CA38)","v":55},{"$f":"SUM(CB$3:CB38)","v":85},{"$f":"SUM(CC$3:CC38)","v":8},{"$f":"SUM(CD$3:CD38)","v":64},{"$f":"SUM(CE$3:CE38)","v":55},{"$f":"SUM(CF$3:CF38)","v":45}]

{"sheet":"December","index":5,"n_rows":37,"n_cols":84,"rows_kept":37,"cut":false,"hidden":false,"merged":[[1,1,1,4]]}
[null,null,null,null,null,null,null,"Aidan Scanlon","Aidan White","Anastas Popov","Andrew Keohan","Andy Dunne","Bobby Hynes","Brendan Maguire","Brian Haughton","Brian Mullen","Brian Prendergast","Caroline Carroll","Cathal Thornton","Chris Keohan","Christina Morgan","Ciara Walsh","Ciaran Healy","Ciaran O'Hart","Ciaran Rooney","Colm Cahill","Con McSweeney","Conor MacMahon","Craig Calvert","Darragh Kenny","Dave McGinley","David Cooney","David Lavelle","Dean Kelly","Derek McDonald","Dylan Delaney","Dylan O'Riordan","Eoghan Farrelly","Frank McSweeney","Gareth Pierpoint","Gary Donnelly","Gary Fitzpatrick","Gary McGurk","Gavin Morgan","Gerard McCluskey","Gerry Draper","Gerry Moore","Graham Pierpoint","Ian McSweeney","James Keville","Javier Suarez","Jenny Behan","Joe Behan","Joe Turner","John Brophy","John Hempenstall","John Massey","Johno Percy","Jonathan Fox","Joseph Kavanagh","Keith Ryan","Kieran Killeen","Liam Keohan","Lionel Knott","Micheal Joyce","Monica Collins","Niall Carroll","Niall Gregory","Paul Moore","Paul Prendergast","Phil Doyle","Philip Jordan","Richard Johnston","Robert Hynes","Roisin Joyce","Ronan Rafferty","Rory Ellard","Sarah Coward","Sean Cleary","Sean O'Mairtin","Shane Finnan","Shane Hempenstall","Simon Scanlon","Tommy Hamill"]
["Date","Teams",null,null,null,"Time"]
["2022-12-26","Brentford",2,2,"Spurs","12:30:00",null,0,5,0,"-",0,5,5,0,0,0,0,0,0,0,0,"-",0,5,0,0,0,5,0,5,10,0,0,"-",0,0,0,0,5,0,0,5,5,0,10,5,5,0,0,"-",0,10,10,0,0,5,5,0,0,0,0,0,0,0,0,10,0,0,0,0,0,0,0,0,10,5,0,0,5,"-","-",0,5]
["2022-12-26","Crystal Palace",0,3,"Fulham","15:00:00",null,0,0,0,"-",0,0,0,0,0,0,0,0,0,5,0,"-",0,0,0,0,0,0,0,0,0,0,0,"-",0,0,0,0,0,0,0,0,0,0,0,0,0,0,0,0,0,0,0,0,0,0,0,0,0,5,0,0,0,5,0,0,0,0,0,0,0,0,0,0,0,0,0,0,0,"-","-",0,0]
["2022-12-26","Everton",1,2,"Wolves","15:00:00",null,0,0,0,"-",0,0,0,0,0,0,10,0,0,0,0,"-",0,0,0,0,0,0,0,0,0,0,0,"-",0,0,0,0,0,0,0,0,0,0,0,0,0,0,10,0,0,0,0,5,0,0,0,0,0,0,0,0,0,10,10,0,0,0,0,10,0,0,0,0,0,0,0,0,10,"-","-",0,0]
["2022-12-26","Leicester",0,3,"Newcastle","15:00:00",null,5,5,5,"-",0,0,5,0,5,0,5,0,5,5,0,"-",0,5,0,0,0,5,0,0,0,0,0,"-",5,5,5,5,5,0,0,0,5,0,5,0,5,0,0,5,0,5,5,5,0,0,5,5,5,5,5,5,0,0,5,5,0,5,5,5,0,5,0,5,0,5,0,5,0,"-","-",10,5]
["2022-12-26","Southampton",1,3,"Brighton","15:00:00",null,5,0,0,"-",0,5,0,0,5,0,0,0,0,0,0,"-",0,0,0,0,0,0,0,0,0,0,0,"-",0,5,0,5,0,0,5,0,0,0,0,5,5,5,5,0,0,0,0,0,0,0,0,5,0,5,5,5,5,0,0,0,0,5,0,10,5,5,0,5,0,5,0,5,5,"-","-",0,0]
["2022-12-26","Aston Villa",1,3,"Liverpool","17:30:00",null,5,5,5,"-",0,5,5,5,5,0,5,0,10,10,0,"-",5,5,5,5,0,5,5,5,0,0,10,"-",5,10,5,5,5,0,10,10,0,0,5,5,5,5,5,10,10,5,5,5,0,0,0,5,5,5,5,10,10,5,5,0,5,5,5,0,5,5,5,5,0,5,5,5,5,"-","-",5,0]
["2022-12-26","Arsenal",3,1,"West Ham","20:00:00",null,10,5,5,"-",5,5,5,5,5,5,5,5,5,5,10,"-",5,5,0,5,5,5,5,5,5,5,5,"-",0,10,5,5,5,5,5,0,5,5,5,5,5,5,5,5,0,5,5,5,5,0,5,5,0,10,0,5,5,5,0,5,0,5,5,5,5,5,0,5,5,5,5,5,5,"-","-",10,5]
["2022-12-27","Chelsea",2,0,"Bournemouth","17:30:00",null,5,10,10,"-",10,10,10,5,10,5,0,5,5,5,10,"-",10,10,5,10,5,5,10,10,10,5,10,"-",5,10,5,10,5,5,5,10,10,5,10,5,10,5,5,10,5,10,10,10,5,0,10,5,5,10,10,5,5,5,5,10,10,5,10,5,10,5,5,5,0,10,5,5,10,"-","-",5,5]
["2022-12-27","Man Utd",3,0,"Nottingham Forest","20:00:00",null,10,5,10,"-",5,10,5,5,5,5,5,5,5,10,5,"-",10,5,5,5,5,10,5,5,10,5,5,"-",5,5,10,5,5,5,10,10,10,5,5,5,10,5,5,5,10,5,5,10,5,"-",10,5,5,5,5,5,5,5,5,5,5,5,5,5,10,0,5,5,5,5,5,10,5,"-","-",5,5]
["2022-12-28","Leeds Utd",1,3,"Man City","20:00:00",null,5,10,10,"-",0,10,5,5,10,0,5,0,5,5,5,"-",10,5,5,5,0,5,0,10,10,0,5,"-",5,5,5,5,5,0,5,0,5,0,5,10,5,5,5,5,5,5,5,5,0,"-",5,5,5,5,0,5,10,10,5,5,10,5,5,5,5,5,10,10,5,5,5,5,10,"-","-",5,10]
["2022-12-30","West Ham",0,2,"Brentford","19:45:00",null,0,0,0,"-",0,0,0,0,0,0,5,0,0,0,10,"-",0,0,0,0,0,0,0,0,0,0,0,0,0,0,0,0,0,0,0,0,0,0,0,0,0,0,0,0,0,0,0,0,"-","-",0,0,0,0,0,0,0,0,0,0,0,0,0,0,0,0,0,0,0,0,0,0,0,"-","-",5,0]
["2022-12-30","Liverpool",2,1,"Leicester","20:00:00",null,10,5,5,"-",5,10,5,5,5,10,5,10,5,5,5,"-",10,5,5,5,10,5,5,5,5,5,5,10,5,5,5,5,5,10,10,5,5,10,5,5,5,10,5,5,"-",5,5,5,"-","-",10,5,5,5,5,5,5,5,0,5,10,5,5,5,5,5,10,5,5,5,10,5,5,"-","-",5,5]
["2022-12-31","Wolves",0,1,"Man Utd","12:30:00",null,5,5,5,"-",5,10,5,5,5,0,5,0,5,5,5,"-",5,5,5,5,0,10,5,5,10,5,10,5,5,5,5,5,5,0,0,0,10,0,5,5,0,5,5,5,5,10,0,0,"-","-",10,10,5,5,5,5,5,5,5,0,0,0,0,5,5,5,5,0,5,10,10,5,0,"-","-",5,10]
["2022-12-31","Bournemouth",0,2,"Crystal Palace","15:00:00",null,0,5,0,"-",5,0,0,0,0,0,0,0,0,0,5,"-",0,5,5,0,0,0,0,0,0,5,0,0,5,5,0,0,0,0,0,0,0,0,0,0,0,5,0,0,0,0,0,0,"-","-",0,5,0,0,0,0,0,0,0,0,0,0,0,0,0,0,0,0,0,5,0,0,0,"-","-",0,0]
["2022-12-31","Fulham",2,1,"Southampton","15:00:00",null,0,5,5,"-",0,10,0,0,5,10,5,10,5,5,0,"-",5,10,0,10,10,5,10,10,5,10,10,0,10,0,0,5,5,10,5,5,5,10,5,5,5,0,10,5,0,10,5,0,"-","-",10,5,0,5,0,10,5,0,0,5,10,5,0,10,10,0,10,10,5,10,5,0,5,"-","-",5,10]
["2022-12-31","Man City",1,1,"Everton","15:00:00",null,0,0,0,"-",0,0,0,0,0,0,0,0,0,0,0,"-",0,0,0,0,0,0,0,0,0,0,0,0,0,0,0,0,0,0,0,0,0,"-",0,0,0,0,0,0,0,0,0,0,"-","-",0,0,0,0,0,0,0,0,0,0,0,0,0,0,0,0,0,0,0,0,0,0,0,"-","-",0,0]
["2022-12-31","Newcastle",0,0,"Leeds Utd","15:00:00",null,0,0,0,"-",0,0,0,0,0,0,0,0,0,0,10,"-",0,0,0,0,0,0,0,0,0,0,0,0,0,0,0,0,0,0,0,0,0,"-",0,0,0,0,0,0,5,0,0,0,"-","-",0,0,0,0,5,0,0,5,0,0,0,0,0,0,0,5,0,0,0,0,5,0,0,"-","-",0,0]
["2022-12-31","Brighton",2,4,"Arsenal","17:30:00",null,5,5,5,"-",5,0,5,5,5,0,5,0,0,5,10,"-",5,5,0,5,0,5,5,0,0,5,5,0,5,5,5,5,5,0,0,5,5,"-",0,5,0,0,0,0,5,5,5,5,"-","-",0,5,0,5,5,5,0,5,0,5,5,5,5,0,5,5,5,5,0,5,5,5,0,"-","-",5,0]
[]
["Golden Boots"]
["Bruno Fernandes - Man United",null,null,{"$f":"COUNT(G23:GV23)","v":3},{"$f":"0+0","v":0},null,null,null,null,null,null,null,null,null,null,null,null,null,null,null,null,null,null,{"$f":"2*$E23","v":0},null,null,null,null,null,null,null,null,null,null,{"$f":"2*$E23","v":0},null,null,null,null,null,null,null,null,null,null,null,null,null,{"$f":"2*$E23","v":0}]
["Diogo Jota - Liverpool",null,null,1,{"$f":"0+0","v":0},null,null,null,null,null,null,null,null,null,null,null,null,null,null,null,null,null,null,null,null,null,null,null,null,null,null,null,null,null,null,null,null,null,null,null,null,null,null,null,null,null,null,null,null,null,null,null,null,null,null,null,null,null,null,null,null,null,null,null,null,null,null,null,null,null,null,null,null,null,{"$f":"2*$E24","v":0}]
["Harry Kane - Tottenham",null,null,52,{"$f":"1","v":1},null,null,{"$f":"2*$E25","v":2},2,2,2,2,2,2,2,null,2,null,{"$f":"2*$E25","v":2},null,{"$f":"2*$E25","v":2},{"$f":"2*$E25","v":2},{"$f":"2*$E25","v":2},{"$f":"2*$E25","v":2},{"$f":"2*$E25","v":2},{"$f":"2*$E25","v":2},2,2,2,2,2,2,null,{"$f":"2*$E25","v":2},null,{"$f":"2*$E25","v":2},null,{"$f":"2*$E25","v":2},2,2,2,2,{"$f":"2*$E25","v":2},2,null,2,null,{"$f":"2*$E25","v":2},2,{"$f":"2*$E25","v":2},null,null,null,null,{"$f":"2*$E25","v":2},{"$f":"2*$E25","v":2},null,null,{"$f":"2*$E25","v":2},{"$f":"2*$E25","v":2},{"$f":"2*$E25","v":2},null,null,null,{"$f":"2*$E25","v":2},null,{"$f":"2*$E25","v":2},{"$f":"2*$E25","v":2},{"$f":"2*$E25","v":2},null,{"$f":"2*$E25","v":2},null,{"$f":"2*$E25","v":2},{"$f":"2*$E25","v":2},null,null,{"$f":"2*$E25","v":2},null,{"$f":"2*$E25","v":2},{"$f":"2*$E25","v":2},null,null,{"$f":"2*$E25","v":2},{"$f":"2*$E25","v":2}]
["Kevin de Bruyne - Man City",null,null,4,{"$f":"0+0","v":0},null,null,null,null,null,{"$f":"2*$E26","v":0},null,null,null,null,null,null,null,null,null,null,null,null,null,null,null,null,null,null,null,null,null,null,null,null,null,null,null,null,null,null,null,null,null,null,null,null,null,null,null,null,null,{"$f":"2*$E26","v":0},null,null,null,null,null,null,null,null,null,null,{"$f":"2*$E26","v":0},null,null,null,null,null,null,null,null,null,null,null,null,null,{"$f":"2*$E26","v":0}]
["Mohamed Salah - Liverpool",null,null,69,{"$f":"1+0","v":1},null,null,{"$f":"2*$E27","v":2},{"$f":"2*$E27","v":2},{"$f":"2*$E27","v":2},null,{"$f":"2*$E27","v":2},2,2,2,2,2,2,2,2,2,2,2,null,{"$f":"2*$E27","v":2},null,{"$f":"2*$E27","v":2},{"$f":"2*$E27","v":2},{"$f":"2*$E27","v":2},{"$f":"2*$E27","v":2},{"$f":"2*$E27","v":2},{"$f":"2*$E27","v":2},2,{"$f":"2*$E27","v":2},null,2,2,2,2,2,2,2,{"$f":"2*$E27","v":2},{"$f":"2*$E27","v":2},{"$f":"2*$E27","v":2},2,{"$f":"2*$E27","v":2},{"$f":"2*$E27","v":2},null,{"$f":"2*$E27","v":2},{"$f":"2*$E27","v":2},{"$f":"2*$E27","v":2},{"$f":"2*$E27","v":2},{"$f":"2*$E27","v":2},{"$f":"2*$E27","v":2},null,{"$f":"2*$E27","v":2},{"$f":"2*$E27","v":2},{"$f":"2*$E27","v":2},{"$f":"2*$E27","v":2},2,{"$f":"2*$E27","v":2},2,{"$f":"2*$E27","v":2},{"$f":"2*$E27","v":2},2,2,null,{"$f":"2*$E27","v":2},2,null,{"$f":"2*$E27","v":2},2,2,2,2,2,{"$f":"2*$E27","v":2},{"$f":"2*$E27","v":2},2,2,2,2,2]
["Son Heung-min - Tottenham",null,null,23,{"$f":"0","v":0},null,null,null,null,null,null,null,null,null,null,{"$f":"2*$E28","v":0},null,{"$f":"2*$E28","v":0},null,{"$f":"2*$E28","v":0},null,null,null,null,null,{"$f":"2*$E28","v":0},null,null,null,null,null,null,{"$f":"2*$E28","v":0},null,{"$f":"2*$E28","v":0},null,{"$f":"2*$E28","v":0},null,null,null,null,null,null,null,{"$f":"2*$E28","v":0},null,null,null,null,null,{"$f":"2*$E28","v":0},{"$f":"2*$E28","v":0},null,{"$f":"2*$E28","v":0},null,{"$f":"2*$E28","v":0},{"$f":"2*$E28","v":0},{"$f":"2*$E28","v":0},null,null,null,{"$f":"2*$E28","v":0},{"$f":"2*$E28","v":0},null,null,null,null,{"$f":"2*$E28","v":0},null,{"$f":"2*$E28","v":0},{"$f":"2*$E28","v":0},{"$f":"2*$E28","v":0},null,null,null,{"$f":"2*$E28","v":0},null,null,null,null,{"$f":"2*$E28","v":0},{"$f":"2*$E28","v":0}]
["Wilfried Zaha - Crystal Palace",null,null,2,{"$f":"0+0","v":0},null,null,null,null,null,null,null,null,null,null,null,null,null,null,null,null,null,null,null,null,null,null,null,null,null,null,null,null,null,null,null,null,null,null,null,null,null,null,null,null,null,{"$f":"2*$E29","v":0},null,null,null,null,null,null,null,null,null,null,null,null,null,null,null,null,null,null,{"$f":"2*$E29","v":0}]
[]
["New Kids On The Block 102"]
["Darwin Nunez - Liverpool",null,null,{"$f":"COUNT(G32:GV32)","v":9},{"$f":"0+0","v":0},null,null,null,null,{"$f":"2*$E32","v":0},null,null,null,null,{"$f":"2*$E32","v":0},null,null,{"$f":"2*$E32","v":0},null,null,{"$f":"2*$E32","v":0},null,null,null,null,null,null,null,null,null,null,null,null,null,null,null,null,null,null,null,null,null,null,null,null,null,null,null,null,null,null,{"$f":"2*$E32","v":0},null,{"$f":"2*$E32","v":0},null,null,null,null,null,null,null,null,null,{"$f":"2*$E32","v":0},null,null,null,null,null,null,null,null,null,null,null,null,null,{"$f":"2*$E32","v":0},null,null,{"$f":"2*$E32","v":0}]
["Erling Haaland - Man City",null,null,{"$f":"COUNT(G33:GV33)","v":52},{"$f":"2+1","v":3},null,null,{"$f":"2*$E33","v":6},{"$f":"2*$E33","v":6},null,{"$f":"2*$E33","v":6},{"$f":"2*$E33","v":6},{"$f":"2*$E33","v":6},null,null,null,null,null,{"$f":"2*$E33","v":6},{"$f":"2*$E33","v":6},null,null,{"$f":"2*$E33","v":6},{"$f":"2*$E33","v":6},{"$f":"2*$E33","v":6},null,{"$f":"2*$E33","v":6},null,{"$f":"2*$E33","v":6},{"$f":"2*$E33","v":6},{"$f":"2*$E33","v":6},{"$f":"2*$E33","v":6},6,{"$f":"2*$E33","v":6},null,6,6,6,6,6,null,6,{"$f":"2*$E33","v":6},{"$f":"2*$E33","v":6},null,6,null,{"$f":"2*$E33","v":6},6,{"$f":"2*$E33","v":6},6,null,null,null,{"$f":"2*$E33","v":6},6,6,6,6,6,6,null,null,null,{"$f":"2*$E33","v":6},null,{"$f":"2*$E33","v":6},6,6,6,6,6,6,null,{"$f":"2*$E33","v":6},{"$f":"2*$E33","v":6},{"$f":"2*$E33","v":6},null,{"$f":"2*$E33","v":6},{"$f":"2*$E33","v":6},null,null,{"$f":"2*$E33","v":6},{"$f":"2*$E33","v":6}]
["Gabriel Jesus - Arsenal",null,null,{"$f":"COUNT(G34:GV34)","v":13},{"$f":"0+0","v":0},null,null,null,null,null,null,null,null,{"$f":"2*$E34","v":0},null,{"$f":"2*$E34","v":0},{"$f":"2*$E34","v":0},null,null,null,null,null,null,null,null,{"$f":"2*$E34","v":0},null,{"$f":"2*$E34","v":0},null,null,null,null,null,null,{"$f":"2*$E34","v":0},null,null,null,null,null,{"$f":"2*$E34","v":0},null,null,null,null,null,{"$f":"2*$E34","v":0},null,null,null,null,null,{"$f":"2*$E34","v":0},null,null,null,null,null,null,null,null,{"$f":"2*$E34","v":0},{"$f":"2*$E34","v":0},null,null,null,null,null,null,null,null,null,null,{"$f":"2*$E34","v":0},null,null,null,null,null,null,null,{"$f":"2*$E34","v":0}]
["Raheem Sterling - Chelsea",null,null,{"$f":"COUNT(G35:GV35)","v":3},{"$f":"0","v":0},null,null,null,null,null,null,null,null,null,null,null,null,null,null,null,null,{"$f":"2*$E35","v":0},null,null,null,null,null,null,null,null,null,null,null,null,null,null,null,null,null,null,null,null,null,null,{"$f":"2*$E35","v":0},null,null,null,null,null,null,null,null,null,null,null,null,null,null,null,null,null,null,null,null,{"$f":"2*$E35","v":0}]
[]
["Total Points - December",null,null,null,null,null,null,{"$f":"SUM(H$3:H36)","v":75},{"$f":"SUM(I$3:I36)","v":80},{"$f":"SUM(J$3:J36)","v":69},{"$f":"SUM(K$3:K36)","v":8},{"$f":"SUM(L$3:L36)","v":50},{"$f":"SUM(M$3:M36)","v":90},{"$f":"SUM(N$3:N36)","v":59},{"$f":"SUM(O$3:O36)","v":44},{"$f":"SUM(P$3:P36)","v":67},{"$f":"SUM(Q$3:Q36)","v":39},{"$f":"SUM(R$3:R36)","v":62},{"$f":"SUM(S$3:S36)","v":45},{"$f":"SUM(T$3:T36)","v":58},{"$f":"SUM(U$3:U36)","v":69},{"$f":"SUM(V$3:V36)","v":79},{"$f":"SUM(W$3:W36)","v":10},{"$f":"SUM(X$3:X36)","v":73},{"$f":"SUM(Y$3:Y36)","v":80},{"$f":"SUM(Z$3:Z36)","v":37},{"$f":"SUM(AA$3:AA36)","v":65},{"$f":"SUM(AB$3:AB36)","v":39},{"$f":"SUM(AC$3:AC36)","v":75},{"$f":"SUM(AD$3:AD36)","v":60},{"$f":"SUM(AE$3:AE36)","v":70},{"$f":"SUM(AF$3:AF36)","v":75},{"$f":"SUM(AG$3:AG36)","v":53},{"$f":"SUM(AH$3:AH36)","v":75},{"$f":"SUM(AI$3:AI36)","v":15},{"$f":"SUM(AJ$3:AJ36)","v":65},{"$f":"SUM(AK$3:AK36)","v":78},{"$f":"SUM(AL$3:AL36)","v":60},{"$f":"SUM(AM$3:AM36)","v":70},{"$f":"SUM(AN$3:AN36)","v":65},{"$f":"SUM(AO$3:AO36)","v":39},{"$f":"SUM(AP$3:AP36)","v":65},{"$f":"SUM(AQ$3:AQ36)","v":60},{"$f":"SUM(AR$3:AR36)","v":75},{"$f":"SUM(AS$3:AS36)","v":37},{"$f":"SUM(AT$3:AT36)","v":70},{"$f":"SUM(AU$3:AU36)","v":62},{"$f":"SUM(AV$3:AV36)","v":70},{"$f":"SUM(AW$3:AW36)","v":58},{"$f":"SUM(AX$3:AX36)","v":70},{"$f":"SUM(AY$3:AY36)","v":63},{"$f":"SUM(AZ$3:AZ36)","v":47},{"$f":"SUM(BA$3:BA36)","v":77},{"$f":"SUM(BB$3:BB36)","v":62},{"$f":"SUM(BC$3:BC36)","v":65},{"$f":"SUM(BD$3:BD36)","v":23},{"$f":"SUM(BE$3:BE36)","v":13},{"$f":"SUM(BF$3:BF36)","v":78},{"$f":"SUM(BG$3:BG36)","v":75},{"$f":"SUM(BH$3:BH36)","v":45},{"$f":"SUM(BI$3:BI36)","v":80},{"$f":"SUM(BJ$3:BJ36)","v":52},{"$f":"SUM(BK$3:BK36)","v":67},{"$f":"SUM(BL$3:BL36)","v":57},{"$f":"SUM(BM$3:BM36)","v":75},{"$f":"SUM(BN$3:BN36)","v":42},{"$f":"SUM(BO$3:BO36)","v":65},{"$f":"SUM(BP$3:BP36)","v":63},{"$f":"SUM(BQ$3:BQ36)","v":60},{"$f":"SUM(BR$3:BR36)","v":53},{"$f":"SUM(BS$3:BS36)","v":73},{"$f":"SUM(BT$3:BT36)","v":73},{"$f":"SUM(BU$3:BU36)","v":60},{"$f":"SUM(BV$3:BV36)","v":59},{"$f":"SUM(BW$3:BW36)","v":68},{"$f":"SUM(BX$3:BX36)","v":48},{"$f":"SUM(BY$3:BY36)","v":90},{"$f":"SUM(BZ$3:BZ36)","v":62},{"$f":"SUM(CA$3:CA36)","v":65},{"$f":"SUM(CB$3:CB36)","v":75},{"$f":"SUM(CC$3:CC36)","v":2},{"$f":"SUM(CD$3:CD36)","v":2},{"$f":"SUM(CE$3:CE36)","v":75},{"$f":"SUM(CF$3:CF36)","v":70}]

{"sheet":"January","index":6,"n_rows":53,"n_cols":84,"rows_kept":53,"cut":false,"hidden":false,"merged":[[1,1,1,4]]}
[null,null,null,null,null,null,null,"Aidan Scanlon","Aidan White","Anastas Popov","Andrew Keohan","Andy Dunne","Bobby Hynes","Brendan Maguire","Brian Haughton","Brian Mullen","Brian Prendergast","Caroline Carroll","Cathal Thornton","Chris Keohan","Christina Morgan","Ciara Walsh","Ciaran Healy","Ciaran O'Hart","Ciaran Rooney","Colm Cahill","Con McSweeney","Conor MacMahon","Craig Calvert","Darragh Kenny","Dave McGinley","David Cooney","David Lavelle","Dean Kelly","Derek McDonald","Dylan Delaney","Dylan O'Riordan","Eoghan Farrelly","Frank McSweeney","Gareth Pierpoint","Gary Donnelly","Gary Fitzpatrick","Gary McGurk","Gavin Morgan","Gerard McCluskey","Gerry Draper","Gerry Moore","Graham Pierpoint","Ian McSweeney","James Keville","Javier Suarez","Jenny Behan","Joe Behan","Joe Turner","John Brophy","John Hempenstall","John Massey","Johno Percy","Jonathan Fox","Joseph Kavanagh","Keith Ryan","Kieran Killeen","Liam Keohan","Lionel Knott","Micheal Joyce","Monica Collins","Niall Carroll","Niall Gregory","Paul Moore","Paul Prendergast","Phil Doyle","Philip Jordan","Richard Johnston","Robert Hynes","Roisin Joyce","Ronan Rafferty","Rory Ellard","Sarah Coward","Sean Cleary","Sean O'Mairtin","Shane Finnan","Shane Hempenstall","Simon Scanlon","Tommy Hamill"]
["Date","Teams",null,null,null,"Time"]
["2023-01-01","Spurs",0,2,"Aston Villa","14:00:00",null,0,0,0,"-",0,0,0,0,0,0,0,0,0,0,0,"-",0,0,0,0,0,0,0,0,0,0,0,0,0,0,0,0,0,0,0,0,0,"-",0,0,0,0,0,0,0,0,0,0,"-","-",0,0,0,0,0,0,0,0,0,0,0,0,0,0,0,0,0,0,0,0,5,0,0,"-","-",0,0]
["2023-01-01","Nottingham Forest",1,1,"Chelsea","16:30:00",null,0,0,0,"-",0,0,0,0,0,0,0,0,0,0,0,"-",0,0,0,0,0,0,0,0,0,0,0,0,0,0,0,0,0,0,10,0,0,"-",0,10,0,0,0,0,0,0,0,0,"-","-",0,0,0,0,0,0,0,0,0,0,0,0,0,0,0,0,10,0,10,0,0,0,0,"-","-",0,0]
["2023-01-02","Brentford",3,1,"Liverpool","17:30:00",null,0,0,0,"-",0,0,0,0,0,0,0,"-",0,0,5,"-",0,0,5,0,5,0,0,0,0,0,0,5,0,0,0,0,0,"-",0,0,0,"-",0,0,0,0,0,0,0,0,0,0,"-","-",0,0,0,0,0,0,0,0,0,0,0,0,0,0,0,0,0,0,0,0,0,0,0,"-","-",0,0]
["2023-01-03","Arsenal",0,0,"Newcastle","19:45:00",null,0,5,0,"-",5,0,0,0,0,0,0,"-",5,0,0,"-",0,0,0,0,0,0,5,0,5,5,0,0,5,0,5,5,0,"-",0,0,0,"-",0,0,5,0,5,0,0,0,5,0,"-","-",5,0,5,5,5,0,5,0,0,0,5,0,0,0,5,0,5,0,0,0,0,0,0,"-","-",5,0]
["2023-01-03","Everton",1,4,"Brighton","19:45:00",null,0,0,5,"-",0,0,0,0,0,0,0,"-",0,0,0,"-",0,5,0,0,0,0,5,0,0,5,0,0,5,5,0,0,0,"-",0,0,0,"-",5,0,5,0,5,0,5,0,0,0,"-","-",0,5,0,0,0,5,5,0,0,0,0,5,0,5,0,0,0,5,0,5,0,0,0,"-","-",0,0]
["2023-01-03","Leicester",0,1,"Fulham","19:45:00",null,0,0,0,"-",0,0,0,0,0,0,0,"-",0,5,0,"-",0,0,0,0,0,0,5,0,0,0,0,0,0,10,0,0,0,"-",0,0,0,"-",0,0,0,0,0,0,0,0,0,0,"-","-",0,0,0,5,0,0,0,0,0,0,0,0,0,0,0,0,0,0,0,0,0,0,0,"-","-",5,5]
["2023-01-03","Man Utd",3,0,"Bournemouth","20:00:00",null,10,5,10,"-",5,10,10,10,5,5,10,"-",10,5,5,"-",5,10,5,10,5,10,5,5,5,5,10,5,5,5,5,5,5,"-",10,5,5,"-",10,5,5,5,10,5,5,5,5,0,"-","-",10,5,10,5,5,10,5,5,5,10,5,10,5,10,10,0,5,5,10,5,5,5,5,"-","-",10,5]
["2023-01-04","Southampton",0,1,"Nottingham Forest","19:30:00",null,0,0,0,"-",0,0,0,0,5,0,5,"-",0,0,0,"-",0,0,0,0,0,0,0,0,0,0,0,0,5,0,0,0,0,"-",0,0,0,"-",5,0,0,0,0,0,0,0,0,0,"-","-",0,0,0,0,0,0,0,0,0,5,0,0,0,5,0,5,0,0,0,0,0,10,0,"-","-",0,0]
["2023-01-04","Leeds Utd",2,2,"West Ham","19:45:00",null,0,0,0,"-",0,0,0,0,10,0,0,"-",0,0,0,"-",5,5,0,0,0,0,0,5,0,0,0,10,0,5,0,10,5,"-",0,0,0,"-",0,0,5,0,5,0,0,0,5,0,"-","-",0,0,0,5,10,0,0,0,0,0,0,10,0,10,0,10,5,0,0,5,0,0,0,"-","-",0,0]
["2023-01-04","Aston Villa",1,1,"Wolves","20:00:00",null,0,0,0,"-",0,0,0,0,0,0,0,"-",0,0,0,"-",0,0,0,0,0,0,0,0,0,10,10,0,0,0,0,0,0,"-",0,0,0,"-",0,0,10,0,10,5,0,0,5,10,"-","-",0,0,0,0,5,0,0,0,0,0,10,10,0,0,0,5,0,0,0,10,0,0,5,"-","-",0,0]
["2023-01-04","Crystal Palace",0,4,"Spurs","20:00:00",null,0,0,5,"-",0,0,5,0,0,5,0,"-",5,0,5,"-",5,0,5,5,0,5,0,0,5,5,5,5,0,0,5,0,0,"-",0,5,0,"-",0,0,5,5,5,5,0,0,0,5,"-","-",5,5,5,0,5,0,0,0,0,0,5,5,0,0,5,5,0,0,0,5,5,5,0,"-","-",5,0]
["2023-01-05","Chelsea",0,1,"Man City","20:00:00",null,5,5,10,"-",0,5,0,5,5,5,5,"-",5,5,5,"-",0,5,0,5,0,5,5,5,0,5,5,0,5,5,5,0,5,"-",5,0,0,"-",10,0,5,5,5,0,0,5,0,5,"-","-",5,5,5,5,0,5,0,5,5,0,5,5,0,5,5,5,5,5,5,5,0,5,0,"-","-",5,0]
["2023-01-12","Fulham",null,null,"Chelsea","20:00:00"]
["2023-01-13","Aston Villa",null,null,"Leeds Utd","20:00:00"]
["2023-01-14","Man Utd",null,null,"Man City","12:30:00"]
["2023-01-14","Brighton",null,null,"Liverpool","15:00:00"]
["2023-01-14","Everton",null,null,"Southampton","15:00:00"]
["2023-01-14","Nottingham Forest",null,null,"Leicester","15:00:00"]
["2023-01-14","Wolves",null,null,"West Ham","15:00:00"]
["2023-01-14","Brentford",null,null,"Bournemouth","17:30:00"]
["2023-01-15","Chelsea",null,null,"Crystal Palace","14:00:00"]
["2023-01-15","Newcastle",null,null,"Fulham","14:00:00"]
["2023-01-15","Spurs",null,null,"Arsenal","16:30:00"]
["2023-01-19","Man City",null,null,"Spurs","20:00:00"]
["2023-01-21","Liverpool",null,null,"Chelsea","12:30:00"]
["2023-01-21","Bournemouth",null,null,"Nottingham Forest","15:00:00"]
["2023-01-21","Leicester",null,null,"Brighton","15:00:00"]
["2023-01-21","Southampton",null,null,"Aston Villa","15:00:00"]
["2023-01-21","West Ham",null,null,"Everton","15:00:00"]
["2023-01-21","Crystal Palace",null,null,"Newcastle","17:30:00"]
["2023-01-22","Leeds Utd",null,null,"Brentford","14:00:00"]
["2023-01-22","Man City",null,null,"Wolves","15:00:00"]
["2023-01-22","Arsenal",null,null,"Man Utd","15:00:00"]
["2023-01-23","Fulham",null,null,"Spurs","20:00:00"]
[]
["Golden Boots"]
["Bruno Fernandes - Man United",null,null,{"$f":"COUNT(G39:GV39)","v":3},{"$f":"0","v":0},null,null,null,null,null,null,null,null,null,null,null,null,null,null,null,null,null,null,{"$f":"2*$E39","v":0},null,null,null,null,null,null,null,null,null,null,{"$f":"2*$E39","v":0},null,null,null,null,null,null,null,null,null,null,null,null,null,{"$f":"2*$E39","v":0}]
["Diogo Jota - Liverpool",null,null,1,{"$f":"0","v":0},null,null,null,null,null,null,null,null,null,null,null,null,null,null,null,null,null,null,null,null,null,null,null,null,null,null,null,null,null,null,null,null,null,null,null,null,null,null,null,null,null,null,null,null,null,null,null,null,null,null,null,null,null,null,null,null,null,null,null,null,null,null,null,null,null,null,null,null,null,{"$f":"2*$E40","v":0}]
["Harry Kane - Tottenham",null,null,52,{"$f":"0+2","v":2},null,null,{"$f":"2*$E41","v":4},4,4,4,4,4,4,4,null,4,null,{"$f":"2*$E41","v":4},null,{"$f":"2*$E41","v":4},{"$f":"2*$E41","v":4},{"$f":"2*$E41","v":4},{"$f":"2*$E41","v":4},{"$f":"2*$E41","v":4},{"$f":"2*$E41","v":4},4,4,4,4,4,4,null,{"$f":"2*$E41","v":4},null,{"$f":"2*$E41","v":4},null,{"$f":"2*$E41","v":4},4,4,4,4,{"$f":"2*$E41","v":4},4,null,4,null,{"$f":"2*$E41","v":4},4,{"$f":"2*$E41","v":4},null,null,null,null,{"$f":"2*$E41","v":4},{"$f":"2*$E41","v":4},null,null,{"$f":"2*$E41","v":4},{"$f":"2*$E41","v":4},{"$f":"2*$E41","v":4},null,null,null,{"$f":"2*$E41","v":4},null,{"$f":"2*$E41","v":4},{"$f":"2*$E41","v":4},{"$f":"2*$E41","v":4},null,{"$f":"2*$E41","v":4},null,{"$f":"2*$E41","v":4},{"$f":"2*$E41","v":4},null,null,{"$f":"2*$E41","v":4},null,{"$f":"2*$E41","v":4},{"$f":"2*$E41","v":4},null,null,{"$f":"2*$E41","v":4},{"$f":"2*$E41","v":4}]
["Kevin de Bruyne - Man City",null,null,4,{"$f":"0","v":0},null,null,null,null,null,{"$f":"2*$E42","v":0},null,null,null,null,null,null,null,null,null,null,null,null,null,null,null,null,null,null,null,null,null,null,null,null,null,null,null,null,null,null,null,null,null,null,null,null,null,null,null,null,null,{"$f":"2*$E42","v":0},null,null,null,null,null,null,null,null,null,null,{"$f":"2*$E42","v":0},null,null,null,null,null,null,null,null,null,null,null,null,null,{"$f":"2*$E42","v":0}]
["Mohamed Salah - Liverpool",null,null,69,{"$f":"0","v":0},null,null,{"$f":"2*$E43","v":0},{"$f":"2*$E43","v":0},{"$f":"2*$E43","v":0},null,{"$f":"2*$E43","v":0},0,0,0,0,0,0,0,0,0,0,0,null,{"$f":"2*$E43","v":0},null,{"$f":"2*$E43","v":0},{"$f":"2*$E43","v":0},{"$f":"2*$E43","v":0},{"$f":"2*$E43","v":0},{"$f":"2*$E43","v":0},{"$f":"2*$E43","v":0},0,{"$f":"2*$E43","v":0},null,0,0,0,0,0,0,0,{"$f":"2*$E43","v":0},{"$f":"2*$E43","v":0},{"$f":"2*$E43","v":0},0,{"$f":"2*$E43","v":0},{"$f":"2*$E43","v":0},null,{"$f":"2*$E43","v":0},{"$f":"2*$E43","v":0},{"$f":"2*$E43","v":0},{"$f":"2*$E43","v":0},{"$f":"2*$E43","v":0},{"$f":"2*$E43","v":0},null,{"$f":"2*$E43","v":0},{"$f":"2*$E43","v":0},{"$f":"2*$E43","v":0},{"$f":"2*$E43","v":0},0,{"$f":"2*$E43","v":0},0,{"$f":"2*$E43","v":0},{"$f":"2*$E43","v":0},0,0,null,{"$f":"2*$E43","v":0},0,null,{"$f":"2*$E43","v":0},0,0,0,0,0,{"$f":"2*$E43","v":0},{"$f":"2*$E43","v":0},0,0,0,0,0]
["Son Heung-min - Tottenham",null,null,23,{"$f":"0+1","v":1},null,null,null,null,null,null,null,null,null,null,{"$f":"2*$E44","v":2},null,{"$f":"2*$E44","v":2},null,{"$f":"2*$E44","v":2},null,null,null,null,null,{"$f":"2*$E44","v":2},null,null,null,null,null,null,{"$f":"2*$E44","v":2},null,{"$f":"2*$E44","v":2},null,{"$f":"2*$E44","v":2},null,null,null,null,null,null,null,{"$f":"2*$E44","v":2},null,null,null,null,null,{"$f":"2*$E44","v":2},{"$f":"2*$E44","v":2},null,{"$f":"2*$E44","v":2},null,{"$f":"2*$E44","v":2},{"$f":"2*$E44","v":2},{"$f":"2*$E44","v":2},null,null,null,{"$f":"2*$E44","v":2},{"$f":"2*$E44","v":2},null,null,null,null,{"$f":"2*$E44","v":2},null,{"$f":"2*$E44","v":2},{"$f":"2*$E44","v":2},{"$f":"2*$E44","v":2},null,null,null,{"$f":"2*$E44","v":2},null,null,null,null,{"$f":"2*$E44","v":2},{"$f":"2*$E44","v":2}]
["Wilfried Zaha - Crystal Palace",null,null,2,{"$f":"0","v":0},null,null,null,null,null,null,null,null,null,null,null,null,null,null,null,null,null,null,null,null,null,null,null,null,null,null,null,null,null,null,null,null,null,null,null,null,null,null,null,null,null,{"$f":"2*$E45","v":0},null,null,null,null,null,null,null,null,null,null,null,null,null,null,null,null,null,null,{"$f":"2*$E45","v":0}]
[]
["New Kids On The Block 102"]
["Darwin Nunez - Liverpool",null,null,{"$f":"COUNT(G48:GV48)","v":9},{"$f":"0","v":0},null,null,null,null,{"$f":"2*$E48","v":0},null,null,null,null,{"$f":"2*$E48","v":0},null,null,{"$f":"2*$E48","v":0},null,null,{"$f":"2*$E48","v":0},null,null,null,null,null,null,null,null,null,null,null,null,null,null,null,null,null,null,null,null,null,null,null,null,null,null,null,null,null,null,{"$f":"2*$E48","v":0},null,{"$f":"2*$E48","v":0},null,null,null,null,null,null,null,null,null,{"$f":"2*$E48","v":0},null,null,null,null,null,null,null,null,null,null,null,null,null,{"$f":"2*$E48","v":0},null,null,{"$f":"2*$E48","v":0}]
["Erling Haaland - Man City",null,null,{"$f":"COUNT(G49:GV49)","v":52},{"$f":"0","v":0},null,null,{"$f":"2*$E49","v":0},{"$f":"2*$E49","v":0},null,{"$f":"2*$E49","v":0},{"$f":"2*$E49","v":0},{"$f":"2*$E49","v":0},null,null,null,null,null,{"$f":"2*$E49","v":0},{"$f":"2*$E49","v":0},null,null,{"$f":"2*$E49","v":0},{"$f":"2*$E49","v":0},{"$f":"2*$E49","v":0},null,{"$f":"2*$E49","v":0},null,{"$f":"2*$E49","v":0},{"$f":"2*$E49","v":0},{"$f":"2*$E49","v":0},{"$f":"2*$E49","v":0},0,{"$f":"2*$E49","v":0},null,0,0,0,0,0,null,0,{"$f":"2*$E49","v":0},{"$f":"2*$E49","v":0},null,0,null,{"$f":"2*$E49","v":0},0,{"$f":"2*$E49","v":0},0,null,null,null,{"$f":"2*$E49","v":0},0,0,0,0,0,0,null,null,null,{"$f":"2*$E49","v":0},null,{"$f":"2*$E49","v":0},0,0,0,0,0,0,null,{"$f":"2*$E49","v":0},{"$f":"2*$E49","v":0},{"$f":"2*$E49","v":0},null,{"$f":"2*$E49","v":0},{"$f":"2*$E49","v":0},null,null,{"$f":"2*$E49","v":0},{"$f":"2*$E49","v":0}]
["Gabriel Jesus - Arsenal",null,null,{"$f":"COUNT(G50:GV50)","v":13},{"$f":"0","v":0},null,null,null,null,null,null,null,null,{"$f":"2*$E50","v":0},null,{"$f":"2*$E50","v":0},{"$f":"2*$E50","v":0},null,null,null,null,null,null,null,null,{"$f":"2*$E50","v":0},null,{"$f":"2*$E50","v":0},null,null,null,null,null,null,{"$f":"2*$E50","v":0},null,null,null,null,null,{"$f":"2*$E50","v":0},null,null,null,null,null,{"$f":"2*$E50","v":0},null,null,null,null,null,{"$f":"2*$E50","v":0},null,null,null,null,null,null,null,null,{"$f":"2*$E50","v":0},{"$f":"2*$E50","v":0},null,null,null,null,null,null,null,null,null,null,{"$f":"2*$E50","v":0},null,null,null,null,null,null,null,{"$f":"2*$E50","v":0}]
["Raheem Sterling - Chelsea",null,null,{"$f":"COUNT(G51:GV51)","v":3},{"$f":"1+0","v":1},null,null,null,null,null,null,null,null,null,null,null,null,null,null,null,null,{"$f":"2*$E51","v":2},null,null,null,null,null,null,null,null,null,null,null,null,null,null,null,null,null,null,null,null,null,null,{"$f":"2*$E51","v":2},null,null,null,null,null,null,null,null,null,null,null,null,null,null,null,null,null,null,null,null,{"$f":"2*$E51","v":2}]
[]
["Total Points - January",null,null,null,null,null,null,{"$f":"SUM(H$3:H52)","v":19},{"$f":"SUM(I$3:I52)","v":19},{"$f":"SUM(J$3:J52)","v":34},{"$f":"SUM(K$3:K52)","v":4},{"$f":"SUM(L$3:L52)","v":14},{"$f":"SUM(M$3:M52)","v":19},{"$f":"SUM(N$3:N52)","v":19},{"$f":"SUM(O$3:O52)","v":19},{"$f":"SUM(P$3:P52)","v":27},{"$f":"SUM(Q$3:Q52)","v":19},{"$f":"SUM(R$3:R52)","v":22},{"$f":"SUM(S$3:S52)","v":4},{"$f":"SUM(T$3:T52)","v":27},{"$f":"SUM(U$3:U52)","v":19},{"$f":"SUM(V$3:V52)","v":26},{"$f":"SUM(W$3:W52)","v":4},{"$f":"SUM(X$3:X52)","v":19},{"$f":"SUM(Y$3:Y52)","v":29},{"$f":"SUM(Z$3:Z52)","v":21},{"$f":"SUM(AA$3:AA52)","v":24},{"$f":"SUM(AB$3:AB52)","v":14},{"$f":"SUM(AC$3:AC52)","v":24},{"$f":"SUM(AD$3:AD52)","v":29},{"$f":"SUM(AE$3:AE52)","v":19},{"$f":"SUM(AF$3:AF52)","v":19},{"$f":"SUM(AG$3:AG52)","v":37},{"$f":"SUM(AH$3:AH52)","v":34},{"$f":"SUM(AI$3:AI52)","v":27},{"$f":"SUM(AJ$3:AJ52)","v":29},{"$f":"SUM(AK$3:AK52)","v":32},{"$f":"SUM(AL$3:AL52)","v":24},{"$f":"SUM(AM$3:AM52)","v":24},{"$f":"SUM(AN$3:AN52)","v":19},{"$f":"SUM(AO$3:AO52)","v":4},{"$f":"SUM(AP$3:AP52)","v":29},{"$f":"SUM(AQ$3:AQ52)","v":14},{"$f":"SUM(AR$3:AR52)","v":9},{"$f":"SUM(AS$3:AS52)","v":4},{"$f":"SUM(AT$3:AT52)","v":34},{"$f":"SUM(AU$3:AU52)","v":15},{"$f":"SUM(AV$3:AV52)","v":44},{"$f":"SUM(AW$3:AW52)","v":19},{"$f":"SUM(AX$3:AX52)","v":49},{"$f":"SUM(AY$3:AY52)","v":17},{"$f":"SUM(AZ$3:AZ52)","v":12},{"$f":"SUM(BA$3:BA52)","v":10},{"$f":"SUM(BB$3:BB52)","v":22},{"$f":"SUM(BC$3:BC52)","v":24},{"$f":"SUM(BD$3:BD52)","v":6},{"$f":"SUM(BE$3:BE52)","v":2},{"$f":"SUM(BF$3:BF52)","v":27},{"$f":"SUM(BG$3:BG52)","v":24},{"$f":"SUM(BH$3:BH52)","v":29},{"$f":"SUM(BI$3:BI52)","v":29},{"$f":"SUM(BJ$3:BJ52)","v":32},{"$f":"SUM(BK$3:BK52)","v":22},{"$f":"SUM(BL$3:BL52)","v":15},{"$f":"SUM(BM$3:BM52)","v":14},{"$f":"SUM(BN$3:BN52)","v":12},{"$f":"SUM(BO$3:BO52)","v":19},{"$f":"SUM(BP$3:BP52)","v":36},{"$f":"SUM(BQ$3:BQ52)","v":49},{"$f":"SUM(BR$3:BR52)","v":7},{"$f":"SUM(BS$3:BS52)","v":41},{"$f":"SUM(BT$3:BT52)","v":27},{"$f":"SUM(BU$3:BU52)","v":34},{"$f":"SUM(BV$3:BV52)","v":34},{"$f":"SUM(BW$3:BW52)","v":15},{"$f":"SUM(BX$3:BX52)","v":27},{"$f":"SUM(BY$3:BY52)","v":39},{"$f":"SUM(BZ$3:BZ52)","v":15},{"$f":"SUM(CA$3:CA52)","v":29},{"$f":"SUM(CB$3:CB52)","v":14},{"$f":"SUM(CC$3:CC52)","v":2},{"$f":"SUM(CD$3:CD52)","v":2},{"$f":"SUM(CE$3:CE52)","v":34},{"$f":"SUM(CF$3:CF52)","v":14}]

{"sheet":"February","index":7,"n_rows":42,"n_cols":6,"rows_kept":42,"cut":false,"hidden":false,"merged":[[1,1,1,4]]}
[]
["Date","Teams",null,null,null,"Time"]
["2023-02-04","Aston Villa",null,null,"Leicester","15:00:00"]
["2023-02-04","Brentford",null,null,"Southampton","15:00:00"]
["2023-02-04","Brighton",null,null,"Bournemouth","15:00:00"]
["2023-02-04","Chelsea",null,null,"Fulham","15:00:00"]
["2023-02-04","Everton",null,null,"Arsenal","15:00:00"]
["2023-02-04","Man Utd",null,null,"Crystal Palace","15:00:00"]
["2023-02-04","Newcastle",null,null,"West Ham","15:00:00"]
["2023-02-04","Nottingham Forest",null,null,"Leeds Utd","15:00:00"]
["2023-02-04","Spurs",null,null,"Man City","15:00:00"]
["2023-02-04","Wolves",null,null,"Liverpool","15:00:00"]
["2023-02-11","Arsenal",null,null,"Brentford","15:00:00"]
["2023-02-11","Bournemouth",null,null,"Newcastle","15:00:00"]
["2023-02-11","Crystal Palace",null,null,"Brighton","15:00:00"]
["2023-02-11","Fulham",null,null,"Nottingham Forest","15:00:00"]
["2023-02-11","Leeds Utd",null,null,"Man Utd","15:00:00"]
["2023-02-11","Leicester",null,null,"Spurs","15:00:00"]
["2023-02-11","Liverpool",null,null,"Everton","15:00:00"]
["2023-02-11","Man City",null,null,"Aston Villa","15:00:00"]
["2023-02-11","Southampton",null,null,"Wolves","15:00:00"]
["2023-02-11","West Ham",null,null,"Chelsea","15:00:00"]
["2023-02-18","Aston Villa",null,null,"Arsenal","15:00:00"]
["2023-02-18","Brentford",null,null,"Crystal Palace","15:00:00"]
["2023-02-18","Brighton",null,null,"Fulham","15:00:00"]
["2023-02-18","Chelsea",null,null,"Southampton","15:00:00"]
["2023-02-18","Everton",null,null,"Leeds Utd","15:00:00"]
["2023-02-18","Man Utd",null,null,"Leicester","15:00:00"]
["2023-02-18","Newcastle",null,null,"Liverpool","15:00:00"]
["2023-02-18","Nottingham Forest",null,null,"Man City","15:00:00"]
["2023-02-18","Spurs",null,null,"West Ham","15:00:00"]
["2023-02-18","Wolves",null,null,"Bournemouth","15:00:00"]
["2023-02-25","Bournemouth",null,null,"Man City","15:00:00"]
["2023-02-25","Crystal Palace",null,null,"Liverpool","15:00:00"]
["2023-02-25","Everton",null,null,"Aston Villa","15:00:00"]
["2023-02-25","Fulham",null,null,"Wolves","15:00:00"]
["2023-02-25","Leeds Utd",null,null,"Southampton","15:00:00"]
["2023-02-25","Leicester",null,null,"Arsenal","15:00:00"]
["2023-02-25","Man Utd",null,null,"Brentford","15:00:00"]
["2023-02-25","Newcastle",null,null,"Brighton","15:00:00"]
["2023-02-25","Spurs",null,null,"Chelsea","15:00:00"]
["2023-02-25","West Ham",null,null,"Nottingham Forest","15:00:00"]

{"sheet":"March","index":8,"n_rows":32,"n_cols":6,"rows_kept":32,"cut":false,"hidden":false,"merged":[[1,1,1,4]]}
[]
["Date","Teams",null,null,null,"Time"]
["2023-03-04","Arsenal",null,null,"Bournemouth","15:00:00"]
["2023-03-04","Aston Villa",null,null,"Crystal Palace","15:00:00"]
["2023-03-04","Brentford",null,null,"Fulham","15:00:00"]
["2023-03-04","Brighton",null,null,"West Ham","15:00:00"]
["2023-03-04","Chelsea",null,null,"Leeds Utd","15:00:00"]
["2023-03-04","Liverpool",null,null,"Man Utd","15:00:00"]
["2023-03-04","Man City",null,null,"Newcastle","15:00:00"]
["2023-03-04","Nottingham Forest",null,null,"Everton","15:00:00"]
["2023-03-04","Southampton",null,null,"Leicester","15:00:00"]
["2023-03-04","Wolves",null,null,"Spurs","15:00:00"]
["2023-03-11","Bournemouth",null,null,"Liverpool","15:00:00"]
["2023-03-11","Crystal Palace",null,null,"Man City","15:00:00"]
["2023-03-11","Everton",null,null,"Brentford","15:00:00"]
["2023-03-11","Fulham",null,null,"Arsenal","15:00:00"]
["2023-03-11","Leeds Utd",null,null,"Brighton","15:00:00"]
["2023-03-11","Leicester",null,null,"Chelsea","15:00:00"]
["2023-03-11","Man Utd",null,null,"Southampton","15:00:00"]
["2023-03-11","Newcastle",null,null,"Wolves","15:00:00"]
["2023-03-11","Spurs",null,null,"Nottingham Forest","15:00:00"]
["2023-03-11","West Ham",null,null,"Aston Villa","15:00:00"]
["2023-03-18","Arsenal",null,null,"Crystal Palace","15:00:00"]
["2023-03-18","Aston Villa",null,null,"Bournemouth","15:00:00"]
["2023-03-18","Brentford",null,null,"Leicester","15:00:00"]
["2023-03-18","Brighton",null,null,"Man Utd","15:00:00"]
["2023-03-18","Chelsea",null,null,"Everton","15:00:00"]
["2023-03-18","Liverpool",null,null,"Fulham","15:00:00"]
["2023-03-18","Man City",null,null,"West Ham","15:00:00"]
["2023-03-18","Nottingham Forest",null,null,"Newcastle","15:00:00"]
["2023-03-18","Southampton",null,null,"Spurs","15:00:00"]
["2023-03-18","Wolves",null,null,"Leeds Utd","15:00:00"]

{"sheet":"April","index":9,"n_rows":62,"n_cols":6,"rows_kept":62,"cut":false,"hidden":false,"merged":[[1,1,1,4]]}
[]
["Date","Teams",null,null,null,"Time"]
["2023-04-01","Arsenal",null,null,"Leeds Utd","15:00:00"]
["2023-04-01","Bournemouth",null,null,"Fulham","15:00:00"]
["2023-04-01","Brighton",null,null,"Brentford","15:00:00"]
["2023-04-01","Chelsea",null,null,"Aston Villa","15:00:00"]
["2023-04-01","Crystal Palace",null,null,"Leicester","15:00:00"]
["2023-04-01","Everton",null,null,"Spurs","15:00:00"]
["2023-04-01","Man City",null,null,"Liverpool","15:00:00"]
["2023-04-01","Newcastle",null,null,"Man Utd","15:00:00"]
["2023-04-01","Nottingham Forest",null,null,"Wolves","15:00:00"]
["2023-04-01","West Ham",null,null,"Southampton","15:00:00"]
["2023-04-08","Aston Villa",null,null,"Nottingham Forest","15:00:00"]
["2023-04-08","Brentford",null,null,"Newcastle","15:00:00"]
["2023-04-08","Fulham",null,null,"West Ham","15:00:00"]
["2023-04-08","Leeds Utd",null,null,"Crystal Palace","15:00:00"]
["2023-04-08","Leicester",null,null,"Bournemouth","15:00:00"]
["2023-04-08","Liverpool",null,null,"Arsenal","15:00:00"]
["2023-04-08","Man Utd",null,null,"Everton","15:00:00"]
["2023-04-08","Southampton",null,null,"Man City","15:00:00"]
["2023-04-08","Spurs",null,null,"Brighton","15:00:00"]
["2023-04-08","Wolves",null,null,"Chelsea","15:00:00"]
["2023-04-15","Aston Villa",null,null,"Newcastle","15:00:00"]
["2023-04-15","Chelsea",null,null,"Brighton","15:00:00"]
["2023-04-15","Everton",null,null,"Fulham","15:00:00"]
["2023-04-15","Leeds Utd",null,null,"Liverpool","15:00:00"]
["2023-04-15","Man City",null,null,"Leicester","15:00:00"]
["2023-04-15","Nottingham Forest",null,null,"Man Utd","15:00:00"]
["2023-04-15","Southampton",null,null,"Crystal Palace","15:00:00"]
["2023-04-15","Spurs",null,null,"Bournemouth","15:00:00"]
["2023-04-15","West Ham",null,null,"Arsenal","15:00:00"]
["2023-04-15","Wolves",null,null,"Brentford","15:00:00"]
["2023-04-22","Arsenal",null,null,"Southampton","15:00:00"]
["2023-04-22","Bournemouth",null,null,"West Ham","15:00:00"]
["2023-04-22","Brentford",null,null,"Aston Villa","15:00:00"]
["2023-04-22","Brighton",null,null,"Man City","15:00:00"]
["2023-04-22","Crystal Palace",null,null,"Everton","15:00:00"]
["2023-04-22","Fulham",null,null,"Leeds Utd","15:00:00"]
["2023-04-22","Leicester",null,null,"Wolves","15:00:00"]
["2023-04-22","Liverpool",null,null,"Nottingham Forest","15:00:00"]
["2023-04-22","Man Utd",null,null,"Chelsea","15:00:00"]
["2023-04-22","Newcastle",null,null,"Spurs","15:00:00"]
["2023-04-25","Everton",null,null,"Newcastle","19:45:00"]
["2023-04-25","Leeds Utd",null,null,"Leicester","19:45:00"]
["2023-04-25","Nottingham Forest",null,null,"Brighton","19:45:00"]
["2023-04-25","Spurs",null,null,"Man Utd","19:45:00"]
["2023-04-25","West Ham",null,null,"Liverpool","19:45:00"]
["2023-04-25","Wolves",null,null,"Crystal Palace","19:45:00"]
["2023-04-25","Aston Villa",null,null,"Fulham","20:00:00"]
["2023-04-26","Chelsea",null,null,"Brentford","19:45:00"]
["2023-04-26","Southampton",null,null,"Bournemouth","19:45:00"]
["2023-04-26","Man City",null,null,"Arsenal","20:00:00"]
["2023-04-29","Arsenal",null,null,"Chelsea","15:00:00"]
["2023-04-29","Bournemouth",null,null,"Leeds Utd","15:00:00"]
["2023-04-29","Brentford",null,null,"Nottingham Forest","15:00:00"]
["2023-04-29","Brighton",null,null,"Wolves","15:00:00"]
["2023-04-29","Crystal Palace",null,null,"West Ham","15:00:00"]
["2023-04-29","Fulham",null,null,"Man City","15:00:00"]
["2023-04-29","Leicester",null,null,"Everton","15:00:00"]
["2023-04-29","Liverpool",null,null,"Spurs","15:00:00"]
["2023-04-29","Man Utd",null,null,"Aston Villa","15:00:00"]
["2023-04-29","Newcastle",null,null,"Southampton","15:00:00"]

{"sheet":"May","index":10,"n_rows":42,"n_cols":6,"rows_kept":42,"cut":false,"hidden":false,"merged":[[1,1,1,4]]}
[]
["Date","Teams",null,null,null,"Time"]
["2023-05-06","Bournemouth",null,null,"Chelsea","15:00:00"]
["2023-05-06","Brighton",null,null,"Everton","15:00:00"]
["2023-05-06","Fulham",null,null,"Leicester","15:00:00"]
["2023-05-06","Liverpool",null,null,"Brentford","15:00:00"]
["2023-05-06","Man City",null,null,"Leeds Utd","15:00:00"]
["2023-05-06","Newcastle",null,null,"Arsenal","15:00:00"]
["2023-05-06","Nottingham Forest",null,null,"Southampton","15:00:00"]
["2023-05-06","Spurs",null,null,"Crystal Palace","15:00:00"]
["2023-05-06","West Ham",null,null,"Man Utd","15:00:00"]
["2023-05-06","Wolves",null,null,"Aston Villa","15:00:00"]
["2023-05-13","Arsenal",null,null,"Brighton","15:00:00"]
["2023-05-13","Aston Villa",null,null,"Spurs","15:00:00"]
["2023-05-13","Brentford",null,null,"West Ham","15:00:00"]
["2023-05-13","Chelsea",null,null,"Nottingham Forest","15:00:00"]
["2023-05-13","Crystal Palace",null,null,"Bournemouth","15:00:00"]
["2023-05-13","Everton",null,null,"Man City","15:00:00"]
["2023-05-13","Leeds Utd",null,null,"Newcastle","15:00:00"]
["2023-05-13","Leicester",null,null,"Liverpool","15:00:00"]
["2023-05-13","Man Utd",null,null,"Wolves","15:00:00"]
["2023-05-13","Southampton",null,null,"Fulham","15:00:00"]
["2023-05-20","Bournemouth",null,null,"Man Utd","15:00:00"]
["2023-05-20","Brighton",null,null,"Southampton","15:00:00"]
["2023-05-20","Fulham",null,null,"Crystal Palace","15:00:00"]
["2023-05-20","Liverpool",null,null,"Aston Villa","15:00:00"]
["2023-05-20","Man City",null,null,"Chelsea","15:00:00"]
["2023-05-20","Newcastle",null,null,"Leicester","15:00:00"]
["2023-05-20","Nottingham Forest",null,null,"Arsenal","15:00:00"]
["2023-05-20","Spurs",null,null,"Brentford","15:00:00"]
["2023-05-20","West Ham",null,null,"Leeds Utd","15:00:00"]
["2023-05-20","Wolves",null,null,"Everton","15:00:00"]
["2023-05-28","Arsenal",null,null,"Wolves","16:00:00"]
["2023-05-28","Aston Villa",null,null,"Brighton","16:00:00"]
["2023-05-28","Brentford",null,null,"Man City","16:00:00"]
["2023-05-28","Chelsea",null,null,"Newcastle","16:00:00"]
["2023-05-28","Crystal Palace",null,null,"Nottingham Forest","16:00:00"]
["2023-05-28","Everton",null,null,"Bournemouth","16:00:00"]
["2023-05-28","Leeds Utd",null,null,"Spurs","16:00:00"]
["2023-05-28","Leicester",null,null,"West Ham","16:00:00"]
["2023-05-28","Man Utd",null,null,"Fulham","16:00:00"]
["2023-05-28","Southampton",null,null,"Liverpool","16:00:00"]

{"sheet":"Mini Leagues","index":11,"n_rows":47,"n_cols":11,"rows_kept":47,"cut":false,"hidden":false,"merged":[[41,6,41,10],[2,0,2,4],[2,6,2,10],[14,0,14,4],[17,6,17,10],[39,0,39,4]]}
[]
[]
["Prendergast Maguire Financial Services",null,null,null,null,null,"Alumni CIT"]
["No.","Act.","Name","Team","Pts",null,"No.","Act.","Name","Team","Pts"]
[1,{"$f":"SUMIF(Overall!$B$3:$B$79,C5,Overall!$A$3:$A$79)","v":7},"Sean Cleary","Sean's Superstars",{"$f":"VLOOKUP(C5,Overall!$B$3:$N$79,13,FALSE)","v":641},null,1,{"$f":"SUMIF(Overall!$B$3:$B$79,I5,Overall!$A$3:$A$79)","v":6},"Anastas Popov","Super Strong Saints",{"$f":"VLOOKUP(I5,Overall!$B$3:$N$79,13,FALSE)","v":644}]
[2,{"$f":"SUMIF(Overall!$B$3:$B$79,C6,Overall!$A$3:$A$79)","v":16},"Dylan Delaney","Only Kruls and Horses",{"$f":"VLOOKUP(C6,Overall!$B$3:$N$79,13,FALSE)","v":616},null,2,{"$f":"SUMIF(Overall!$B$3:$B$79,I6,Overall!$A$3:$A$79)","v":12},"Gerry Draper","Everton 10",{"$f":"VLOOKUP(I6,Overall!$B$3:$N$79,13,FALSE)","v":626}]
[3,{"$f":"SUMIF(Overall!$B$3:$B$79,C7,Overall!$A$3:$A$79)","v":22},"Simon Scanlon","Braygulls Utd Celtic",{"$f":"VLOOKUP(C7,Overall!$B$3:$N$79,13,FALSE)","v":601},null,3,{"$f":"SUMIF(Overall!$B$3:$B$79,I7,Overall!$A$3:$A$79)","v":28},"Gavin Morgan","Seventeenth Season Syndrome",{"$f":"VLOOKUP(I7,Overall!$B$3:$N$79,13,FALSE)","v":586}]
[4,{"$f":"SUMIF(Overall!$B$3:$B$79,C8,Overall!$A$3:$A$79)","v":46},"Brendan Maguire","Cantthinkofone",{"$f":"VLOOKUP(C8,Overall!$B$3:$N$79,13,FALSE)","v":544},null,4,{"$f":"SUMIF(Overall!$B$3:$B$79,I8,Overall!$A$3:$A$79)","v":31},"Con McSweeney","Coola_Boolas",{"$f":"VLOOKUP(I8,Overall!$B$3:$N$79,13,FALSE)","v":576}]
[5,{"$f":"SUMIF(Overall!$B$3:$B$79,C9,Overall!$A$3:$A$79)","v":58},"Paul Prendergast","The Untouchables",{"$f":"VLOOKUP(C9,Overall!$B$3:$N$79,13,FALSE)","v":524},null,5,{"$f":"SUMIF(Overall!$B$3:$B$79,I9,Overall!$A$3:$A$79)","v":34},"Brian Prendergast","Up The Arsenal",{"$f":"VLOOKUP(I9,Overall!$B$3:$N$79,13,FALSE)","v":574}]
[6,{"$f":"SUMIF(Overall!$B$3:$B$79,C10,Overall!$A$3:$A$79)","v":61},"Ciara Walsh","Kirvin Kicks",{"$f":"VLOOKUP(C10,Overall!$B$3:$N$79,13,FALSE)","v":512},null,6,{"$f":"SUMIF(Overall!$B$3:$B$79,I10,Overall!$A$3:$A$79)","v":36},"Aidan White","The Ings vs Watkins Conundrum",{"$f":"VLOOKUP(I10,Overall!$B$3:$N$79,13,FALSE)","v":571}]
[null,null,null,null,null,null,7,{"$f":"SUMIF(Overall!$B$3:$B$79,I11,Overall!$A$3:$A$79)","v":45},"Joe Turner","What Would Jan Molby Do?",{"$f":"VLOOKUP(I11,Overall!$B$3:$N$79,13,FALSE)","v":547}]
[null,null,null,null,null,null,8,{"$f":"SUMIF(Overall!$B$3:$B$79,I12,Overall!$A$3:$A$79)","v":62},"John Hempenstall","Real SoSo Bad",{"$f":"VLOOKUP(I12,Overall!$B$3:$N$79,13,FALSE)","v":505}]
[null,null,null,null,null,null,9,{"$f":"SUMIF(Overall!$B$3:$B$79,I13,Overall!$A$3:$A$79)","v":65},"Christina Morgan","Mwahahahaha",{"$f":"VLOOKUP(I13,Overall!$B$3:$N$79,13,FALSE)","v":494}]
[]
["Mo Salah's Lonely Hearts Club Band"]
["No.","Act.","Name","Team","Pts"]
[1,{"$f":"SUMIF(Overall!$B$3:$B$79,C17,Overall!$A$3:$A$79)","v":8},"Gary McGurk","Darwin Innit!",{"$f":"VLOOKUP(C17,Overall!$B$3:$N$79,13,FALSE)","v":636}]
[2,{"$f":"SUMIF(Overall!$B$3:$B$79,C18,Overall!$A$3:$A$79)","v":9},"Jonathan Fox","For Fox Sake, Not Again",{"$f":"VLOOKUP(C18,Overall!$B$3:$N$79,13,FALSE)","v":636},null,"Wicklow / Wexford All Stars"]
[3,{"$f":"SUMIF(Overall!$B$3:$B$79,C19,Overall!$A$3:$A$79)","v":18},"Paul Moore","TAA - The Scouser In Our Team",{"$f":"VLOOKUP(C19,Overall!$B$3:$N$79,13,FALSE)","v":606},null,"No.","Act.","Name","Team","Pts"]
[4,{"$f":"SUMIF(Overall!$B$3:$B$79,C20,Overall!$A$3:$A$79)","v":19},"Frank McSweeney","Pool Abu",{"$f":"VLOOKUP(C20,Overall!$B$3:$N$79,13,FALSE)","v":601},null,1,{"$f":"SUMIF(Overall!$B$3:$B$79,I20,Overall!$A$3:$A$79)","v":2},"Rory Ellard","Ipspich",{"$f":"VLOOKUP(I20,Overall!$B$3:$N$79,13,FALSE)","v":676}]
[5,{"$f":"SUMIF(Overall!$B$3:$B$79,C21,Overall!$A$3:$A$79)","v":20},"Gareth Pierpoint","Allison Wonderland",{"$f":"VLOOKUP(C21,Overall!$B$3:$N$79,13,FALSE)","v":601},null,2,{"$f":"SUMIF(Overall!$B$3:$B$79,I21,Overall!$A$3:$A$79)","v":13},"Keith Ryan","Ain't No Mountain High Enough",{"$f":"VLOOKUP(I21,Overall!$B$3:$N$79,13,FALSE)","v":626}]
[6,{"$f":"SUMIF(Overall!$B$3:$B$79,C22,Overall!$A$3:$A$79)","v":24},"Bobby Hynes","Dancing In The Dark",{"$f":"VLOOKUP(C22,Overall!$B$3:$N$79,13,FALSE)","v":596},null,3,{"$f":"SUMIF(Overall!$B$3:$B$79,I22,Overall!$A$3:$A$79)","v":21},"John Brophy","Carrig ABU",{"$f":"VLOOKUP(I22,Overall!$B$3:$N$79,13,FALSE)","v":601}]
[7,{"$f":"SUMIF(Overall!$B$3:$B$79,C23,Overall!$A$3:$A$79)","v":33},"Joseph Kavanagh","Cherry Orchard Thieves",{"$f":"VLOOKUP(C23,Overall!$B$3:$N$79,13,FALSE)","v":576},null,4,{"$f":"SUMIF(Overall!$B$3:$B$79,I23,Overall!$A$3:$A$79)","v":22},"Simon Scanlon","Braygulls Utd Celtic",{"$f":"VLOOKUP(I23,Overall!$B$3:$N$79,13,FALSE)","v":601}]
[8,{"$f":"SUMIF(Overall!$B$3:$B$79,C24,Overall!$A$3:$A$79)","v":41},"Richard Johnston","If All U Have Is A Hammer Then Everything Is….",{"$f":"VLOOKUP(C24,Overall!$B$3:$N$79,13,FALSE)","v":561},null,5,{"$f":"SUMIF(Overall!$B$3:$B$79,I24,Overall!$A$3:$A$79)","v":24},"Bobby Hynes","Dancing In The Dark",{"$f":"VLOOKUP(I24,Overall!$B$3:$N$79,13,FALSE)","v":596}]
[9,{"$f":"SUMIF(Overall!$B$3:$B$79,C25,Overall!$A$3:$A$79)","v":44},"Caroline Carroll","Carrie's Crusaders",{"$f":"VLOOKUP(C25,Overall!$B$3:$N$79,13,FALSE)","v":547},null,6,{"$f":"SUMIF(Overall!$B$3:$B$79,I25,Overall!$A$3:$A$79)","v":25},"Ciaran O'Hart","Riverchapel Plate",{"$f":"VLOOKUP(I25,Overall!$B$3:$N$79,13,FALSE)","v":591}]
[10,{"$f":"SUMIF(Overall!$B$3:$B$79,C26,Overall!$A$3:$A$79)","v":45},"Joe Turner","What Would Jan Molby Do?",{"$f":"VLOOKUP(C26,Overall!$B$3:$N$79,13,FALSE)","v":547},null,7,{"$f":"SUMIF(Overall!$B$3:$B$79,I26,Overall!$A$3:$A$79)","v":36},"Aidan White","The Ings vs Watkins Conundrum",{"$f":"VLOOKUP(I26,Overall!$B$3:$N$79,13,FALSE)","v":571}]
[11,{"$f":"SUMIF(Overall!$B$3:$B$79,C27,Overall!$A$3:$A$79)","v":48},"Niall Carroll","Rubber's Magic Bus",{"$f":"VLOOKUP(C27,Overall!$B$3:$N$79,13,FALSE)","v":541},null,8,{"$f":"SUMIF(Overall!$B$3:$B$79,I27,Overall!$A$3:$A$79)","v":41},"Richard Johnston","If All U Have Is A Hammer Then Everything Is….",{"$f":"VLOOKUP(I27,Overall!$B$3:$N$79,13,FALSE)","v":561}]
[12,{"$f":"SUMIF(Overall!$B$3:$B$79,C28,Overall!$A$3:$A$79)","v":49},"Brian Haughton","Jurgen's Mighty Reds",{"$f":"VLOOKUP(C28,Overall!$B$3:$N$79,13,FALSE)","v":539},null,9,{"$f":"SUMIF(Overall!$B$3:$B$79,I28,Overall!$A$3:$A$79)","v":44},"Caroline Carroll","Carrie's Crusaders",{"$f":"VLOOKUP(I28,Overall!$B$3:$N$79,13,FALSE)","v":547}]
[13,{"$f":"SUMIF(Overall!$B$3:$B$79,C29,Overall!$A$3:$A$79)","v":51},"Johno Percy","Mo Money Mo Salah",{"$f":"VLOOKUP(C29,Overall!$B$3:$N$79,13,FALSE)","v":534},null,10,{"$f":"SUMIF(Overall!$B$3:$B$79,I29,Overall!$A$3:$A$79)","v":45},"Joe Turner","What Would Jan Molby Do?",{"$f":"VLOOKUP(I29,Overall!$B$3:$N$79,13,FALSE)","v":547}]
[14,{"$f":"SUMIF(Overall!$B$3:$B$79,C30,Overall!$A$3:$A$79)","v":53},"Andy Dunne","Steve McMahon's Tackle",{"$f":"VLOOKUP(C30,Overall!$B$3:$N$79,13,FALSE)","v":531},null,11,{"$f":"SUMIF(Overall!$B$3:$B$79,I30,Overall!$A$3:$A$79)","v":48},"Niall Carroll","Rubber's Magic Bus",{"$f":"VLOOKUP(I30,Overall!$B$3:$N$79,13,FALSE)","v":541}]
[15,{"$f":"SUMIF(Overall!$B$3:$B$79,C31,Overall!$A$3:$A$79)","v":58},"Paul Prendergast","The Untouchables",{"$f":"VLOOKUP(C31,Overall!$B$3:$N$79,13,FALSE)","v":524},null,12,{"$f":"SUMIF(Overall!$B$3:$B$79,I31,Overall!$A$3:$A$79)","v":49},"Brian Haughton","Jurgen's Mighty Reds",{"$f":"VLOOKUP(I31,Overall!$B$3:$N$79,13,FALSE)","v":539}]
[16,{"$f":"SUMIF(Overall!$B$3:$B$79,C32,Overall!$A$3:$A$79)","v":66},"Gary Donnelly","GarWin Nunez",{"$f":"VLOOKUP(C32,Overall!$B$3:$N$79,13,FALSE)","v":494},null,13,{"$f":"SUMIF(Overall!$B$3:$B$79,I32,Overall!$A$3:$A$79)","v":52},"Brian Mullen","Boris Cuts His Hair With A Knife And Fork",{"$f":"VLOOKUP(I32,Overall!$B$3:$N$79,13,FALSE)","v":532}]
[17,{"$f":"SUMIF(Overall!$B$3:$B$79,C33,Overall!$A$3:$A$79)","v":67},"Lionel Knott","The Best Redabbey Reds",{"$f":"VLOOKUP(C33,Overall!$B$3:$N$79,13,FALSE)","v":485},null,14,{"$f":"SUMIF(Overall!$B$3:$B$79,I33,Overall!$A$3:$A$79)","v":53},"Andy Dunne","Steve McMahon's Tackle",{"$f":"VLOOKUP(I33,Overall!$B$3:$N$79,13,FALSE)","v":531}]
[18,{"$f":"SUMIF(Overall!$B$3:$B$79,C34,Overall!$A$3:$A$79)","v":70},"Javier Suarez","Cafu Con Leche",{"$f":"VLOOKUP(C34,Overall!$B$3:$N$79,13,FALSE)","v":454},null,15,{"$f":"SUMIF(Overall!$B$3:$B$79,I34,Overall!$A$3:$A$79)","v":54},"Niall Gregory","Yid Army",{"$f":"VLOOKUP(I34,Overall!$B$3:$N$79,13,FALSE)","v":530}]
[19,{"$f":"SUMIF(Overall!$B$3:$B$79,C35,Overall!$A$3:$A$79)","v":73},"Shane Hempenstall","Ham Salah",{"$f":"VLOOKUP(C35,Overall!$B$3:$N$79,13,FALSE)","v":417},null,16,{"$f":"SUMIF(Overall!$B$3:$B$79,I35,Overall!$A$3:$A$79)","v":58},"Paul Prendergast","The Untouchables",{"$f":"VLOOKUP(I35,Overall!$B$3:$N$79,13,FALSE)","v":524}]
[null,null,null,null,null,null,17,{"$f":"SUMIF(Overall!$B$3:$B$79,I36,Overall!$A$3:$A$79)","v":62},"John Hempenstall","Real SoSo Bad",{"$f":"VLOOKUP(I36,Overall!$B$3:$N$79,13,FALSE)","v":505}]
[null,null,null,null,null,null,18,{"$f":"SUMIF(Overall!$B$3:$B$79,I37,Overall!$A$3:$A$79)","v":73},"Shane Hempenstall","Ham Salah",{"$f":"VLOOKUP(I37,Overall!$B$3:$N$79,13,FALSE)","v":417}]
[]
[]
["The Behan Counters"]
["No.","Act.","Name","Team","Pts"]
[1,{"$f":"SUMIF(Overall!$B$3:$B$79,C42,Overall!$A$3:$A$79)","v":15},"Dave McGinley","Clucko > Seanie O'Shea",{"$f":"VLOOKUP(C42,Overall!$B$3:$N$79,13,FALSE)","v":616},null,"The Draper / Farrelly Whiskey Faceoff"]
[2,{"$f":"SUMIF(Overall!$B$3:$B$79,C43,Overall!$A$3:$A$79)","v":27},"Roisin Joyce","WAW",{"$f":"VLOOKUP(C43,Overall!$B$3:$N$79,13,FALSE)","v":591},null,"No.","Act.","Name","Team","Pts"]
[3,{"$f":"SUMIF(Overall!$B$3:$B$79,C44,Overall!$A$3:$A$79)","v":42},"Joe Behan","In It To Win It I Wish",{"$f":"VLOOKUP(C44,Overall!$B$3:$N$79,13,FALSE)","v":560},null,1,{"$f":"SUMIF(Overall!$B$3:$B$79,I44,Overall!$A$3:$A$79)","v":12},"Gerry Draper","Everton 10",{"$f":"VLOOKUP(I44,Overall!$B$3:$N$79,13,FALSE)","v":626}]
[4,{"$f":"SUMIF(Overall!$B$3:$B$79,C45,Overall!$A$3:$A$79)","v":43},"Micheal Joyce","Marsching On",{"$f":"VLOOKUP(C45,Overall!$B$3:$N$79,13,FALSE)","v":551},null,2,{"$f":"SUMIF(Overall!$B$3:$B$79,I45,Overall!$A$3:$A$79)","v":47},"Eoghan Farrelly","Definitely Last Chance Saloon!",{"$f":"VLOOKUP(I45,Overall!$B$3:$N$79,13,FALSE)","v":541}]
[5,{"$f":"SUMIF(Overall!$B$3:$B$79,C46,Overall!$A$3:$A$79)","v":59},"Jenny Behan","Offside Again",{"$f":"VLOOKUP(C46,Overall!$B$3:$N$79,13,FALSE)","v":517}]
[6,{"$f":"SUMIF(Overall!$B$3:$B$79,C47,Overall!$A$3:$A$79)","v":70},"Javier Suarez","Cafu Con Leche",{"$f":"VLOOKUP(C47,Overall!$B$3:$N$79,13,FALSE)","v":454}]

{"sheet":"Jokers","index":12,"n_rows":80,"n_cols":35,"rows_kept":80,"cut":false,"hidden":false,"merged":[]}
["No.","Player","Team Name","Joker",1,2,3,4,5,6,7,8,9,10,11,12,13,14,15,16,17,18,19,20,21,22,23,24,25,26,27,28,29,30,"Total"]
[1,"Aidan Scanlon","St Pats",null,null,null,null,null,null,null,null,null,null,null,null,null,null,null,null,null,null,null,null,null,null,null,null,null,null,null,null,null,null,null,{"$f":"COUNTIF(E2:AH2,\"a\")","v":0}]
[2,"Aidan White","The Ings vs Watkins Conundrum","1-0","a","a",null,null,null,null,null,null,null,null,null,null,null,null,null,null,null,null,null,null,null,null,null,null,null,null,null,null,null,null,2]
[3,"Anastas Popov","Super Strong Saints","1-0","a","a","a","a","a","a","a","a","a",null,null,null,null,null,null,null,null,null,null,null,null,null,null,null,null,null,null,null,null,null,9]
[4,"Andrew Keohan","Allstar Assholes","3-1","a","a","a","a","a","a","a","a","a","a","a","a","a","a","a","a","a","a","a","a","a","a","a","a","a","a","a","a","a","a",30]
[5,"Andy Dunne","Steve McMahon's Tackle","2-0","a","a","a","a","a","a","a","a","a","a","a","a",null,null,null,null,null,null,null,null,null,null,null,null,null,null,null,null,null,null,12]
[6,"Bobby Hynes","Dancing In The Dark","2-1","a","a","a",null,null,null,null,null,null,null,null,null,null,null,null,null,null,null,null,null,null,null,null,null,null,null,null,null,null,null,3]
[7,"Brendan Maguire","Cantthinkofone","2-0","a",null,null,null,null,null,null,null,null,null,null,null,null,null,null,null,null,null,null,null,null,null,null,null,null,null,null,null,null,null,1]
[8,"Brian Haughton","Jurgen's Mighty Reds","1-1","a","a","a","a","a","a","a","a",null,null,null,null,null,null,null,null,null,null,null,null,null,null,null,null,null,null,null,null,null,null,8]
[9,"Brian Mullen","Boris Cuts His Hair With A Knife And Fork","2-1","a","a","a","a","a","a","a","a","a","a","a",null,null,null,null,null,null,null,null,null,null,null,null,null,null,null,null,null,null,null,11]
[10,"Brian Prendergast","Up The Arsenal","2-1","a","a","a","a","a","a","a","a","a","a","a","a","a","a","a","a","a","a","a","a","a","a","a","a","a","a","a","a",null,null,28]
[11,"Caroline Carroll","Carrie's Crusaders",null,null,null,null,null,null,null,null,null,null,null,null,null,null,null,null,null,null,null,null,null,null,null,null,null,null,null,null,null,null,null,0]
[12,"Cathal Thornton","Game of Stones","2-1","a","a","a","a","a","a","a","a","a","a","a","a","a","a","a","a","a","a","a","a","a","a","a","a","a","a","a","a","a","a",30]
[13,"Chris Keohan","Chicken Tikka Mo Salah","2-1","a","a",null,null,null,null,null,null,null,null,null,null,null,null,null,null,null,null,null,null,null,null,null,null,null,null,null,null,null,null,2]
[14,"Christina Morgan","Mwahahahaha","1-0","a","a",null,null,null,null,null,null,null,null,null,null,null,null,null,null,null,null,null,null,null,null,null,null,null,null,null,null,null,null,{"$f":"COUNTIF(E15:AH15,\"a\")","v":2}]
[15,"Ciara Walsh","Kirvin Kicks","1-0","a","a","a","a","a","a","a","a","a","a","a","a","a",null,null,null,null,null,null,null,null,null,null,null,null,null,null,null,null,null,{"$f":"COUNTIF(E16:AH16,\"a\")","v":13}]
[16,"Ciaran Healy","I Forgot Again This Week","1-0","a","a","a","a","a","a","a","a","a","a","a","a","a","a","a","a","a","a","a","a","a","a","a","a","a","a","a","a","a","a",30]
[17,"Ciaran O'Hart","Riverchapel Plate",null,null,null,null,null,null,null,null,null,null,null,null,null,null,null,null,null,null,null,null,null,null,null,null,null,null,null,null,null,null,null,0]
[18,"Ciaran Rooney","1014",null,null,null,null,null,null,null,null,null,null,null,null,null,null,null,null,null,null,null,null,null,null,null,null,null,null,null,null,null,null,null,0]
[19,"Colm Cahill","COYS FC","2-1","a","a","a","a","a","a","a","a","a","a","a","a","a","a",null,null,null,null,null,null,null,null,null,null,null,null,null,null,null,null,14]
[20,"Con McSweeney","Coola_Boolas","1-0","a",null,null,null,null,null,null,null,null,null,null,null,null,null,null,null,null,null,null,null,null,null,null,null,null,null,null,null,null,null,1]
[21,"Conor MacMahon","Fu@#ing Cowboys Ted","2-1","a","a","a","a","a","a","a","a","a","a","a","a","a","a","a","a","a","a","a","a","a","a","a","a","a","a","a","a","a","a",30]
[22,"Craig Calvert","Ten Fags Army",null,null,null,null,null,null,null,null,null,null,null,null,null,null,null,null,null,null,null,null,null,null,null,null,null,null,null,null,null,null,null,0]
[23,"Darragh Kenny","Fox Hunters","2-1","a","a",null,null,null,null,null,null,null,null,null,null,null,null,null,null,null,null,null,null,null,null,null,null,null,null,null,null,null,null,2]
[24,"Dave McGinley","Clucko > Seanie O'Shea","2-1","a","a","a","a","a",null,null,null,null,null,null,null,null,null,null,null,null,null,null,null,null,null,null,null,null,null,null,null,null,null,5]
[25,"David Cooney","Tuchel Says It's Chilly","2-1","a",null,null,null,null,null,null,null,null,null,null,null,null,null,null,null,null,null,null,null,null,null,null,null,null,null,null,null,null,null,1]
[26,"David Lavelle","Black & Amber","1-0","a","a","a","a","a","a","a","a","a","a","a","a","a","a","a","a","a","a","a","a",null,null,null,null,null,null,null,null,null,null,20]
[27,"Dean Kelly","Drean Team",null,null,null,null,null,null,null,null,null,null,null,null,null,null,null,null,null,null,null,null,null,null,null,null,null,null,null,null,null,null,null,0]
[28,"Derek McDonald","Closet Scouser","2-1","a","a","a","a","a","a","a","a","a","a","a","a","a","a","a","a","a","a","a","a","a","a","a","a","a","a","a","a","a","a",30]
[29,"Dylan Delaney","Only Kruls and Horses",null,null,null,null,null,null,null,null,null,null,null,null,null,null,null,null,null,null,null,null,null,null,null,null,null,null,null,null,null,null,null,0]
[30,"Dylan O'Riordan","Yurty Ahearn's Golden Spoon","2-1","a","a","a",null,null,null,null,null,null,null,null,null,null,null,null,null,null,null,null,null,null,null,null,null,null,null,null,null,null,null,3]
[31,"Eoghan Farrelly","Definitely Last Chance Saloon!","1-1","a","a","a","a","a","a","a","a",null,null,null,null,null,null,null,null,null,null,null,null,null,null,null,null,null,null,null,null,null,null,8]
[32,"Frank McSweeney","Pool Abu","1-0","a","a","a","a","a","a","a","a","a","a","a","a","a",null,null,null,null,null,null,null,null,null,null,null,null,null,null,null,null,null,13]
[33,"Gareth Pierpoint","Allison Wonderland",null,null,null,null,null,null,null,null,null,null,null,null,null,null,null,null,null,null,null,null,null,null,null,null,null,null,null,null,null,null,null,0]
[34,"Gary Donnelly","GarWin Nunez","2-1","a","a","a","a","a","a","a","a","a","a","a","a","a","a","a","a","a","a","a","a","a","a","a","a","a","a","a","a","a","a",30]
[35,"Gary Fitzpatrick","Werner's Originals","2-0","a","a","a",null,null,null,null,null,null,null,null,null,null,null,null,null,null,null,null,null,null,null,null,null,null,null,null,null,null,null,3]
[36,"Gary McGurk","Darwin Innit!","1-0","a","a",null,null,null,null,null,null,null,null,null,null,null,null,null,null,null,null,null,null,null,null,null,null,null,null,null,null,null,null,2]
[37,"Gavin Goodwin","Gorey United FC",null,null,null,null,null,null,null,null,null,null,null,null,null,null,null,null,null,null,null,null,null,null,null,null,null,null,null,null,null,null,null,0]
[38,"Gavin Morgan","Seventeenth Season Syndrome",null,null,null,null,null,null,null,null,null,null,null,null,null,null,null,null,null,null,null,null,null,null,null,null,null,null,null,null,null,null,null,0]
[39,"Gerry Draper","Everton 10",null,null,null,null,null,null,null,null,null,null,null,null,null,null,null,null,null,null,null,null,null,null,null,null,null,null,null,null,null,null,null,0]
[40,"Gerry Moore","A Hat Trick of Gabriels","2-1","a","a","a",null,null,null,null,null,null,null,null,null,null,null,null,null,null,null,null,null,null,null,null,null,null,null,null,null,null,null,3]
[41,"Graham Pierpoint","Klopp's Kops",null,null,null,null,null,null,null,null,null,null,null,null,null,null,null,null,null,null,null,null,null,null,null,null,null,null,null,null,null,null,null,0]
[42,"Ian McSweeney","The Dread Pirate Roberts","1-0","a","a","a","a","a","a","a","a","a","a",null,null,null,null,null,null,null,null,null,null,null,null,null,null,null,null,null,null,null,null,10]
[43,"James Keville","Doesn't Mata","1-0","a",null,null,null,null,null,null,null,null,null,null,null,null,null,null,null,null,null,null,null,null,null,null,null,null,null,null,null,null,null,1]
[44,"Javier Suarez","Cafu Con Leche","1-0","a","a","a","a","a","a","a","a","a","a","a","a","a","a","a","a","a","a","a","a","a","a","a","a","a","a","a","a","a","a",30]
[45,"Jenny Behan","Offside Again","2-1","a","a","a","a","a","a","a","a","a","a","a","a","a","a","a","a","a","a","a","a","a","a","a","a","a","a","a","a","a","a",30]
[46,"Joe Behan","In It To Win It I Wish",null,null,null,null,null,null,null,null,null,null,null,null,null,null,null,null,null,null,null,null,null,null,null,null,null,null,null,null,null,null,null,0]
[47,"Joe Turner","What Would Jan Molby Do?",null,null,null,null,null,null,null,null,null,null,null,null,null,null,null,null,null,null,null,null,null,null,null,null,null,null,null,null,null,null,null,0]
[48,"John Brophy","Carrig ABU",null,null,null,null,null,null,null,null,null,null,null,null,null,null,null,null,null,null,null,null,null,null,null,null,null,null,null,null,null,null,null,0]
[49,"John Hempenstall","Real SoSo Bad","2-1","a","a","a","a","a","a","a","a","a","a","a","a","a","a","a","a","a","a","a","a","a","a","a","a","a","a","a","a","a","a",30]
[50,"John Massey","Geezers On Tour","0-0","a","a","a","a","a","a","a","a","a","a","a","a","a","a","a","a","a","a","a","a","a","a","a","a","a","a","a","a","a","a",30]
[51,"Johno Percy","Mo Money Mo Salah",null,null,null,null,null,null,null,null,null,null,null,null,null,null,null,null,null,null,null,null,null,null,null,null,null,null,null,null,null,null,null,0]
[52,"Jonathan Fox","For Fox Sake, Not Again",null,null,null,null,null,null,null,null,null,null,null,null,null,null,null,null,null,null,null,null,null,null,null,null,null,null,null,null,null,null,null,0]
[53,"Joseph Kavanagh","Cherry Orchard Thieves",null,null,null,null,null,null,null,null,null,null,null,null,null,null,null,null,null,null,null,null,null,null,null,null,null,null,null,null,null,null,null,0]
[54,"Keith Ryan","Ain't No Mountain High Enough",null,null,null,null,null,null,null,null,null,null,null,null,null,null,null,null,null,null,null,null,null,null,null,null,null,null,null,null,null,null,null,0]
[55,"Kieran Killeen","Wanderers","1-0","a","a","a","a","a","a","a","a","a","a","a","a","a","a","a","a","a","a","a","a","a","a","a","a","a","a","a","a","a","a",30]
[56,"Liam Keohan","Artekkers",null,null,null,null,null,null,null,null,null,null,null,null,null,null,null,null,null,null,null,null,null,null,null,null,null,null,null,null,null,null,null,0]
[57,"Lionel Knott","The Best Redabbey Reds","2-1","a","a","a","a","a","a","a","a","a","a","a","a","a","a",null,null,null,null,null,null,null,null,null,null,null,null,null,null,null,null,14]
[58,"Micheal Joyce","Marsching On","1-1","a","a",null,null,null,null,null,null,null,null,null,null,null,null,null,null,null,null,null,null,null,null,null,null,null,null,null,null,null,null,2]
[59,"Monica Collins","Monica's Legs Eleven","2-1","a","a","a","a","a","a","a","a","a","a","a","a",null,null,null,null,null,null,null,null,null,null,null,null,null,null,null,null,null,null,12]
[60,"Niall Carroll","Rubber's Magic Bus",null,null,null,null,null,null,null,null,null,null,null,null,null,null,null,null,null,null,null,null,null,null,null,null,null,null,null,null,null,null,null,0]
[61,"Niall Gregory","Yid Army",null,null,null,null,null,null,null,null,null,null,null,null,null,null,null,null,null,null,null,null,null,null,null,null,null,null,null,null,null,null,null,0]
[62,"Paul Moore","TAA - The Scouser In Our Team","1-0","a",null,null,null,null,null,null,null,null,null,null,null,null,null,null,null,null,null,null,null,null,null,null,null,null,null,null,null,null,null,1]
[63,"Paul Prendergast","The Untouchables","2-0","a",null,null,null,null,null,null,null,null,null,null,null,null,null,null,null,null,null,null,null,null,null,null,null,null,null,null,null,null,null,1]
[64,"Phil Doyle","FC Muertos Errantes",null,null,null,null,null,null,null,null,null,null,null,null,null,null,null,null,null,null,null,null,null,null,null,null,null,null,null,null,null,null,null,0]
[65,"Philip Jordan","Frankie's Army",null,null,null,null,null,null,null,null,null,null,null,null,null,null,null,null,null,null,null,null,null,null,null,null,null,null,null,null,null,null,null,0]
[66,"Ralph Goodwin","Hunt Down The Foxes",null,null,null,null,null,null,null,null,null,null,null,null,null,null,null,null,null,null,null,null,null,null,null,null,null,null,null,null,null,null,null,0]
[67,"Richard Johnston","If All U Have Is A Hammer Then Everything Is….","1-0","a","a","a","a","a","a","a","a","a","a","a",null,null,null,null,null,null,null,null,null,null,null,null,null,null,null,null,null,null,null,11]
[68,"Robert Hynes","Georgia Best",null,null,null,null,null,null,null,null,null,null,null,null,null,null,null,null,null,null,null,null,null,null,null,null,null,null,null,null,null,null,null,0]
[69,"Roisin Joyce","WAW","1-1","a","a",null,null,null,null,null,null,null,null,null,null,null,null,null,null,null,null,null,null,null,null,null,null,null,null,null,null,null,null,2]
[70,"Ronan Rafferty","Ragballrovers",null,null,null,null,null,null,null,null,null,null,null,null,null,null,null,null,null,null,null,null,null,null,null,null,null,null,null,null,null,null,null,0]
[71,"Rory Ellard","Ipspich",null,null,null,null,null,null,null,null,null,null,null,null,null,null,null,null,null,null,null,null,null,null,null,null,null,null,null,null,null,null,null,0]
[72,"Sarah Coward","Nancy's Army","2-0","a","a","a","a","a","a","a","a","a","a","a","a","a","a","a",null,null,null,null,null,null,null,null,null,null,null,null,null,null,null,15]
[73,"Sean Cleary","Sean's Superstars","3-1","a",null,null,null,null,null,null,null,null,null,null,null,null,null,null,null,null,null,null,null,null,null,null,null,null,null,null,null,null,null,1]
[74,"Sean O'Mairtin","Creweless","2-1","a","a",null,null,null,null,null,null,null,null,null,null,null,null,null,null,null,null,null,null,null,null,null,null,null,null,null,null,null,null,2]
[75,"Shane Finnan","Interlocking Spurs","2-1","a","a","a","a","a","a","a","a","a","a","a","a","a","a","a","a","a","a","a","a","a","a","a","a","a","a","a","a","a","a",30]
[76,"Shane Hempenstall","Ham Salah","2-0","a","a","a","a","a","a","a","a","a","a","a","a","a","a","a","a","a","a","a","a","a","a","a","a","a","a","a","a","a","a",30]
[77,"Simon Scanlon","Braygulls Utd Celtic","2-1","a","a","a","a","a","a","a","a","a","a","a","a","a","a","a","a","a","a","a","a",null,null,null,null,null,null,null,null,null,null,20]
[78,"Tommy Hamill","Omeath All-Stars","2-1","a","a","a","a","a",null,null,null,null,null,null,null,null,null,null,null,null,null,null,null,null,null,null,null,null,null,null,null,null,null,5]
[79,"Gerard McCluskey","Breffni_Blues","2-1","a","a","a","a","a","a","a","a","a","a","a","a","a","a","a","a","a","a","a","a","a","a","a","a","a","a","a","a","a","a",30]